BEGIN:VCALENDAR
VERSION:2.0
PRODID:-//Help Me Grow North Texas - ECPv6.15.20//NONSGML v1.0//EN
CALSCALE:GREGORIAN
METHOD:PUBLISH
X-WR-CALNAME:Help Me Grow North Texas
X-ORIGINAL-URL:https://helpmegrownorthtexas.org
X-WR-CALDESC:Events for Help Me Grow North Texas
REFRESH-INTERVAL;VALUE=DURATION:PT1H
X-Robots-Tag:noindex
X-PUBLISHED-TTL:PT1H
BEGIN:VTIMEZONE
TZID:America/Chicago
BEGIN:DAYLIGHT
TZOFFSETFROM:-0600
TZOFFSETTO:-0500
TZNAME:CDT
DTSTART:20240310T080000
END:DAYLIGHT
BEGIN:STANDARD
TZOFFSETFROM:-0500
TZOFFSETTO:-0600
TZNAME:CST
DTSTART:20241103T070000
END:STANDARD
BEGIN:DAYLIGHT
TZOFFSETFROM:-0600
TZOFFSETTO:-0500
TZNAME:CDT
DTSTART:20250309T080000
END:DAYLIGHT
BEGIN:STANDARD
TZOFFSETFROM:-0500
TZOFFSETTO:-0600
TZNAME:CST
DTSTART:20251102T070000
END:STANDARD
BEGIN:DAYLIGHT
TZOFFSETFROM:-0600
TZOFFSETTO:-0500
TZNAME:CDT
DTSTART:20260308T080000
END:DAYLIGHT
BEGIN:STANDARD
TZOFFSETFROM:-0500
TZOFFSETTO:-0600
TZNAME:CST
DTSTART:20261101T070000
END:STANDARD
END:VTIMEZONE
BEGIN:VEVENT
DTSTART;TZID=America/Chicago:20250425T110000
DTEND;TZID=America/Chicago:20250425T120000
DTSTAMP:20260420T021754
CREATED:20250415T221229Z
LAST-MODIFIED:20250415T221229Z
UID:107435-1745578800-1745582400@helpmegrownorthtexas.org
SUMMARY:Face To Face: Sensory Group- Decatur
DESCRIPTION:Come and play with us!
URL:https://helpmegrownorthtexas.org/event/face-to-face-sensory-group-decatur-5/
LOCATION:Decatur Independent School District Administration\, 307 South Cates Street\, Decatur\, TX\, 76234\, United States
ATTACH;FMTTYPE=image/jpeg:https://helpmegrownorthtexas.org/wp-content/uploads/2025/04/acc5bdce860c89902206c916560cb88e.jpg
END:VEVENT
BEGIN:VEVENT
DTSTART;TZID=America/Chicago:20250428T140000
DTEND;TZID=America/Chicago:20250428T150000
DTSTAMP:20260420T021754
CREATED:20250307T233100Z
LAST-MODIFIED:20250307T233100Z
UID:107243-1745848800-1745852400@helpmegrownorthtexas.org
SUMMARY:Open Play
DESCRIPTION:A group for all kids to come enjoy playing games\, puzzles\, and crafts. Every Monday and Thursday afternoon.
URL:https://helpmegrownorthtexas.org/event/open-play-15/
LOCATION:314 E 5th Terrace\, 314 East 5th Terrace\, Springtown\, TX\, 76082\, United States
ATTACH;FMTTYPE=image/jpeg:https://helpmegrownorthtexas.org/wp-content/uploads/2025/03/846f782cb516379e1936fe50a4b442f2.jpg
END:VEVENT
BEGIN:VEVENT
DTSTART;TZID=America/Chicago:20250428T180000
DTEND;TZID=America/Chicago:20250428T190000
DTSTAMP:20260420T021754
CREATED:20250310T215739Z
LAST-MODIFIED:20250325T180616Z
UID:107350-1745863200-1745866800@helpmegrownorthtexas.org
SUMMARY:Virtual Nurturing Families - Arlington CCA
DESCRIPTION:Join Us!  ¡Únete a nosotros!
URL:https://helpmegrownorthtexas.org/event/virtual-nurturing-families-arlington-cca-3/
LOCATION:TX
ATTACH;FMTTYPE=image/jpeg:https://helpmegrownorthtexas.org/wp-content/uploads/2025/03/a6cd37796a8dda6193b53d0baa9c3a3b.jpg
END:VEVENT
BEGIN:VEVENT
DTSTART;TZID=America/Chicago:20250429T090000
DTEND;TZID=America/Chicago:20250429T100000
DTSTAMP:20260420T021754
CREATED:20250307T233142Z
LAST-MODIFIED:20250307T233142Z
UID:107269-1745917200-1745920800@helpmegrownorthtexas.org
SUMMARY:Follow Me Gym
DESCRIPTION:Caregivers interact while helping their infants/toddlers as they are moving up\, over\, through\, and under.
URL:https://helpmegrownorthtexas.org/event/follow-me-gym-15/
LOCATION:314 E 5th Terrace\, 314 East 5th Terrace\, Springtown\, TX\, 76082\, United States
ATTACH;FMTTYPE=image/jpeg:https://helpmegrownorthtexas.org/wp-content/uploads/2025/03/a696443b5baf1339b21d67185ded9b00.jpg
END:VEVENT
BEGIN:VEVENT
DTSTART;TZID=America/Chicago:20250429T093000
DTEND;TZID=America/Chicago:20250429T103000
DTSTAMP:20260420T021754
CREATED:20250307T233654Z
LAST-MODIFIED:20250307T233654Z
UID:107315-1745919000-1745922600@helpmegrownorthtexas.org
SUMMARY:Face to Face Music and Motion- Serve Lewisville
DESCRIPTION:Come Join us!
URL:https://helpmegrownorthtexas.org/event/face-to-face-music-and-motion-serve-lewisville-13/
LOCATION:Serve Lewisville\, 1001 Edmonds Lane\, Lewisville\, TX\, 75067\, United States
ATTACH;FMTTYPE=image/jpeg:https://helpmegrownorthtexas.org/wp-content/uploads/2025/03/1b8bfc4865a9c53b1ba0a67a463e7798.jpg
END:VEVENT
BEGIN:VEVENT
DTSTART;TZID=America/Chicago:20250429T100000
DTEND;TZID=America/Chicago:20250429T110000
DTSTAMP:20260420T021754
CREATED:20250307T233227Z
LAST-MODIFIED:20250307T233227Z
UID:107284-1745920800-1745924400@helpmegrownorthtexas.org
SUMMARY:Face to Face Kindermusik Level 2 (18 – 36 months) Springtown
DESCRIPTION:Free Kindermusik Group Levels 2
URL:https://helpmegrownorthtexas.org/event/face-to-face-kindermusik-level-2-18-36-months-springtown-8/
LOCATION:314 E 5th Terrace\, 314 East 5th Terrace\, Springtown\, TX\, 76082\, United States
ATTACH;FMTTYPE=image/jpeg:https://helpmegrownorthtexas.org/wp-content/uploads/2025/03/f82e7489b213410b8129c889f49e952d.jpg
END:VEVENT
BEGIN:VEVENT
DTSTART;TZID=America/Chicago:20250429T110000
DTEND;TZID=America/Chicago:20250429T120000
DTSTAMP:20260420T021754
CREATED:20250307T233735Z
LAST-MODIFIED:20250307T233735Z
UID:107323-1745924400-1745928000@helpmegrownorthtexas.org
SUMMARY:Face to Face Little Sprouts Gardening Group- Serve Lewisville
DESCRIPTION:Come and play with us!
URL:https://helpmegrownorthtexas.org/event/face-to-face-little-sprouts-gardening-group-serve-lewisville-4/
LOCATION:Serve Lewisville\, 1001 Edmonds Lane\, Lewisville\, TX\, 75067\, United States
ATTACH;FMTTYPE=image/jpeg:https://helpmegrownorthtexas.org/wp-content/uploads/2025/03/adf8bca61ef2439109b01688507fc603.jpg
END:VEVENT
BEGIN:VEVENT
DTSTART;TZID=America/Chicago:20250429T140000
DTEND;TZID=America/Chicago:20250429T150000
DTSTAMP:20260420T021754
CREATED:20250325T180045Z
LAST-MODIFIED:20250325T180045Z
UID:107398-1745935200-1745938800@helpmegrownorthtexas.org
SUMMARY:Face to Face Healthy Eating and Reading Group - Fort Worth
DESCRIPTION:Come and play with us!
URL:https://helpmegrownorthtexas.org/event/face-to-face-healthy-eating-and-reading-group-fort-worth-9/
LOCATION:3136 W 4th St\, 3136 West 4th Street\, Fort Worth\, TX\, 76107\, United States
ATTACH;FMTTYPE=image/jpeg:https://helpmegrownorthtexas.org/wp-content/uploads/2025/03/e53d7cebfe2beaba67e8ed134b549bbf.jpg
END:VEVENT
BEGIN:VEVENT
DTSTART;TZID=America/Chicago:20250430T100000
DTEND;TZID=America/Chicago:20250430T110000
DTSTAMP:20260420T021754
CREATED:20250307T233302Z
LAST-MODIFIED:20250307T233302Z
UID:107294-1746007200-1746010800@helpmegrownorthtexas.org
SUMMARY:Face to Face Kindermusik Level 3 (2 – 5 year old) Springtown
DESCRIPTION:Free Kindermusik Group Levels 3
URL:https://helpmegrownorthtexas.org/event/face-to-face-kindermusik-level-3-2-5-year-old-springtown-8/
LOCATION:Cornerstone Community Church\, 2233 East Highway 199\, Springtown\, TX\, 76082\, United States
ATTACH;FMTTYPE=image/jpeg:https://helpmegrownorthtexas.org/wp-content/uploads/2025/03/9c326ae17d7633ffd72469baf0ae265f.jpg
END:VEVENT
BEGIN:VEVENT
DTSTART;TZID=America/Chicago:20250430T153000
DTEND;TZID=America/Chicago:20250430T163000
DTSTAMP:20260420T021754
CREATED:20250312T145256Z
LAST-MODIFIED:20250312T145256Z
UID:107364-1746027000-1746030600@helpmegrownorthtexas.org
SUMMARY:Music and Motion Springtown
DESCRIPTION:Come join us!
URL:https://helpmegrownorthtexas.org/event/music-and-motion-springtown-8/
LOCATION:314 E 5th Terrace\, 314 East 5th Terrace\, Springtown\, TX\, 76082\, United States
ATTACH;FMTTYPE=image/jpeg:https://helpmegrownorthtexas.org/wp-content/uploads/2025/03/58640a5bdba2680a5b44e3f7854cc82c.jpg
END:VEVENT
BEGIN:VEVENT
DTSTART;TZID=America/Chicago:20250501T100000
DTEND;TZID=America/Chicago:20250501T110000
DTSTAMP:20260420T021754
CREATED:20250310T215502Z
LAST-MODIFIED:20250310T215502Z
UID:107344-1746093600-1746097200@helpmegrownorthtexas.org
SUMMARY:Little Sprouts Gardening
DESCRIPTION:Explore our garden as we plant\, grow\, and learn about growing your own garden at home.
URL:https://helpmegrownorthtexas.org/event/little-sprouts-gardening-8/
LOCATION:Family Resource Center / Help Me Grow NT\, 314 East 5th Terrace\, Springtown\, TX\, 76082\, United States
ATTACH;FMTTYPE=image/jpeg:https://helpmegrownorthtexas.org/wp-content/uploads/2025/03/52714affc963c90efb581651dfaf51b6.jpg
END:VEVENT
BEGIN:VEVENT
DTSTART;TZID=America/Chicago:20250501T140000
DTEND;TZID=America/Chicago:20250501T150000
DTSTAMP:20260420T021754
CREATED:20250307T233100Z
LAST-MODIFIED:20250307T233100Z
UID:107244-1746108000-1746111600@helpmegrownorthtexas.org
SUMMARY:Open Play
DESCRIPTION:A group for all kids to come enjoy playing games\, puzzles\, and crafts. Every Monday and Thursday afternoon.
URL:https://helpmegrownorthtexas.org/event/open-play-16/
LOCATION:314 E 5th Terrace\, 314 East 5th Terrace\, Springtown\, TX\, 76082\, United States
ATTACH;FMTTYPE=image/jpeg:https://helpmegrownorthtexas.org/wp-content/uploads/2025/03/846f782cb516379e1936fe50a4b442f2.jpg
END:VEVENT
BEGIN:VEVENT
DTSTART;TZID=America/Chicago:20250501T173000
DTEND;TZID=America/Chicago:20250501T190000
DTSTAMP:20260420T021754
CREATED:20250415T221300Z
LAST-MODIFIED:20250415T221300Z
UID:107441-1746120600-1746126000@helpmegrownorthtexas.org
SUMMARY:Face to Face #WoWTalk Cafe- Arlington
DESCRIPTION:Come join us!!
URL:https://helpmegrownorthtexas.org/event/face-to-face-wowtalk-cafe-arlington-7/
LOCATION:401 W Sanford St suite 1500\, 401 West Sanford Street\, #suite 1500\, Arlington\, TX\, 76011\, United States
ATTACH;FMTTYPE=image/jpeg:https://helpmegrownorthtexas.org/wp-content/uploads/2025/04/272a438c297eee3518d6ae811160e7cd.jpg
END:VEVENT
BEGIN:VEVENT
DTSTART;TZID=America/Chicago:20250501T173000
DTEND;TZID=America/Chicago:20250501T190000
DTSTAMP:20260420T021754
CREATED:20250415T221329Z
LAST-MODIFIED:20250415T221329Z
UID:107444-1746120600-1746126000@helpmegrownorthtexas.org
SUMMARY:Face to Face Parent Cafe- Arlington
DESCRIPTION:Come and join us!
URL:https://helpmegrownorthtexas.org/event/face-to-face-parent-cafe-arlington-10/
LOCATION:401 W Sanford St suite 1500\, 401 West Sanford Street\, #suite 1500\, Arlington\, TX\, 76011\, United States
ATTACH;FMTTYPE=image/jpeg:https://helpmegrownorthtexas.org/wp-content/uploads/2025/04/ab0e6cb16e572ec05da6ef1391c826c2.jpg
END:VEVENT
BEGIN:VEVENT
DTSTART;TZID=America/Chicago:20250502T090000
DTEND;TZID=America/Chicago:20250502T100000
DTSTAMP:20260420T021754
CREATED:20250307T233142Z
LAST-MODIFIED:20250307T233142Z
UID:107270-1746176400-1746180000@helpmegrownorthtexas.org
SUMMARY:Follow Me Gym
DESCRIPTION:Caregivers interact while helping their infants/toddlers as they are moving up\, over\, through\, and under.
URL:https://helpmegrownorthtexas.org/event/follow-me-gym-16/
LOCATION:314 E 5th Terrace\, 314 East 5th Terrace\, Springtown\, TX\, 76082\, United States
ATTACH;FMTTYPE=image/jpeg:https://helpmegrownorthtexas.org/wp-content/uploads/2025/03/a696443b5baf1339b21d67185ded9b00.jpg
END:VEVENT
BEGIN:VEVENT
DTSTART;TZID=America/Chicago:20250502T093000
DTEND;TZID=America/Chicago:20250502T103000
DTSTAMP:20260420T021754
CREATED:20250415T221153Z
LAST-MODIFIED:20250415T221153Z
UID:107431-1746178200-1746181800@helpmegrownorthtexas.org
SUMMARY:Face to Face: Healthy Eating Healthy Reading Group- Decatur
DESCRIPTION:Come and play with us!
URL:https://helpmegrownorthtexas.org/event/face-to-face-healthy-eating-healthy-reading-group-decatur-2/
LOCATION:Decatur Independent School District Administration\, 307 South Cates Street\, Decatur\, TX\, 76234\, United States
ATTACH;FMTTYPE=image/jpeg:https://helpmegrownorthtexas.org/wp-content/uploads/2025/04/33bca118819710181a7cdbad550168cf.jpg
END:VEVENT
BEGIN:VEVENT
DTSTART;TZID=America/Chicago:20250502T110000
DTEND;TZID=America/Chicago:20250502T120000
DTSTAMP:20260420T021754
CREATED:20250415T221231Z
LAST-MODIFIED:20250415T221231Z
UID:107437-1746183600-1746187200@helpmegrownorthtexas.org
SUMMARY:Face To Face: Sensory Group- Decatur
DESCRIPTION:Come and play with us!
URL:https://helpmegrownorthtexas.org/event/face-to-face-sensory-group-decatur-6/
LOCATION:Decatur Independent School District Administration\, 307 South Cates Street\, Decatur\, TX\, 76234\, United States
ATTACH;FMTTYPE=image/jpeg:https://helpmegrownorthtexas.org/wp-content/uploads/2025/04/acc5bdce860c89902206c916560cb88e.jpg
END:VEVENT
BEGIN:VEVENT
DTSTART;TZID=America/Chicago:20250505T140000
DTEND;TZID=America/Chicago:20250505T150000
DTSTAMP:20260420T021754
CREATED:20250307T233100Z
LAST-MODIFIED:20250307T233100Z
UID:107245-1746453600-1746457200@helpmegrownorthtexas.org
SUMMARY:Open Play
DESCRIPTION:A group for all kids to come enjoy playing games\, puzzles\, and crafts. Every Monday and Thursday afternoon.
URL:https://helpmegrownorthtexas.org/event/open-play-17/
LOCATION:314 E 5th Terrace\, 314 East 5th Terrace\, Springtown\, TX\, 76082\, United States
ATTACH;FMTTYPE=image/jpeg:https://helpmegrownorthtexas.org/wp-content/uploads/2025/03/846f782cb516379e1936fe50a4b442f2.jpg
END:VEVENT
BEGIN:VEVENT
DTSTART;TZID=America/Chicago:20250505T180000
DTEND;TZID=America/Chicago:20250505T190000
DTSTAMP:20260420T021754
CREATED:20250505T221330Z
LAST-MODIFIED:20250505T221330Z
UID:107485-1746468000-1746471600@helpmegrownorthtexas.org
SUMMARY:Virtual Nurturing Families - Arlington CCA
DESCRIPTION:Join Us!  ¡Únete a nosotros!
URL:https://helpmegrownorthtexas.org/event/virtual-nurturing-families-arlington-cca-4/
LOCATION:TX
ATTACH;FMTTYPE=image/jpeg:https://helpmegrownorthtexas.org/wp-content/uploads/2025/03/a6cd37796a8dda6193b53d0baa9c3a3b.jpg
END:VEVENT
BEGIN:VEVENT
DTSTART;TZID=America/Chicago:20250506T090000
DTEND;TZID=America/Chicago:20250506T100000
DTSTAMP:20260420T021754
CREATED:20250307T233142Z
LAST-MODIFIED:20250505T221031Z
UID:107271-1746522000-1746525600@helpmegrownorthtexas.org
SUMMARY:Follow Me Gym
DESCRIPTION:Caregivers interact while helping their infants/toddlers as they are moving up\, over\, through\, and under.
URL:https://helpmegrownorthtexas.org/event/follow-me-gym-17/
LOCATION:314 E 5th Terrace\, 314 East 5th Terrace\, Springtown\, TX\, 76082\, United States
ATTACH;FMTTYPE=image/jpeg:https://helpmegrownorthtexas.org/wp-content/uploads/2025/03/a696443b5baf1339b21d67185ded9b00.jpg
END:VEVENT
BEGIN:VEVENT
DTSTART;TZID=America/Chicago:20250506T093000
DTEND;TZID=America/Chicago:20250506T103000
DTSTAMP:20260420T021754
CREATED:20250307T233654Z
LAST-MODIFIED:20250307T233654Z
UID:107316-1746523800-1746527400@helpmegrownorthtexas.org
SUMMARY:Face to Face Music and Motion- Serve Lewisville
DESCRIPTION:Come Join us!
URL:https://helpmegrownorthtexas.org/event/face-to-face-music-and-motion-serve-lewisville-14/
LOCATION:Serve Lewisville\, 1001 Edmonds Lane\, Lewisville\, TX\, 75067\, United States
ATTACH;FMTTYPE=image/jpeg:https://helpmegrownorthtexas.org/wp-content/uploads/2025/03/1b8bfc4865a9c53b1ba0a67a463e7798.jpg
END:VEVENT
BEGIN:VEVENT
DTSTART;TZID=America/Chicago:20250506T110000
DTEND;TZID=America/Chicago:20250506T120000
DTSTAMP:20260420T021754
CREATED:20250307T233735Z
LAST-MODIFIED:20250307T233735Z
UID:107324-1746529200-1746532800@helpmegrownorthtexas.org
SUMMARY:Face to Face Little Sprouts Gardening Group- Serve Lewisville
DESCRIPTION:Come and play with us!
URL:https://helpmegrownorthtexas.org/event/face-to-face-little-sprouts-gardening-group-serve-lewisville-5/
LOCATION:Serve Lewisville\, 1001 Edmonds Lane\, Lewisville\, TX\, 75067\, United States
ATTACH;FMTTYPE=image/jpeg:https://helpmegrownorthtexas.org/wp-content/uploads/2025/03/adf8bca61ef2439109b01688507fc603.jpg
END:VEVENT
BEGIN:VEVENT
DTSTART;TZID=America/Chicago:20250507T090000
DTEND;TZID=America/Chicago:20250507T100000
DTSTAMP:20260420T021754
CREATED:20250505T221437Z
LAST-MODIFIED:20250505T221437Z
UID:107489-1746608400-1746612000@helpmegrownorthtexas.org
SUMMARY:Virtual Nurturing Families - Spanish
DESCRIPTION:Join Us!  ¡Únete a nosotros!
URL:https://helpmegrownorthtexas.org/event/virtual-nurturing-families-spanish-23/
LOCATION:TX
ATTACH;FMTTYPE=image/jpeg:https://helpmegrownorthtexas.org/wp-content/uploads/2025/05/9d38036749f29e563cfb1afd92be1d6a.jpg
END:VEVENT
BEGIN:VEVENT
DTSTART;TZID=America/Chicago:20250507T100000
DTEND;TZID=America/Chicago:20250507T110000
DTSTAMP:20260420T021754
CREATED:20250307T233302Z
LAST-MODIFIED:20250505T221103Z
UID:107295-1746612000-1746615600@helpmegrownorthtexas.org
SUMMARY:Face to Face Kindermusik Level 3 (2 – 5 year old) Springtown
DESCRIPTION:Free Kindermusik Group Levels 3
URL:https://helpmegrownorthtexas.org/event/face-to-face-kindermusik-level-3-2-5-year-old-springtown-9/
LOCATION:Cornerstone Community Church\, 2233 East Highway 199\, Springtown\, TX\, 76082\, United States
ATTACH;FMTTYPE=image/jpeg:https://helpmegrownorthtexas.org/wp-content/uploads/2025/03/9c326ae17d7633ffd72469baf0ae265f.jpg
END:VEVENT
BEGIN:VEVENT
DTSTART;TZID=America/Chicago:20250507T110000
DTEND;TZID=America/Chicago:20250507T121500
DTSTAMP:20260420T021754
CREATED:20250505T221910Z
LAST-MODIFIED:20250505T221910Z
UID:107505-1746615600-1746620100@helpmegrownorthtexas.org
SUMMARY:Virtual Mothers and Babies Group
DESCRIPTION:Join Us!
URL:https://helpmegrownorthtexas.org/event/virtual-mothers-and-babies-group-18/
LOCATION:TX
ATTACH;FMTTYPE=image/jpeg:https://helpmegrownorthtexas.org/wp-content/uploads/2025/05/d1c736e41c9ac1473365d533a70bf051.jpg
END:VEVENT
BEGIN:VEVENT
DTSTART;TZID=America/Chicago:20250507T180000
DTEND;TZID=America/Chicago:20250507T190000
DTSTAMP:20260420T021754
CREATED:20250505T221234Z
LAST-MODIFIED:20250505T221234Z
UID:107483-1746640800-1746644400@helpmegrownorthtexas.org
SUMMARY:Face to Face Nurturing Families - Fort Worth
DESCRIPTION:Join Us!
URL:https://helpmegrownorthtexas.org/event/face-to-face-nurturing-families-fort-worth-6/
LOCATION:3136 W 4th St\, 3136 West 4th Street\, Fort Worth\, TX\, 76107\, United States
ATTACH;FMTTYPE=image/jpeg:https://helpmegrownorthtexas.org/wp-content/uploads/2025/02/579039aad8e8a66fbfb16fd9fbea1a3a.jpg
END:VEVENT
BEGIN:VEVENT
DTSTART;TZID=America/Chicago:20250508T090000
DTEND;TZID=America/Chicago:20250508T100000
DTSTAMP:20260420T021754
CREATED:20250505T221140Z
LAST-MODIFIED:20250505T221140Z
UID:107474-1746694800-1746698400@helpmegrownorthtexas.org
SUMMARY:Walk in the Park
DESCRIPTION:Everyone welcome\, we will be joining other moms and their babies/kids as we walk around the park\, enjoy the playground with our kids!
URL:https://helpmegrownorthtexas.org/event/walk-in-the-park-5/
LOCATION:Martin Avenue\, Martin Avenue\, Springtown\, TX\, 76082\, United States
ATTACH;FMTTYPE=image/jpeg:https://helpmegrownorthtexas.org/wp-content/uploads/2025/03/3c1ba218fdd43cae9a7a9a9b8b252bae.jpg
END:VEVENT
BEGIN:VEVENT
DTSTART;TZID=America/Chicago:20250508T093000
DTEND;TZID=America/Chicago:20250508T103000
DTSTAMP:20260420T021754
CREATED:20250505T221539Z
LAST-MODIFIED:20250505T221539Z
UID:107493-1746696600-1746700200@helpmegrownorthtexas.org
SUMMARY:Face to Face: Music and Motion- Fort Worth
DESCRIPTION:Come join us!
URL:https://helpmegrownorthtexas.org/event/face-to-face-music-and-motion-fort-worth-16/
LOCATION:6032 Innovation Way\, 6032 Innovation Way\, Fort Worth\, TX\, 76244\, United States
ATTACH;FMTTYPE=image/jpeg:https://helpmegrownorthtexas.org/wp-content/uploads/2025/05/803709c02836d63997e59cb52c0ea4c4.jpg
END:VEVENT
BEGIN:VEVENT
DTSTART;TZID=America/Chicago:20250508T100000
DTEND;TZID=America/Chicago:20250508T110000
DTSTAMP:20260420T021754
CREATED:20250310T215502Z
LAST-MODIFIED:20250310T215502Z
UID:107345-1746698400-1746702000@helpmegrownorthtexas.org
SUMMARY:Little Sprouts Gardening
DESCRIPTION:Explore our garden as we plant\, grow\, and learn about growing your own garden at home.
URL:https://helpmegrownorthtexas.org/event/little-sprouts-gardening-9/
LOCATION:Family Resource Center / Help Me Grow NT\, 314 East 5th Terrace\, Springtown\, TX\, 76082\, United States
ATTACH;FMTTYPE=image/jpeg:https://helpmegrownorthtexas.org/wp-content/uploads/2025/03/52714affc963c90efb581651dfaf51b6.jpg
END:VEVENT
BEGIN:VEVENT
DTSTART;TZID=America/Chicago:20250508T110000
DTEND;TZID=America/Chicago:20250508T120000
DTSTAMP:20260420T021754
CREATED:20250505T221833Z
LAST-MODIFIED:20250505T221833Z
UID:107499-1746702000-1746705600@helpmegrownorthtexas.org
SUMMARY:Face To Face: Sensory Group- Fort Worth
DESCRIPTION:Come and play with us!
URL:https://helpmegrownorthtexas.org/event/face-to-face-sensory-group-fort-worth-6/
LOCATION:6032 Innovation Way\, 6032 Innovation Way\, Fort Worth\, TX\, 76244\, United States
ATTACH;FMTTYPE=image/jpeg:https://helpmegrownorthtexas.org/wp-content/uploads/2025/05/7d35540443d0c99271cde5af45a2dfc1.jpg
END:VEVENT
END:VCALENDAR