BEGIN:VCALENDAR
VERSION:2.0
PRODID:-//Help Me Grow North Texas - ECPv6.15.20//NONSGML v1.0//EN
CALSCALE:GREGORIAN
METHOD:PUBLISH
X-WR-CALNAME:Help Me Grow North Texas
X-ORIGINAL-URL:https://helpmegrownorthtexas.org
X-WR-CALDESC:Events for Help Me Grow North Texas
REFRESH-INTERVAL;VALUE=DURATION:PT1H
X-Robots-Tag:noindex
X-PUBLISHED-TTL:PT1H
BEGIN:VTIMEZONE
TZID:America/Chicago
BEGIN:DAYLIGHT
TZOFFSETFROM:-0600
TZOFFSETTO:-0500
TZNAME:CDT
DTSTART:20240310T080000
END:DAYLIGHT
BEGIN:STANDARD
TZOFFSETFROM:-0500
TZOFFSETTO:-0600
TZNAME:CST
DTSTART:20241103T070000
END:STANDARD
BEGIN:DAYLIGHT
TZOFFSETFROM:-0600
TZOFFSETTO:-0500
TZNAME:CDT
DTSTART:20250309T080000
END:DAYLIGHT
BEGIN:STANDARD
TZOFFSETFROM:-0500
TZOFFSETTO:-0600
TZNAME:CST
DTSTART:20251102T070000
END:STANDARD
BEGIN:DAYLIGHT
TZOFFSETFROM:-0600
TZOFFSETTO:-0500
TZNAME:CDT
DTSTART:20260308T080000
END:DAYLIGHT
BEGIN:STANDARD
TZOFFSETFROM:-0500
TZOFFSETTO:-0600
TZNAME:CST
DTSTART:20261101T070000
END:STANDARD
END:VTIMEZONE
BEGIN:VEVENT
DTSTART;TZID=America/Chicago:20250205T180000
DTEND;TZID=America/Chicago:20250205T190000
DTSTAMP:20260419T232603
CREATED:20250109T201515Z
LAST-MODIFIED:20250109T201515Z
UID:107071-1738778400-1738782000@helpmegrownorthtexas.org
SUMMARY:Virtual Nurturing Families
DESCRIPTION:JOIN US!
URL:https://helpmegrownorthtexas.org/event/virtual-nurturing-families-21/
LOCATION:TX
ATTACH;FMTTYPE=image/jpeg:https://helpmegrownorthtexas.org/wp-content/uploads/2025/01/10c08916829a05b6e3fc8f3b0d733d10.jpg
END:VEVENT
BEGIN:VEVENT
DTSTART;TZID=America/Chicago:20250204T113000
DTEND;TZID=America/Chicago:20250204T130000
DTSTAMP:20260419T232603
CREATED:20250122T194547Z
LAST-MODIFIED:20250122T194547Z
UID:107088-1738668600-1738674000@helpmegrownorthtexas.org
SUMMARY:Pop N' Play "Social Hour" - West Center
DESCRIPTION:Come Join us!
URL:https://helpmegrownorthtexas.org/event/pop-n-play-social-hour-west-center/
LOCATION:6777 Camp Bowie Blvd\, 6777 Camp Bowie Boulevard\, Fort Worth\, TX\, 76116\, United States
ATTACH;FMTTYPE=image/jpeg:https://helpmegrownorthtexas.org/wp-content/uploads/2025/01/7485fbe886dfd5def432efdcd7ff387f.jpg
END:VEVENT
BEGIN:VEVENT
DTSTART;TZID=America/Chicago:20250204T103000
DTEND;TZID=America/Chicago:20250204T113000
DTSTAMP:20260419T232603
CREATED:20250122T194102Z
LAST-MODIFIED:20250122T194102Z
UID:107082-1738665000-1738668600@helpmegrownorthtexas.org
SUMMARY:Face to Face Music and Motion - West Center
DESCRIPTION:Come Join us!
URL:https://helpmegrownorthtexas.org/event/face-to-face-music-and-motion-west-center-5/
LOCATION:6777 Camp Bowie Blvd\, 6777 Camp Bowie Boulevard\, Fort Worth\, TX\, 76116\, United States
ATTACH;FMTTYPE=image/jpeg:https://helpmegrownorthtexas.org/wp-content/uploads/2025/01/2cacdc01ccae99a5b47e6e585fe71474.jpg
END:VEVENT
BEGIN:VEVENT
DTSTART;TZID=America/Chicago:20250130T110000
DTEND;TZID=America/Chicago:20250130T120000
DTSTAMP:20260419T232603
CREATED:20241215T000945Z
LAST-MODIFIED:20241215T000945Z
UID:107056-1738234800-1738238400@helpmegrownorthtexas.org
SUMMARY:Face to Face STEAM Stations- North Center
DESCRIPTION:Come Join us!
URL:https://helpmegrownorthtexas.org/event/face-to-face-steam-stations-north-center-4/
LOCATION:North Center – 6032 Innovation Way Keller\, 76244\, Innovation Way\, Fort Worth\, TX\, 76244\, United States
ATTACH;FMTTYPE=image/jpeg:https://helpmegrownorthtexas.org/wp-content/uploads/2024/12/d8235ee31ed467607d3bf60fcb9cd191.jpg
END:VEVENT
BEGIN:VEVENT
DTSTART;TZID=America/Chicago:20250130T100000
DTEND;TZID=America/Chicago:20250130T110000
DTSTAMP:20260419T232603
CREATED:20250109T201642Z
LAST-MODIFIED:20250109T201642Z
UID:107073-1738231200-1738234800@helpmegrownorthtexas.org
SUMMARY:Virtual Nurturing Families - Spanish
DESCRIPTION:Join Us!  ¡Únete a nosotros!
URL:https://helpmegrownorthtexas.org/event/virtual-nurturing-families-spanish-12/
LOCATION:TX
ATTACH;FMTTYPE=image/jpeg:https://helpmegrownorthtexas.org/wp-content/uploads/2025/01/6aeaf10e9bf2b793f55ed733a239bb74.jpg
END:VEVENT
BEGIN:VEVENT
DTSTART;TZID=America/Chicago:20250130T093000
DTEND;TZID=America/Chicago:20250130T103000
DTSTAMP:20260419T232603
CREATED:20241215T000844Z
LAST-MODIFIED:20241215T000844Z
UID:107050-1738229400-1738233000@helpmegrownorthtexas.org
SUMMARY:Face to Face Circle Time Group - North Center
DESCRIPTION:Come Join us!
URL:https://helpmegrownorthtexas.org/event/face-to-face-circle-time-group-north-center-4/
LOCATION:North Center – 6032 Innovation Way Keller\, 76244\, Innovation Way\, Fort Worth\, TX\, 76244\, United States
ATTACH;FMTTYPE=image/jpeg:https://helpmegrownorthtexas.org/wp-content/uploads/2024/12/845a7a9c3b6d397245dfc8460dfcf9fe.jpg
END:VEVENT
BEGIN:VEVENT
DTSTART;TZID=America/Chicago:20250129T180000
DTEND;TZID=America/Chicago:20250129T190000
DTSTAMP:20260419T232603
CREATED:20250109T201514Z
LAST-MODIFIED:20250109T201514Z
UID:107070-1738173600-1738177200@helpmegrownorthtexas.org
SUMMARY:Virtual Nurturing Families
DESCRIPTION:JOIN US!
URL:https://helpmegrownorthtexas.org/event/virtual-nurturing-families-20/
LOCATION:TX
ATTACH;FMTTYPE=image/jpeg:https://helpmegrownorthtexas.org/wp-content/uploads/2025/01/10c08916829a05b6e3fc8f3b0d733d10.jpg
END:VEVENT
BEGIN:VEVENT
DTSTART;TZID=America/Chicago:20250129T110000
DTEND;TZID=America/Chicago:20250129T120000
DTSTAMP:20260419T232603
CREATED:20241215T000758Z
LAST-MODIFIED:20241215T000758Z
UID:107044-1738148400-1738152000@helpmegrownorthtexas.org
SUMMARY:Face to Face Arts & Crafts - West Center
DESCRIPTION:Come join us!
URL:https://helpmegrownorthtexas.org/event/face-to-face-arts-crafts-west-center-4/
LOCATION:6777 Camp Bowie Blvd\, 6777 Camp Bowie Boulevard\, Fort Worth\, TX\, 76116\, United States
ATTACH;FMTTYPE=image/jpeg:https://helpmegrownorthtexas.org/wp-content/uploads/2024/12/b31ef2ff6495d6691c00ea67d0e0176f.jpg
END:VEVENT
BEGIN:VEVENT
DTSTART;TZID=America/Chicago:20250129T093000
DTEND;TZID=America/Chicago:20250129T103000
DTSTAMP:20260419T232603
CREATED:20241215T000711Z
LAST-MODIFIED:20241215T000711Z
UID:107038-1738143000-1738146600@helpmegrownorthtexas.org
SUMMARY:Face to Face Music and Motion - West Center
DESCRIPTION:Come Join us!
URL:https://helpmegrownorthtexas.org/event/face-to-face-music-and-motion-west-center-4/
LOCATION:6777 Camp Bowie Blvd\, 6777 Camp Bowie Boulevard\, Fort Worth\, TX\, 76116\, United States
ATTACH;FMTTYPE=image/jpeg:https://helpmegrownorthtexas.org/wp-content/uploads/2024/12/9861fb207b7478a03eec22491a605dc1.jpg
END:VEVENT
BEGIN:VEVENT
DTSTART;TZID=America/Chicago:20250128T110000
DTEND;TZID=America/Chicago:20250128T120000
DTSTAMP:20260419T232603
CREATED:20241215T000625Z
LAST-MODIFIED:20241215T000625Z
UID:107032-1738062000-1738065600@helpmegrownorthtexas.org
SUMMARY:Face to Face Happy Baby Happy Family - West Center
DESCRIPTION:Come Join us!
URL:https://helpmegrownorthtexas.org/event/face-to-face-happy-baby-happy-family-west-center-4/
LOCATION:6777 Camp Bowie Blvd\, 6777 Camp Bowie Boulevard\, Fort Worth\, TX\, 76116\, United States
ATTACH;FMTTYPE=image/jpeg:https://helpmegrownorthtexas.org/wp-content/uploads/2024/12/b4a60277e1ddc0167fcc477d6b55c287.jpg
END:VEVENT
BEGIN:VEVENT
DTSTART;TZID=America/Chicago:20250128T093000
DTEND;TZID=America/Chicago:20250128T103000
DTSTAMP:20260419T232603
CREATED:20241215T000530Z
LAST-MODIFIED:20241215T000530Z
UID:107026-1738056600-1738060200@helpmegrownorthtexas.org
SUMMARY:Face to Face Healthy Eating and Reading Group - North Center
DESCRIPTION:Come and play with us!
URL:https://helpmegrownorthtexas.org/event/face-to-face-healthy-eating-and-reading-group-north-center-4/
LOCATION:North Center – 6032 Innovation Way Keller\, 76244\, Innovation Way\, Fort Worth\, TX\, 76244\, United States
ATTACH;FMTTYPE=image/jpeg:https://helpmegrownorthtexas.org/wp-content/uploads/2024/12/145b895bbc7c6f1e08390e2801fb0741.jpg
END:VEVENT
BEGIN:VEVENT
DTSTART;TZID=America/Chicago:20250128T093000
DTEND;TZID=America/Chicago:20250128T103000
DTSTAMP:20260419T232603
CREATED:20241215T000420Z
LAST-MODIFIED:20241215T000420Z
UID:107020-1738056600-1738060200@helpmegrownorthtexas.org
SUMMARY:Face to Face Music and Motion - North Center
DESCRIPTION:Come Join us!
URL:https://helpmegrownorthtexas.org/event/face-to-face-music-and-motion-north-center-9/
LOCATION:North Center – 6032 Innovation Way Keller\, 76244\, Innovation Way\, Fort Worth\, TX\, 76244\, United States
ATTACH;FMTTYPE=image/jpeg:https://helpmegrownorthtexas.org/wp-content/uploads/2024/12/1e30ea1252d11cfc35fdd880bf01ad78.jpg
END:VEVENT
BEGIN:VEVENT
DTSTART;TZID=America/Chicago:20250123T173000
DTEND;TZID=America/Chicago:20250123T193000
DTSTAMP:20260419T232603
CREATED:20241215T001105Z
LAST-MODIFIED:20241215T001105Z
UID:107063-1737653400-1737660600@helpmegrownorthtexas.org
SUMMARY:Face to Face Parent Cafe- Hulen
DESCRIPTION:Come and join us!
URL:https://helpmegrownorthtexas.org/event/face-to-face-parent-cafe-hulen-7/
LOCATION:3840 Hulen St\, 3840 Hulen Street\, Fort Worth\, TX\, 76107\, United States
ATTACH;FMTTYPE=image/jpeg:https://helpmegrownorthtexas.org/wp-content/uploads/2024/12/7427c551383236d26f14f9371e210284.jpg
END:VEVENT
BEGIN:VEVENT
DTSTART;TZID=America/Chicago:20250123T173000
DTEND;TZID=America/Chicago:20250123T193000
DTSTAMP:20260419T232603
CREATED:20241215T001024Z
LAST-MODIFIED:20241215T001024Z
UID:107059-1737653400-1737660600@helpmegrownorthtexas.org
SUMMARY:Face to Face #WoWTalk Cafe- Hulen
DESCRIPTION:Come join us!!
URL:https://helpmegrownorthtexas.org/event/face-to-face-wowtalk-cafe-hulen-5/
LOCATION:3840 Hulen St\, 3840 Hulen Street\, Fort Worth\, TX\, 76107\, United States
ATTACH;FMTTYPE=image/jpeg:https://helpmegrownorthtexas.org/wp-content/uploads/2024/12/6f39a152982cf7019ccc286e3518f239.jpg
END:VEVENT
BEGIN:VEVENT
DTSTART;TZID=America/Chicago:20250123T110000
DTEND;TZID=America/Chicago:20250123T120000
DTSTAMP:20260419T232603
CREATED:20241215T000945Z
LAST-MODIFIED:20241215T000945Z
UID:107055-1737630000-1737633600@helpmegrownorthtexas.org
SUMMARY:Face to Face STEAM Stations- North Center
DESCRIPTION:Come Join us!
URL:https://helpmegrownorthtexas.org/event/face-to-face-steam-stations-north-center-3/
LOCATION:North Center – 6032 Innovation Way Keller\, 76244\, Innovation Way\, Fort Worth\, TX\, 76244\, United States
ATTACH;FMTTYPE=image/jpeg:https://helpmegrownorthtexas.org/wp-content/uploads/2024/12/d8235ee31ed467607d3bf60fcb9cd191.jpg
END:VEVENT
BEGIN:VEVENT
DTSTART;TZID=America/Chicago:20250123T093000
DTEND;TZID=America/Chicago:20250123T103000
DTSTAMP:20260419T232603
CREATED:20241215T000844Z
LAST-MODIFIED:20241215T000844Z
UID:107049-1737624600-1737628200@helpmegrownorthtexas.org
SUMMARY:Face to Face Circle Time Group - North Center
DESCRIPTION:Come Join us!
URL:https://helpmegrownorthtexas.org/event/face-to-face-circle-time-group-north-center-3/
LOCATION:North Center – 6032 Innovation Way Keller\, 76244\, Innovation Way\, Fort Worth\, TX\, 76244\, United States
ATTACH;FMTTYPE=image/jpeg:https://helpmegrownorthtexas.org/wp-content/uploads/2024/12/845a7a9c3b6d397245dfc8460dfcf9fe.jpg
END:VEVENT
BEGIN:VEVENT
DTSTART;TZID=America/Chicago:20250122T180000
DTEND;TZID=America/Chicago:20250122T190000
DTSTAMP:20260419T232603
CREATED:20250109T201512Z
LAST-MODIFIED:20250109T201512Z
UID:107068-1737568800-1737572400@helpmegrownorthtexas.org
SUMMARY:Virtual Nurturing Families
DESCRIPTION:JOIN US!
URL:https://helpmegrownorthtexas.org/event/virtual-nurturing-families-19/
LOCATION:TX
ATTACH;FMTTYPE=image/jpeg:https://helpmegrownorthtexas.org/wp-content/uploads/2025/01/10c08916829a05b6e3fc8f3b0d733d10.jpg
END:VEVENT
BEGIN:VEVENT
DTSTART;TZID=America/Chicago:20250122T110000
DTEND;TZID=America/Chicago:20250122T120000
DTSTAMP:20260419T232603
CREATED:20241215T000758Z
LAST-MODIFIED:20241215T000758Z
UID:107043-1737543600-1737547200@helpmegrownorthtexas.org
SUMMARY:Face to Face Arts & Crafts - West Center
DESCRIPTION:Come join us!
URL:https://helpmegrownorthtexas.org/event/face-to-face-arts-crafts-west-center-3/
LOCATION:6777 Camp Bowie Blvd\, 6777 Camp Bowie Boulevard\, Fort Worth\, TX\, 76116\, United States
ATTACH;FMTTYPE=image/jpeg:https://helpmegrownorthtexas.org/wp-content/uploads/2024/12/b31ef2ff6495d6691c00ea67d0e0176f.jpg
END:VEVENT
BEGIN:VEVENT
DTSTART;TZID=America/Chicago:20250122T093000
DTEND;TZID=America/Chicago:20250122T103000
DTSTAMP:20260419T232603
CREATED:20241215T000711Z
LAST-MODIFIED:20241215T000711Z
UID:107037-1737538200-1737541800@helpmegrownorthtexas.org
SUMMARY:Face to Face Music and Motion - West Center
DESCRIPTION:Come Join us!
URL:https://helpmegrownorthtexas.org/event/face-to-face-music-and-motion-west-center-3/
LOCATION:6777 Camp Bowie Blvd\, 6777 Camp Bowie Boulevard\, Fort Worth\, TX\, 76116\, United States
ATTACH;FMTTYPE=image/jpeg:https://helpmegrownorthtexas.org/wp-content/uploads/2024/12/9861fb207b7478a03eec22491a605dc1.jpg
END:VEVENT
BEGIN:VEVENT
DTSTART;TZID=America/Chicago:20250121T110000
DTEND;TZID=America/Chicago:20250121T120000
DTSTAMP:20260419T232603
CREATED:20241215T000625Z
LAST-MODIFIED:20241215T000625Z
UID:107031-1737457200-1737460800@helpmegrownorthtexas.org
SUMMARY:Face to Face Happy Baby Happy Family - West Center
DESCRIPTION:Come Join us!
URL:https://helpmegrownorthtexas.org/event/face-to-face-happy-baby-happy-family-west-center-3/
LOCATION:6777 Camp Bowie Blvd\, 6777 Camp Bowie Boulevard\, Fort Worth\, TX\, 76116\, United States
ATTACH;FMTTYPE=image/jpeg:https://helpmegrownorthtexas.org/wp-content/uploads/2024/12/b4a60277e1ddc0167fcc477d6b55c287.jpg
END:VEVENT
BEGIN:VEVENT
DTSTART;TZID=America/Chicago:20250121T093000
DTEND;TZID=America/Chicago:20250121T103000
DTSTAMP:20260419T232603
CREATED:20241215T000530Z
LAST-MODIFIED:20241215T000530Z
UID:107025-1737451800-1737455400@helpmegrownorthtexas.org
SUMMARY:Face to Face Healthy Eating and Reading Group - North Center
DESCRIPTION:Come and play with us!
URL:https://helpmegrownorthtexas.org/event/face-to-face-healthy-eating-and-reading-group-north-center-3/
LOCATION:North Center – 6032 Innovation Way Keller\, 76244\, Innovation Way\, Fort Worth\, TX\, 76244\, United States
ATTACH;FMTTYPE=image/jpeg:https://helpmegrownorthtexas.org/wp-content/uploads/2024/12/145b895bbc7c6f1e08390e2801fb0741.jpg
END:VEVENT
BEGIN:VEVENT
DTSTART;TZID=America/Chicago:20250121T093000
DTEND;TZID=America/Chicago:20250121T103000
DTSTAMP:20260419T232603
CREATED:20241215T000420Z
LAST-MODIFIED:20241215T000420Z
UID:107019-1737451800-1737455400@helpmegrownorthtexas.org
SUMMARY:Face to Face Music and Motion - North Center
DESCRIPTION:Come Join us!
URL:https://helpmegrownorthtexas.org/event/face-to-face-music-and-motion-north-center-8/
LOCATION:North Center – 6032 Innovation Way Keller\, 76244\, Innovation Way\, Fort Worth\, TX\, 76244\, United States
ATTACH;FMTTYPE=image/jpeg:https://helpmegrownorthtexas.org/wp-content/uploads/2024/12/1e30ea1252d11cfc35fdd880bf01ad78.jpg
END:VEVENT
BEGIN:VEVENT
DTSTART;TZID=America/Chicago:20250116T110000
DTEND;TZID=America/Chicago:20250116T120000
DTSTAMP:20260419T232603
CREATED:20241215T000945Z
LAST-MODIFIED:20241215T000945Z
UID:107054-1737025200-1737028800@helpmegrownorthtexas.org
SUMMARY:Face to Face STEAM Stations- North Center
DESCRIPTION:Come Join us!
URL:https://helpmegrownorthtexas.org/event/face-to-face-steam-stations-north-center-2/
LOCATION:North Center – 6032 Innovation Way Keller\, 76244\, Innovation Way\, Fort Worth\, TX\, 76244\, United States
ATTACH;FMTTYPE=image/jpeg:https://helpmegrownorthtexas.org/wp-content/uploads/2024/12/d8235ee31ed467607d3bf60fcb9cd191.jpg
END:VEVENT
BEGIN:VEVENT
DTSTART;TZID=America/Chicago:20250116T093000
DTEND;TZID=America/Chicago:20250116T103000
DTSTAMP:20260419T232603
CREATED:20241215T000844Z
LAST-MODIFIED:20241215T000844Z
UID:107048-1737019800-1737023400@helpmegrownorthtexas.org
SUMMARY:Face to Face Circle Time Group - North Center
DESCRIPTION:Come Join us!
URL:https://helpmegrownorthtexas.org/event/face-to-face-circle-time-group-north-center-2/
LOCATION:North Center – 6032 Innovation Way Keller\, 76244\, Innovation Way\, Fort Worth\, TX\, 76244\, United States
ATTACH;FMTTYPE=image/jpeg:https://helpmegrownorthtexas.org/wp-content/uploads/2024/12/845a7a9c3b6d397245dfc8460dfcf9fe.jpg
END:VEVENT
BEGIN:VEVENT
DTSTART;TZID=America/Chicago:20250115T110000
DTEND;TZID=America/Chicago:20250115T120000
DTSTAMP:20260419T232603
CREATED:20241215T000758Z
LAST-MODIFIED:20241215T000758Z
UID:107042-1736938800-1736942400@helpmegrownorthtexas.org
SUMMARY:Face to Face Arts & Crafts - West Center
DESCRIPTION:Come join us!
URL:https://helpmegrownorthtexas.org/event/face-to-face-arts-crafts-west-center-2/
LOCATION:6777 Camp Bowie Blvd\, 6777 Camp Bowie Boulevard\, Fort Worth\, TX\, 76116\, United States
ATTACH;FMTTYPE=image/jpeg:https://helpmegrownorthtexas.org/wp-content/uploads/2024/12/b31ef2ff6495d6691c00ea67d0e0176f.jpg
END:VEVENT
BEGIN:VEVENT
DTSTART;TZID=America/Chicago:20250115T093000
DTEND;TZID=America/Chicago:20250115T103000
DTSTAMP:20260419T232603
CREATED:20241215T000711Z
LAST-MODIFIED:20241215T000711Z
UID:107036-1736933400-1736937000@helpmegrownorthtexas.org
SUMMARY:Face to Face Music and Motion - West Center
DESCRIPTION:Come Join us!
URL:https://helpmegrownorthtexas.org/event/face-to-face-music-and-motion-west-center-2/
LOCATION:6777 Camp Bowie Blvd\, 6777 Camp Bowie Boulevard\, Fort Worth\, TX\, 76116\, United States
ATTACH;FMTTYPE=image/jpeg:https://helpmegrownorthtexas.org/wp-content/uploads/2024/12/9861fb207b7478a03eec22491a605dc1.jpg
END:VEVENT
BEGIN:VEVENT
DTSTART;TZID=America/Chicago:20250115T090000
DTEND;TZID=America/Chicago:20250115T163000
DTSTAMP:20260419T232603
CREATED:20241130T224326Z
LAST-MODIFIED:20241130T224326Z
UID:107012-1736931600-1736958600@helpmegrownorthtexas.org
SUMMARY:Parent Café and #WowTalk Café Training -Presented by MHMR of Tarrant County
DESCRIPTION:Fidelity requires attendance all three full days
URL:https://helpmegrownorthtexas.org/event/parent-cafe-and-wowtalk-cafe-training-presented-by-mhmr-of-tarrant-county-3/
LOCATION:North Center – 6032 Innovation Way Keller\, 76244\, Innovation Way\, Fort Worth\, TX\, 76244\, United States
ATTACH;FMTTYPE=image/jpeg:https://helpmegrownorthtexas.org/wp-content/uploads/2024/11/09e315034477aef02a77c1219750da1b.jpg
END:VEVENT
BEGIN:VEVENT
DTSTART;TZID=America/Chicago:20250114T110000
DTEND;TZID=America/Chicago:20250114T120000
DTSTAMP:20260419T232603
CREATED:20241215T000625Z
LAST-MODIFIED:20241215T000625Z
UID:107030-1736852400-1736856000@helpmegrownorthtexas.org
SUMMARY:Face to Face Happy Baby Happy Family - West Center
DESCRIPTION:Come Join us!
URL:https://helpmegrownorthtexas.org/event/face-to-face-happy-baby-happy-family-west-center-2/
LOCATION:6777 Camp Bowie Blvd\, 6777 Camp Bowie Boulevard\, Fort Worth\, TX\, 76116\, United States
ATTACH;FMTTYPE=image/jpeg:https://helpmegrownorthtexas.org/wp-content/uploads/2024/12/b4a60277e1ddc0167fcc477d6b55c287.jpg
END:VEVENT
BEGIN:VEVENT
DTSTART;TZID=America/Chicago:20250114T093000
DTEND;TZID=America/Chicago:20250114T103000
DTSTAMP:20260419T232603
CREATED:20241215T000529Z
LAST-MODIFIED:20241215T000529Z
UID:107024-1736847000-1736850600@helpmegrownorthtexas.org
SUMMARY:Face to Face Healthy Eating and Reading Group - North Center
DESCRIPTION:Come and play with us!
URL:https://helpmegrownorthtexas.org/event/face-to-face-healthy-eating-and-reading-group-north-center-2/
LOCATION:North Center – 6032 Innovation Way Keller\, 76244\, Innovation Way\, Fort Worth\, TX\, 76244\, United States
ATTACH;FMTTYPE=image/jpeg:https://helpmegrownorthtexas.org/wp-content/uploads/2024/12/145b895bbc7c6f1e08390e2801fb0741.jpg
END:VEVENT
BEGIN:VEVENT
DTSTART;TZID=America/Chicago:20250114T093000
DTEND;TZID=America/Chicago:20250114T103000
DTSTAMP:20260419T232603
CREATED:20241215T000420Z
LAST-MODIFIED:20241215T000420Z
UID:107018-1736847000-1736850600@helpmegrownorthtexas.org
SUMMARY:Face to Face Music and Motion - North Center
DESCRIPTION:Come Join us!
URL:https://helpmegrownorthtexas.org/event/face-to-face-music-and-motion-north-center-7/
LOCATION:North Center – 6032 Innovation Way Keller\, 76244\, Innovation Way\, Fort Worth\, TX\, 76244\, United States
ATTACH;FMTTYPE=image/jpeg:https://helpmegrownorthtexas.org/wp-content/uploads/2024/12/1e30ea1252d11cfc35fdd880bf01ad78.jpg
END:VEVENT
END:VCALENDAR