BEGIN:VCALENDAR
VERSION:2.0
PRODID:-//Help Me Grow North Texas - ECPv6.15.20//NONSGML v1.0//EN
CALSCALE:GREGORIAN
METHOD:PUBLISH
X-WR-CALNAME:Help Me Grow North Texas
X-ORIGINAL-URL:https://helpmegrownorthtexas.org
X-WR-CALDESC:Events for Help Me Grow North Texas
REFRESH-INTERVAL;VALUE=DURATION:PT1H
X-Robots-Tag:noindex
X-PUBLISHED-TTL:PT1H
BEGIN:VTIMEZONE
TZID:America/Chicago
BEGIN:DAYLIGHT
TZOFFSETFROM:-0600
TZOFFSETTO:-0500
TZNAME:CDT
DTSTART:20210314T080000
END:DAYLIGHT
BEGIN:STANDARD
TZOFFSETFROM:-0500
TZOFFSETTO:-0600
TZNAME:CST
DTSTART:20211107T070000
END:STANDARD
BEGIN:DAYLIGHT
TZOFFSETFROM:-0600
TZOFFSETTO:-0500
TZNAME:CDT
DTSTART:20220313T080000
END:DAYLIGHT
BEGIN:STANDARD
TZOFFSETFROM:-0500
TZOFFSETTO:-0600
TZNAME:CST
DTSTART:20221106T070000
END:STANDARD
BEGIN:DAYLIGHT
TZOFFSETFROM:-0600
TZOFFSETTO:-0500
TZNAME:CDT
DTSTART:20230312T080000
END:DAYLIGHT
BEGIN:STANDARD
TZOFFSETFROM:-0500
TZOFFSETTO:-0600
TZNAME:CST
DTSTART:20231105T070000
END:STANDARD
END:VTIMEZONE
BEGIN:VEVENT
DTSTART;TZID=America/Chicago:20221108T093000
DTEND;TZID=America/Chicago:20221108T103000
DTSTAMP:20260419T214721
CREATED:20221018T160745Z
LAST-MODIFIED:20221108T055530Z
UID:8005-1667899800-1667903400@helpmegrownorthtexas.org
SUMMARY:Face to Face Healthy Eating and Reading Group- Crowley
DESCRIPTION:Come Join Us!!
URL:https://helpmegrownorthtexas.org/event/face-to-face-healthy-eating-and-reading-group-crowley-3/
LOCATION:Crowley Recreation Center\, 405 South Oak Street\, Crowley\, TX\, 76036\, United States
ATTACH;FMTTYPE=image/jpeg:https://helpmegrownorthtexas.org/wp-content/uploads/2022/10/5bcf8d7b4aef0cb764f3ef2562b4d797.jpg
END:VEVENT
BEGIN:VEVENT
DTSTART;TZID=America/Chicago:20221103T160000
DTEND;TZID=America/Chicago:20221103T170000
DTSTAMP:20260419T214721
CREATED:20220811T195103Z
LAST-MODIFIED:20221103T044053Z
UID:1867-1667491200-1667494800@helpmegrownorthtexas.org
SUMMARY:Face to Face Music and Motion- Springtown
DESCRIPTION:Come join us!!
URL:https://helpmegrownorthtexas.org/event/face-to-face-music-and-motion-springtown-9/
LOCATION:314 E 5th Terrace\, 314 East 5th Terrace\, Springtown\, TX\, 76082\, United States
ATTACH;FMTTYPE=image/jpeg:https://helpmegrownorthtexas.org/wp-content/uploads/2022/09/f37c51f8a16e592b5da2975b58595feb.jpg
END:VEVENT
BEGIN:VEVENT
DTSTART;TZID=America/Chicago:20221103T100000
DTEND;TZID=America/Chicago:20221103T110000
DTSTAMP:20260419T214721
CREATED:20221012T144125Z
LAST-MODIFIED:20221103T042656Z
UID:7620-1667469600-1667473200@helpmegrownorthtexas.org
SUMMARY:Face to Face Coffee Chat- Springtown
DESCRIPTION:Come join us!!
URL:https://helpmegrownorthtexas.org/event/face-to-face-coffee-chat-springtown-2/
LOCATION:314 E 5th Terrace\, 314 East 5th Terrace\, Springtown\, TX\, 76082\, United States
ATTACH;FMTTYPE=image/jpeg:https://helpmegrownorthtexas.org/wp-content/uploads/2022/10/f891c727c64f2a1c4c7c0434be26e1b2.jpg
END:VEVENT
BEGIN:VEVENT
DTSTART;TZID=America/Chicago:20221102T100000
DTEND;TZID=America/Chicago:20221102T110000
DTSTAMP:20260419T214721
CREATED:20220929T055211Z
LAST-MODIFIED:20221102T084304Z
UID:5390-1667383200-1667386800@helpmegrownorthtexas.org
SUMMARY:Face to Face Kindermusik Group- Springtown
DESCRIPTION:Come join us!!
URL:https://helpmegrownorthtexas.org/event/face-to-face-kindermusik-group-springtown-15/
LOCATION:Cornerstone Community Church\, 2233 East Highway 199\, Springtown\, TX\, 76082\, United States
ATTACH;FMTTYPE=image/jpeg:https://helpmegrownorthtexas.org/wp-content/uploads/2022/09/66247c2fab629edeadff3c5e4bab5287.jpg
END:VEVENT
BEGIN:VEVENT
DTSTART;TZID=America/Chicago:20221101T160000
DTEND;TZID=America/Chicago:20221101T170000
DTSTAMP:20260419T214721
CREATED:20220811T200349Z
LAST-MODIFIED:20221028T031613Z
UID:1921-1667318400-1667322000@helpmegrownorthtexas.org
SUMMARY:Face to Face Full STEAM Ahead- Springtown
DESCRIPTION:Come join us!!
URL:https://helpmegrownorthtexas.org/event/face-to-face-full-steam-ahead-springtown-3/
LOCATION:314 E 5th Terrace\, 314 East 5th Terrace\, Springtown\, TX\, 76082\, United States
ATTACH;FMTTYPE=image/jpeg:https://helpmegrownorthtexas.org/wp-content/uploads/2022/09/260e09c28e5bf1c8bdc5ecfb31763884.jpg
END:VEVENT
BEGIN:VEVENT
DTSTART;TZID=America/Chicago:20221101T100000
DTEND;TZID=America/Chicago:20221101T110000
DTSTAMP:20260419T214721
CREATED:20221018T160954Z
LAST-MODIFIED:20221027T030719Z
UID:8019-1667296800-1667300400@helpmegrownorthtexas.org
SUMMARY:Face to Face Music and Motion- Spanish
DESCRIPTION:¡Únase al grupo!
URL:https://helpmegrownorthtexas.org/event/face-to-face-music-and-motion-spanish-2/
LOCATION:Morningside United Methodist Church\, 2860 Evans Avenue\, Fort Worth\, TX\, 76104\, United States
ATTACH;FMTTYPE=image/jpeg:https://helpmegrownorthtexas.org/wp-content/uploads/2022/10/62e450e49b35d79fed47054c88288264.jpg
END:VEVENT
BEGIN:VEVENT
DTSTART;TZID=America/Chicago:20221101T100000
DTEND;TZID=America/Chicago:20221101T110000
DTSTAMP:20260419T214721
CREATED:20220811T194413Z
LAST-MODIFIED:20220928T155640Z
UID:1842-1667296800-1667300400@helpmegrownorthtexas.org
SUMMARY:Face to Face Learning Garden- Springtown
DESCRIPTION:Come join us!!
URL:https://helpmegrownorthtexas.org/event/face-to-face-learning-garden-springtown-9/
LOCATION:314 E 5th Terrace\, 314 East 5th Terrace\, Springtown\, TX\, 76082\, United States
ATTACH;FMTTYPE=image/jpeg:https://helpmegrownorthtexas.org/wp-content/uploads/2022/08/db3d073a2a50fc8b4945c18853661517.jpg
END:VEVENT
BEGIN:VEVENT
DTSTART;TZID=America/Chicago:20221101T093000
DTEND;TZID=America/Chicago:20221101T103000
DTSTAMP:20260419T214721
CREATED:20221018T160745Z
LAST-MODIFIED:20221027T030717Z
UID:8004-1667295000-1667298600@helpmegrownorthtexas.org
SUMMARY:Face to Face Healthy Eating and Reading Group- Crowley
DESCRIPTION:Come Join Us!!
URL:https://helpmegrownorthtexas.org/event/face-to-face-healthy-eating-and-reading-group-crowley-2/
LOCATION:Crowley Recreation Center\, 405 South Oak Street\, Crowley\, TX\, 76036\, United States
ATTACH;FMTTYPE=image/jpeg:https://helpmegrownorthtexas.org/wp-content/uploads/2022/10/5bcf8d7b4aef0cb764f3ef2562b4d797.jpg
END:VEVENT
END:VCALENDAR