BEGIN:VCALENDAR
VERSION:2.0
PRODID:-//Help Me Grow North Texas - ECPv6.15.20//NONSGML v1.0//EN
CALSCALE:GREGORIAN
METHOD:PUBLISH
X-ORIGINAL-URL:https://helpmegrownorthtexas.org
X-WR-CALDESC:Events for Help Me Grow North Texas
REFRESH-INTERVAL;VALUE=DURATION:PT1H
X-Robots-Tag:noindex
X-PUBLISHED-TTL:PT1H
BEGIN:VTIMEZONE
TZID:America/Chicago
BEGIN:DAYLIGHT
TZOFFSETFROM:-0600
TZOFFSETTO:-0500
TZNAME:CDT
DTSTART:20230312T080000
END:DAYLIGHT
BEGIN:STANDARD
TZOFFSETFROM:-0500
TZOFFSETTO:-0600
TZNAME:CST
DTSTART:20231105T070000
END:STANDARD
BEGIN:DAYLIGHT
TZOFFSETFROM:-0600
TZOFFSETTO:-0500
TZNAME:CDT
DTSTART:20240310T080000
END:DAYLIGHT
BEGIN:STANDARD
TZOFFSETFROM:-0500
TZOFFSETTO:-0600
TZNAME:CST
DTSTART:20241103T070000
END:STANDARD
BEGIN:DAYLIGHT
TZOFFSETFROM:-0600
TZOFFSETTO:-0500
TZNAME:CDT
DTSTART:20250309T080000
END:DAYLIGHT
BEGIN:STANDARD
TZOFFSETFROM:-0500
TZOFFSETTO:-0600
TZNAME:CST
DTSTART:20251102T070000
END:STANDARD
END:VTIMEZONE
BEGIN:VEVENT
DTSTART;TZID=America/Chicago:20240530T173000
DTEND;TZID=America/Chicago:20240530T193000
DTSTAMP:20260420T181217
CREATED:20240513T205243Z
LAST-MODIFIED:20240513T205243Z
UID:106345-1717090200-1717097400@helpmegrownorthtexas.org
SUMMARY:Face to Face Journey to Vitality Cafe- Grief and Loss
DESCRIPTION:Come and join us!
URL:https://helpmegrownorthtexas.org/event/face-to-face-journey-to-vitality-cafe-grief-and-loss/
LOCATION:Mental Health America of Greater Tarrant County\, 3136 West 4th Street\, Fort Worth\, TX\, 76107\, United States
ATTACH;FMTTYPE=image/jpeg:https://helpmegrownorthtexas.org/wp-content/uploads/2024/05/d67edb19f107750e04fd5c819f3bf379.jpg
END:VEVENT
BEGIN:VEVENT
DTSTART;TZID=America/Chicago:20240531T100000
DTEND;TZID=America/Chicago:20240531T113000
DTSTAMP:20260420T181217
CREATED:20240513T205353Z
LAST-MODIFIED:20240513T205353Z
UID:106348-1717149600-1717155000@helpmegrownorthtexas.org
SUMMARY:Face to Face Pop n Play- Rice
DESCRIPTION:Come join us!
URL:https://helpmegrownorthtexas.org/event/face-to-face-pop-n-play-rice/
LOCATION:305 Dallas St\, 305 Dallas Street\, Rice\, TX\, 75155\, United States
ATTACH;FMTTYPE=image/jpeg:https://helpmegrownorthtexas.org/wp-content/uploads/2024/05/4c6a3db93e8577c01c0308364c3e65c5.jpg
END:VEVENT
BEGIN:VEVENT
DTSTART;TZID=America/Chicago:20240531T103000
DTEND;TZID=America/Chicago:20240531T113000
DTSTAMP:20260420T181217
CREATED:20240422T230336Z
LAST-MODIFIED:20240429T235634Z
UID:106186-1717151400-1717155000@helpmegrownorthtexas.org
SUMMARY:Face to Face Healthy Eating and Reading Group- Fort Worth
DESCRIPTION:Come Join us!
URL:https://helpmegrownorthtexas.org/event/face-to-face-healthy-eating-and-reading-group-fort-worth-5/
LOCATION:Mental Health America of Greater Tarrant County\, 3136 West 4th Street\, Fort Worth\, TX\, 76107\, United States
ATTACH;FMTTYPE=image/jpeg:https://helpmegrownorthtexas.org/wp-content/uploads/2024/04/996061143a67acc243e5c62733d90333.jpg
END:VEVENT
BEGIN:VEVENT
DTSTART;TZID=America/Chicago:20240531T110000
DTEND;TZID=America/Chicago:20240531T120000
DTSTAMP:20260420T181217
CREATED:20240411T004139Z
LAST-MODIFIED:20240424T182012Z
UID:106151-1717153200-1717156800@helpmegrownorthtexas.org
SUMMARY:Face to Face Healthy Eating and Reading at Keller (Spanish)
DESCRIPTION:¡Ven y únete a nosotros!
URL:https://helpmegrownorthtexas.org/event/face-to-face-healthy-eating-and-reading-at-keller-spanish-5/
LOCATION:North Clinic- Keller\, 6032 Innovation Way\, Keller\, TX\, 76244\, United States
ATTACH;FMTTYPE=image/jpeg:https://helpmegrownorthtexas.org/wp-content/uploads/2024/04/769b23263b77e428bd7de2e009cc14b0.jpg
END:VEVENT
BEGIN:VEVENT
DTSTART;TZID=America/Chicago:20240531T110000
DTEND;TZID=America/Chicago:20240531T120000
DTSTAMP:20260420T181217
CREATED:20240522T192412Z
LAST-MODIFIED:20240522T192412Z
UID:106416-1717153200-1717156800@helpmegrownorthtexas.org
SUMMARY:Virtual Nurturing Families Program
DESCRIPTION:Join Us!
URL:https://helpmegrownorthtexas.org/event/virtual-nurturing-families-program-22/
LOCATION:TX
ATTACH;FMTTYPE=image/jpeg:https://helpmegrownorthtexas.org/wp-content/uploads/2024/03/104557a3983a5b41424cd685e9664224.jpg
END:VEVENT
BEGIN:VEVENT
DTSTART;TZID=America/Chicago:20240531T130000
DTEND;TZID=America/Chicago:20240531T140000
DTSTAMP:20260420T181217
CREATED:20240411T004413Z
LAST-MODIFIED:20240424T182038Z
UID:106158-1717160400-1717164000@helpmegrownorthtexas.org
SUMMARY:Face to Face Pathways and Sensory Group at Keller
DESCRIPTION:Come Join us!
URL:https://helpmegrownorthtexas.org/event/face-to-face-pathways-and-sensory-group-at-keller-5/
LOCATION:North Clinic- Keller\, 6032 Innovation Way\, Keller\, TX\, 76244\, United States
ATTACH;FMTTYPE=image/jpeg:https://helpmegrownorthtexas.org/wp-content/uploads/2023/05/9793dbb843004c3f538f20512fbf2da4.jpg
END:VEVENT
BEGIN:VEVENT
DTSTART;TZID=America/Chicago:20240603T100000
DTEND;TZID=America/Chicago:20240603T120000
DTSTAMP:20260420T181217
CREATED:20240520T231801Z
LAST-MODIFIED:20240520T231801Z
UID:106387-1717408800-1717416000@helpmegrownorthtexas.org
SUMMARY:Face to Face Mothers and Babies Group-MLK Community Center
DESCRIPTION:Join Us!
URL:https://helpmegrownorthtexas.org/event/face-to-face-mothers-and-babies-group-mlk-community-center/
LOCATION:Martin Luther King Community Center\, 5565 Truman Drive\, Fort Worth\, TX\, 76112\, United States
ATTACH;FMTTYPE=image/jpeg:https://helpmegrownorthtexas.org/wp-content/uploads/2024/05/35eb9de53b9ffef53256359d9281a882.jpg
END:VEVENT
BEGIN:VEVENT
DTSTART;TZID=America/Chicago:20240603T140000
DTEND;TZID=America/Chicago:20240603T160000
DTSTAMP:20260420T181217
CREATED:20240520T231837Z
LAST-MODIFIED:20240520T231837Z
UID:106390-1717423200-1717430400@helpmegrownorthtexas.org
SUMMARY:Face to Face Mothers and Babies Group- Ronald McDonald
DESCRIPTION:Join Us!
URL:https://helpmegrownorthtexas.org/event/face-to-face-mothers-and-babies-group-ronald-mcdonald/
LOCATION:Ronald McDonald House Fort Worth\, 1001 8th Avenue\, Fort Worth\, TX\, 76104\, United States
ATTACH;FMTTYPE=image/jpeg:https://helpmegrownorthtexas.org/wp-content/uploads/2024/05/35eb9de53b9ffef53256359d9281a882.jpg
END:VEVENT
BEGIN:VEVENT
DTSTART;TZID=America/Chicago:20240603T170000
DTEND;TZID=America/Chicago:20240603T180000
DTSTAMP:20260420T181217
CREATED:20240530T135113Z
LAST-MODIFIED:20240530T135113Z
UID:106438-1717434000-1717437600@helpmegrownorthtexas.org
SUMMARY:Virtual Nurturing Families Program- Spanish
DESCRIPTION:¡Únete a nosotros!
URL:https://helpmegrownorthtexas.org/event/virtual-nurturing-families-program-spanish-15/
LOCATION:TX
ATTACH;FMTTYPE=image/jpeg:https://helpmegrownorthtexas.org/wp-content/uploads/2024/04/a7d3b7abd895fa810bfdf4202fbae3b8.jpg
END:VEVENT
BEGIN:VEVENT
DTSTART;TZID=America/Chicago:20240604T093000
DTEND;TZID=America/Chicago:20240604T103000
DTSTAMP:20260420T181217
CREATED:20240411T003825Z
LAST-MODIFIED:20240424T182304Z
UID:106133-1717493400-1717497000@helpmegrownorthtexas.org
SUMMARY:Face to Face: Nurture Nature Exploration- North Richland Hills
DESCRIPTION:Come join us!
URL:https://helpmegrownorthtexas.org/event/face-to-face-nurture-nature-exploration-north-richland-hills-6/
LOCATION:Adventure World Playground\, 7451 Starnes Road\, North Richland Hills\, TX\, 76182\, United States
ATTACH;FMTTYPE=image/jpeg:https://helpmegrownorthtexas.org/wp-content/uploads/2024/04/96fb3b25bd7673c3bdd30fef16444875.jpg
END:VEVENT
BEGIN:VEVENT
DTSTART;TZID=America/Chicago:20240604T100000
DTEND;TZID=America/Chicago:20240604T110000
DTSTAMP:20260420T181217
CREATED:20240422T230441Z
LAST-MODIFIED:20240422T230441Z
UID:106191-1717495200-1717498800@helpmegrownorthtexas.org
SUMMARY:Face to Face Healthy Eating and Reading Group- Ennis
DESCRIPTION:Come Join us!
URL:https://helpmegrownorthtexas.org/event/face-to-face-healthy-eating-and-reading-group-ennis-3/
LOCATION:2 E Ennis Ave\, 2 East Ennis Avenue\, Ennis\, TX\, 75119\, United States
ATTACH;FMTTYPE=image/jpeg:https://helpmegrownorthtexas.org/wp-content/uploads/2024/04/ccd63cda13860716df50b2ae26824f94.jpg
END:VEVENT
BEGIN:VEVENT
DTSTART;TZID=America/Chicago:20240604T100000
DTEND;TZID=America/Chicago:20240604T110000
DTSTAMP:20260420T181217
CREATED:20240522T192446Z
LAST-MODIFIED:20240522T192446Z
UID:106431-1717495200-1717498800@helpmegrownorthtexas.org
SUMMARY:Face to Face Nurturing Families Program-Fort Worth
DESCRIPTION:Come join us!
URL:https://helpmegrownorthtexas.org/event/face-to-face-nurturing-families-program-fort-worth-20/
LOCATION:Mental Health America of Greater Tarrant County\, 3136 West 4th Street\, Fort Worth\, TX\, 76107\, United States
ATTACH;FMTTYPE=image/jpeg:https://helpmegrownorthtexas.org/wp-content/uploads/2024/04/2b64abcf585c000ed155c826c3c9aca0.jpg
END:VEVENT
BEGIN:VEVENT
DTSTART;TZID=America/Chicago:20240604T110000
DTEND;TZID=America/Chicago:20240604T120000
DTSTAMP:20260420T181217
CREATED:20240411T003942Z
LAST-MODIFIED:20240424T182211Z
UID:106140-1717498800-1717502400@helpmegrownorthtexas.org
SUMMARY:Face to Face Happy Baby Happy Family at Keller
DESCRIPTION:Come Join us!
URL:https://helpmegrownorthtexas.org/event/face-to-face-happy-baby-happy-family-at-keller-6/
LOCATION:North Clinic – Keller\, 6032 Innovation Way\, Keller\, TX\, 76244\, United States
ATTACH;FMTTYPE=image/jpeg:https://helpmegrownorthtexas.org/wp-content/uploads/2023/05/6cb1bb3b9e763e6d178a4a090cb73eef.jpg
END:VEVENT
BEGIN:VEVENT
DTSTART;TZID=America/Chicago:20240604T170000
DTEND;TZID=America/Chicago:20240604T180000
DTSTAMP:20260420T181217
CREATED:20240429T234854Z
LAST-MODIFIED:20240522T192412Z
UID:106301-1717520400-1717524000@helpmegrownorthtexas.org
SUMMARY:Virtual Nurturing Families Program
DESCRIPTION:Join Us!
URL:https://helpmegrownorthtexas.org/event/virtual-nurturing-families-program-15/
LOCATION:TX
ATTACH;FMTTYPE=image/jpeg:https://helpmegrownorthtexas.org/wp-content/uploads/2024/03/104557a3983a5b41424cd685e9664224.jpg
END:VEVENT
BEGIN:VEVENT
DTSTART;TZID=America/Chicago:20240605T090000
DTEND;TZID=America/Chicago:20240605T100000
DTSTAMP:20260420T181217
CREATED:20240522T130212Z
LAST-MODIFIED:20240522T130212Z
UID:106410-1717578000-1717581600@helpmegrownorthtexas.org
SUMMARY:Face to Face Transition Group- Crowley
DESCRIPTION:Come join us!
URL:https://helpmegrownorthtexas.org/event/face-to-face-transition-group-crowley-9/
LOCATION:Crowley House of Hope\, 216 North Magnolia Street\, Crowley\, TX\, 76036\, United States
ATTACH;FMTTYPE=image/jpeg:https://helpmegrownorthtexas.org/wp-content/uploads/2024/05/64045e43bebbd926f905c2981cddfeb1.jpg
END:VEVENT
BEGIN:VEVENT
DTSTART;TZID=America/Chicago:20240606T100000
DTEND;TZID=America/Chicago:20240606T110000
DTSTAMP:20260420T181217
CREATED:20240422T230625Z
LAST-MODIFIED:20240424T182128Z
UID:106198-1717668000-1717671600@helpmegrownorthtexas.org
SUMMARY:Face to Face Little Sprouts- Venus
DESCRIPTION:Come Join us!
URL:https://helpmegrownorthtexas.org/event/face-to-face-little-sprouts-venus-2/
LOCATION:Joe A Hall High School & Community Library\, 12 Bulldog Drive\, Venus\, TX\, 76084\, United States
ATTACH;FMTTYPE=image/jpeg:https://helpmegrownorthtexas.org/wp-content/uploads/2024/04/dac2bf3c14f40de55d274dbfc12fd2b5.jpg
END:VEVENT
BEGIN:VEVENT
DTSTART;TZID=America/Chicago:20240607T100000
DTEND;TZID=America/Chicago:20240607T113000
DTSTAMP:20260420T181217
CREATED:20240513T205356Z
LAST-MODIFIED:20240513T205356Z
UID:106350-1717754400-1717759800@helpmegrownorthtexas.org
SUMMARY:Face to Face Pop n Play- Rice
DESCRIPTION:Come join us!
URL:https://helpmegrownorthtexas.org/event/face-to-face-pop-n-play-rice-2/
LOCATION:305 Dallas St\, 305 Dallas Street\, Rice\, TX\, 75155\, United States
ATTACH;FMTTYPE=image/jpeg:https://helpmegrownorthtexas.org/wp-content/uploads/2024/05/4c6a3db93e8577c01c0308364c3e65c5.jpg
END:VEVENT
BEGIN:VEVENT
DTSTART;TZID=America/Chicago:20240607T110000
DTEND;TZID=America/Chicago:20240607T120000
DTSTAMP:20260420T181217
CREATED:20240411T004139Z
LAST-MODIFIED:20240424T182012Z
UID:106152-1717758000-1717761600@helpmegrownorthtexas.org
SUMMARY:Face to Face Healthy Eating and Reading at Keller (Spanish)
DESCRIPTION:¡Ven y únete a nosotros!
URL:https://helpmegrownorthtexas.org/event/face-to-face-healthy-eating-and-reading-at-keller-spanish-6/
LOCATION:North Clinic- Keller\, 6032 Innovation Way\, Keller\, TX\, 76244\, United States
ATTACH;FMTTYPE=image/jpeg:https://helpmegrownorthtexas.org/wp-content/uploads/2024/04/769b23263b77e428bd7de2e009cc14b0.jpg
END:VEVENT
BEGIN:VEVENT
DTSTART;TZID=America/Chicago:20240607T110000
DTEND;TZID=America/Chicago:20240607T120000
DTSTAMP:20260420T181217
CREATED:20240522T192412Z
LAST-MODIFIED:20240522T192412Z
UID:106418-1717758000-1717761600@helpmegrownorthtexas.org
SUMMARY:Virtual Nurturing Families Program
DESCRIPTION:Join Us!
URL:https://helpmegrownorthtexas.org/event/virtual-nurturing-families-program-23/
LOCATION:TX
ATTACH;FMTTYPE=image/jpeg:https://helpmegrownorthtexas.org/wp-content/uploads/2024/03/104557a3983a5b41424cd685e9664224.jpg
END:VEVENT
BEGIN:VEVENT
DTSTART;TZID=America/Chicago:20240607T130000
DTEND;TZID=America/Chicago:20240607T140000
DTSTAMP:20260420T181217
CREATED:20240411T004413Z
LAST-MODIFIED:20240424T182038Z
UID:106159-1717765200-1717768800@helpmegrownorthtexas.org
SUMMARY:Face to Face Pathways and Sensory Group at Keller
DESCRIPTION:Come Join us!
URL:https://helpmegrownorthtexas.org/event/face-to-face-pathways-and-sensory-group-at-keller-6/
LOCATION:North Clinic- Keller\, 6032 Innovation Way\, Keller\, TX\, 76244\, United States
ATTACH;FMTTYPE=image/jpeg:https://helpmegrownorthtexas.org/wp-content/uploads/2023/05/9793dbb843004c3f538f20512fbf2da4.jpg
END:VEVENT
BEGIN:VEVENT
DTSTART;TZID=America/Chicago:20240610T170000
DTEND;TZID=America/Chicago:20240610T180000
DTSTAMP:20260420T181217
CREATED:20240429T234855Z
LAST-MODIFIED:20240429T234855Z
UID:106302-1718038800-1718042400@helpmegrownorthtexas.org
SUMMARY:Virtual Nurturing Families Program
DESCRIPTION:Join Us!
URL:https://helpmegrownorthtexas.org/event/virtual-nurturing-families-program-16/
LOCATION:TX
ATTACH;FMTTYPE=image/jpeg:https://helpmegrownorthtexas.org/wp-content/uploads/2024/03/104557a3983a5b41424cd685e9664224.jpg
END:VEVENT
BEGIN:VEVENT
DTSTART;TZID=America/Chicago:20240610T170000
DTEND;TZID=America/Chicago:20240610T180000
DTSTAMP:20260420T181217
CREATED:20240530T135113Z
LAST-MODIFIED:20240530T135113Z
UID:106439-1718038800-1718042400@helpmegrownorthtexas.org
SUMMARY:Virtual Nurturing Families Program- Spanish
DESCRIPTION:¡Únete a nosotros!
URL:https://helpmegrownorthtexas.org/event/virtual-nurturing-families-program-spanish-16/
LOCATION:TX
ATTACH;FMTTYPE=image/jpeg:https://helpmegrownorthtexas.org/wp-content/uploads/2024/04/a7d3b7abd895fa810bfdf4202fbae3b8.jpg
END:VEVENT
BEGIN:VEVENT
DTSTART;TZID=America/Chicago:20240611T100000
DTEND;TZID=America/Chicago:20240611T110000
DTSTAMP:20260420T181217
CREATED:20240422T230441Z
LAST-MODIFIED:20240422T230441Z
UID:106192-1718100000-1718103600@helpmegrownorthtexas.org
SUMMARY:Face to Face Healthy Eating and Reading Group- Ennis
DESCRIPTION:Come Join us!
URL:https://helpmegrownorthtexas.org/event/face-to-face-healthy-eating-and-reading-group-ennis-4/
LOCATION:2 E Ennis Ave\, 2 East Ennis Avenue\, Ennis\, TX\, 75119\, United States
ATTACH;FMTTYPE=image/jpeg:https://helpmegrownorthtexas.org/wp-content/uploads/2024/04/ccd63cda13860716df50b2ae26824f94.jpg
END:VEVENT
BEGIN:VEVENT
DTSTART;TZID=America/Chicago:20240612T090000
DTEND;TZID=America/Chicago:20240612T100000
DTSTAMP:20260420T181217
CREATED:20240522T130212Z
LAST-MODIFIED:20240522T130212Z
UID:106411-1718182800-1718186400@helpmegrownorthtexas.org
SUMMARY:Face to Face Transition Group- Crowley
DESCRIPTION:Come join us!
URL:https://helpmegrownorthtexas.org/event/face-to-face-transition-group-crowley-10/
LOCATION:Crowley House of Hope\, 216 North Magnolia Street\, Crowley\, TX\, 76036\, United States
ATTACH;FMTTYPE=image/jpeg:https://helpmegrownorthtexas.org/wp-content/uploads/2024/05/64045e43bebbd926f905c2981cddfeb1.jpg
END:VEVENT
BEGIN:VEVENT
DTSTART;TZID=America/Chicago:20240612T100000
DTEND;TZID=America/Chicago:20240612T110000
DTSTAMP:20260420T181217
CREATED:20240429T234855Z
LAST-MODIFIED:20240522T192412Z
UID:106303-1718186400-1718190000@helpmegrownorthtexas.org
SUMMARY:Virtual Nurturing Families Program
DESCRIPTION:Join Us!
URL:https://helpmegrownorthtexas.org/event/virtual-nurturing-families-program-17/
LOCATION:TX
ATTACH;FMTTYPE=image/jpeg:https://helpmegrownorthtexas.org/wp-content/uploads/2024/03/104557a3983a5b41424cd685e9664224.jpg
END:VEVENT
BEGIN:VEVENT
DTSTART;TZID=America/Chicago:20240612T100000
DTEND;TZID=America/Chicago:20240612T110000
DTSTAMP:20260420T181217
CREATED:20240607T183717Z
LAST-MODIFIED:20240607T183717Z
UID:106443-1718186400-1718190000@helpmegrownorthtexas.org
SUMMARY:Virtual Happy Baby Happy Family
DESCRIPTION:Come Join us!
URL:https://helpmegrownorthtexas.org/event/virtual-happy-baby-happy-family/
LOCATION:TX
ATTACH;FMTTYPE=image/jpeg:https://helpmegrownorthtexas.org/wp-content/uploads/2023/05/6cb1bb3b9e763e6d178a4a090cb73eef.jpg
END:VEVENT
BEGIN:VEVENT
DTSTART;TZID=America/Chicago:20240612T113000
DTEND;TZID=America/Chicago:20240612T123000
DTSTAMP:20260420T181217
CREATED:20240513T213420Z
LAST-MODIFIED:20240513T213420Z
UID:106370-1718191800-1718195400@helpmegrownorthtexas.org
SUMMARY:Parent Training Sessions - Positive Behavior Interventions
DESCRIPTION:This virtual workshop will help families understand the reason for behavioral assessments and positive interventions with a focus on behaviors that serve a specific purpose for a student.  We will discuss using positive consequences versus punishment to change behavior\, as well as what IDEA 2004 says concerning positive behavior interventions.
URL:https://helpmegrownorthtexas.org/event/parent-training-sessions-positive-behavior-interventions/
LOCATION:TX
ATTACH;FMTTYPE=application/pdf:https://helpmegrownorthtexas.org/wp-content/uploads/2024/05/Parent-Training-Sessions-.-MHMR-collaboration-1.pdf
END:VEVENT
BEGIN:VEVENT
DTSTART;TZID=America/Chicago:20240613T100000
DTEND;TZID=America/Chicago:20240613T110000
DTSTAMP:20260420T181217
CREATED:20240422T230625Z
LAST-MODIFIED:20240424T182128Z
UID:106199-1718272800-1718276400@helpmegrownorthtexas.org
SUMMARY:Face to Face Little Sprouts- Venus
DESCRIPTION:Come Join us!
URL:https://helpmegrownorthtexas.org/event/face-to-face-little-sprouts-venus-3/
LOCATION:Joe A Hall High School & Community Library\, 12 Bulldog Drive\, Venus\, TX\, 76084\, United States
ATTACH;FMTTYPE=image/jpeg:https://helpmegrownorthtexas.org/wp-content/uploads/2024/04/dac2bf3c14f40de55d274dbfc12fd2b5.jpg
END:VEVENT
BEGIN:VEVENT
DTSTART;TZID=America/Chicago:20240613T130000
DTEND;TZID=America/Chicago:20240613T140000
DTSTAMP:20260420T181217
CREATED:20240522T192413Z
LAST-MODIFIED:20240522T192413Z
UID:106420-1718283600-1718287200@helpmegrownorthtexas.org
SUMMARY:Virtual Nurturing Families Program
DESCRIPTION:Join Us!
URL:https://helpmegrownorthtexas.org/event/virtual-nurturing-families-program-24/
LOCATION:TX
ATTACH;FMTTYPE=image/jpeg:https://helpmegrownorthtexas.org/wp-content/uploads/2024/03/104557a3983a5b41424cd685e9664224.jpg
END:VEVENT
BEGIN:VEVENT
DTSTART;TZID=America/Chicago:20240613T173000
DTEND;TZID=America/Chicago:20240613T190000
DTSTAMP:20260420T181217
CREATED:20240430T154230Z
LAST-MODIFIED:20240525T004500Z
UID:106326-1718299800-1718305200@helpmegrownorthtexas.org
SUMMARY:Face to Face #WoWTalk Café - Keller
DESCRIPTION:Come join us!!
URL:https://helpmegrownorthtexas.org/event/copy-of-face-to-face-wowtalk-cafe-keller/
LOCATION:North Clinic – Keller\, 6032 Innovation Way\, Keller\, TX\, 76244\, United States
ATTACH;FMTTYPE=application/pdf:https://helpmegrownorthtexas.org/wp-content/uploads/2024/04/WoWTalk-Keller.pdf
END:VEVENT
END:VCALENDAR