BEGIN:VCALENDAR
VERSION:2.0
PRODID:-//Help Me Grow North Texas - ECPv6.15.20//NONSGML v1.0//EN
CALSCALE:GREGORIAN
METHOD:PUBLISH
X-ORIGINAL-URL:https://helpmegrownorthtexas.org
X-WR-CALDESC:Events for Help Me Grow North Texas
REFRESH-INTERVAL;VALUE=DURATION:PT1H
X-Robots-Tag:noindex
X-PUBLISHED-TTL:PT1H
BEGIN:VTIMEZONE
TZID:America/Chicago
BEGIN:DAYLIGHT
TZOFFSETFROM:-0600
TZOFFSETTO:-0500
TZNAME:CDT
DTSTART:20230312T080000
END:DAYLIGHT
BEGIN:STANDARD
TZOFFSETFROM:-0500
TZOFFSETTO:-0600
TZNAME:CST
DTSTART:20231105T070000
END:STANDARD
BEGIN:DAYLIGHT
TZOFFSETFROM:-0600
TZOFFSETTO:-0500
TZNAME:CDT
DTSTART:20240310T080000
END:DAYLIGHT
BEGIN:STANDARD
TZOFFSETFROM:-0500
TZOFFSETTO:-0600
TZNAME:CST
DTSTART:20241103T070000
END:STANDARD
BEGIN:DAYLIGHT
TZOFFSETFROM:-0600
TZOFFSETTO:-0500
TZNAME:CDT
DTSTART:20250309T080000
END:DAYLIGHT
BEGIN:STANDARD
TZOFFSETFROM:-0500
TZOFFSETTO:-0600
TZNAME:CST
DTSTART:20251102T070000
END:STANDARD
END:VTIMEZONE
BEGIN:VEVENT
DTSTART;TZID=America/Chicago:20240516T173000
DTEND;TZID=America/Chicago:20240516T190000
DTSTAMP:20260420T142217
CREATED:20240430T000319Z
LAST-MODIFIED:20240430T000319Z
UID:106317-1715880600-1715886000@helpmegrownorthtexas.org
SUMMARY:Face to Face #WoWTalk Café- Keller
DESCRIPTION:Come join us!!
URL:https://helpmegrownorthtexas.org/event/face-to-face-wowtalk-cafe-keller-3/
LOCATION:TX
END:VEVENT
BEGIN:VEVENT
DTSTART;TZID=America/Chicago:20240517T090000
DTEND;TZID=America/Chicago:20240517T110000
DTSTAMP:20260420T142217
CREATED:20240411T001811Z
LAST-MODIFIED:20240424T181709Z
UID:106101-1715936400-1715943600@helpmegrownorthtexas.org
SUMMARY:Face to Face Parent Cafe- Waxahachie
DESCRIPTION:Come join us!!           ¡Ven y únete a nosotros!
URL:https://helpmegrownorthtexas.org/event/face-to-face-parent-cafe-waxahachie-3/
LOCATION:106 S Jackson St\, 106 South Jackson Street\, Waxahachie\, TX\, 75165\, United States
ATTACH;FMTTYPE=image/jpeg:https://helpmegrownorthtexas.org/wp-content/uploads/2024/04/85ff3eb84477741f5dd34d920d4d67ee.jpg
END:VEVENT
BEGIN:VEVENT
DTSTART;TZID=America/Chicago:20240517T103000
DTEND;TZID=America/Chicago:20240517T113000
DTSTAMP:20260420T142217
CREATED:20240422T230336Z
LAST-MODIFIED:20240429T235457Z
UID:106184-1715941800-1715945400@helpmegrownorthtexas.org
SUMMARY:Face to Face Healthy Eating and Reading Group- Fort Worth
DESCRIPTION:Come Join us!
URL:https://helpmegrownorthtexas.org/event/face-to-face-healthy-eating-and-reading-group-fort-worth-3/
LOCATION:Mental Health America of Greater Tarrant County\, 3136 West 4th Street\, Fort Worth\, TX\, 76107\, United States
ATTACH;FMTTYPE=image/jpeg:https://helpmegrownorthtexas.org/wp-content/uploads/2024/04/996061143a67acc243e5c62733d90333.jpg
END:VEVENT
BEGIN:VEVENT
DTSTART;TZID=America/Chicago:20240517T110000
DTEND;TZID=America/Chicago:20240517T120000
DTSTAMP:20260420T142217
CREATED:20240411T004139Z
LAST-MODIFIED:20240424T182012Z
UID:106149-1715943600-1715947200@helpmegrownorthtexas.org
SUMMARY:Face to Face Healthy Eating and Reading at Keller (Spanish)
DESCRIPTION:¡Ven y únete a nosotros!
URL:https://helpmegrownorthtexas.org/event/face-to-face-healthy-eating-and-reading-at-keller-spanish-3/
LOCATION:North Clinic- Keller\, 6032 Innovation Way\, Keller\, TX\, 76244\, United States
ATTACH;FMTTYPE=image/jpeg:https://helpmegrownorthtexas.org/wp-content/uploads/2024/04/769b23263b77e428bd7de2e009cc14b0.jpg
END:VEVENT
BEGIN:VEVENT
DTSTART;TZID=America/Chicago:20240517T130000
DTEND;TZID=America/Chicago:20240517T140000
DTSTAMP:20260420T142217
CREATED:20240411T004413Z
LAST-MODIFIED:20240424T182038Z
UID:106156-1715950800-1715954400@helpmegrownorthtexas.org
SUMMARY:Face to Face Pathways and Sensory Group at Keller
DESCRIPTION:Come Join us!
URL:https://helpmegrownorthtexas.org/event/face-to-face-pathways-and-sensory-group-at-keller-3/
LOCATION:North Clinic- Keller\, 6032 Innovation Way\, Keller\, TX\, 76244\, United States
ATTACH;FMTTYPE=image/jpeg:https://helpmegrownorthtexas.org/wp-content/uploads/2023/05/9793dbb843004c3f538f20512fbf2da4.jpg
END:VEVENT
BEGIN:VEVENT
DTSTART;TZID=America/Chicago:20240520T170000
DTEND;TZID=America/Chicago:20240520T180000
DTSTAMP:20260420T142217
CREATED:20240429T234854Z
LAST-MODIFIED:20240429T234854Z
UID:106299-1716224400-1716228000@helpmegrownorthtexas.org
SUMMARY:Virtual Nurturing Families Program
DESCRIPTION:Join Us!
URL:https://helpmegrownorthtexas.org/event/virtual-nurturing-families-program-13/
LOCATION:TX
ATTACH;FMTTYPE=image/jpeg:https://helpmegrownorthtexas.org/wp-content/uploads/2024/03/104557a3983a5b41424cd685e9664224.jpg
END:VEVENT
BEGIN:VEVENT
DTSTART;TZID=America/Chicago:20240521T093000
DTEND;TZID=America/Chicago:20240521T103000
DTSTAMP:20260420T142217
CREATED:20240411T003825Z
LAST-MODIFIED:20240424T181829Z
UID:106131-1716283800-1716287400@helpmegrownorthtexas.org
SUMMARY:Face to Face: Nurture Nature Exploration- North Richland Hills
DESCRIPTION:Come join us!
URL:https://helpmegrownorthtexas.org/event/face-to-face-nurture-nature-exploration-north-richland-hills-4/
LOCATION:Adventure World Playground\, 7451 Starnes Road\, North Richland Hills\, TX\, 76182\, United States
ATTACH;FMTTYPE=image/jpeg:https://helpmegrownorthtexas.org/wp-content/uploads/2024/04/96fb3b25bd7673c3bdd30fef16444875.jpg
END:VEVENT
BEGIN:VEVENT
DTSTART;TZID=America/Chicago:20240521T100000
DTEND;TZID=America/Chicago:20240521T110000
DTSTAMP:20260420T142217
CREATED:20240422T230439Z
LAST-MODIFIED:20240422T230439Z
UID:106188-1716285600-1716289200@helpmegrownorthtexas.org
SUMMARY:Face to Face Healthy Eating and Reading Group- Ennis
DESCRIPTION:Come Join us!
URL:https://helpmegrownorthtexas.org/event/face-to-face-healthy-eating-and-reading-group-ennis/
LOCATION:2 E Ennis Ave\, 2 East Ennis Avenue\, Ennis\, TX\, 75119\, United States
ATTACH;FMTTYPE=image/jpeg:https://helpmegrownorthtexas.org/wp-content/uploads/2024/04/ccd63cda13860716df50b2ae26824f94.jpg
END:VEVENT
BEGIN:VEVENT
DTSTART;TZID=America/Chicago:20240521T110000
DTEND;TZID=America/Chicago:20240521T120000
DTSTAMP:20260420T142217
CREATED:20240411T003942Z
LAST-MODIFIED:20240424T181855Z
UID:106138-1716289200-1716292800@helpmegrownorthtexas.org
SUMMARY:Face to Face Happy Baby Happy Family at Keller
DESCRIPTION:Come Join us!
URL:https://helpmegrownorthtexas.org/event/face-to-face-happy-baby-happy-family-at-keller-4/
LOCATION:North Clinic – Keller\, 6032 Innovation Way\, Keller\, TX\, 76244\, United States
ATTACH;FMTTYPE=image/jpeg:https://helpmegrownorthtexas.org/wp-content/uploads/2023/05/6cb1bb3b9e763e6d178a4a090cb73eef.jpg
END:VEVENT
BEGIN:VEVENT
DTSTART;TZID=America/Chicago:20240522T090000
DTEND;TZID=America/Chicago:20240522T100000
DTSTAMP:20260420T142217
CREATED:20240522T130209Z
LAST-MODIFIED:20240522T130209Z
UID:106407-1716368400-1716372000@helpmegrownorthtexas.org
SUMMARY:Face to Face Transition Group- Crowley
DESCRIPTION:Come join us!
URL:https://helpmegrownorthtexas.org/event/face-to-face-transition-group-crowley-7/
LOCATION:Crowley House of Hope\, 216 North Magnolia Street\, Crowley\, TX\, 76036\, United States
ATTACH;FMTTYPE=image/jpeg:https://helpmegrownorthtexas.org/wp-content/uploads/2024/05/64045e43bebbd926f905c2981cddfeb1.jpg
END:VEVENT
BEGIN:VEVENT
DTSTART;TZID=America/Chicago:20240524T103000
DTEND;TZID=America/Chicago:20240524T113000
DTSTAMP:20260420T142217
CREATED:20240422T230336Z
LAST-MODIFIED:20240429T235545Z
UID:106185-1716546600-1716550200@helpmegrownorthtexas.org
SUMMARY:Face to Face Healthy Eating and Reading Group- Fort Worth
DESCRIPTION:Come Join us!
URL:https://helpmegrownorthtexas.org/event/face-to-face-healthy-eating-and-reading-group-fort-worth-4/
LOCATION:Mental Health America of Greater Tarrant County\, 3136 West 4th Street\, Fort Worth\, TX\, 76107\, United States
ATTACH;FMTTYPE=image/jpeg:https://helpmegrownorthtexas.org/wp-content/uploads/2024/04/996061143a67acc243e5c62733d90333.jpg
END:VEVENT
BEGIN:VEVENT
DTSTART;TZID=America/Chicago:20240524T110000
DTEND;TZID=America/Chicago:20240524T120000
DTSTAMP:20260420T142217
CREATED:20240411T004139Z
LAST-MODIFIED:20240424T182012Z
UID:106150-1716548400-1716552000@helpmegrownorthtexas.org
SUMMARY:Face to Face Healthy Eating and Reading at Keller (Spanish)
DESCRIPTION:¡Ven y únete a nosotros!
URL:https://helpmegrownorthtexas.org/event/face-to-face-healthy-eating-and-reading-at-keller-spanish-4/
LOCATION:North Clinic- Keller\, 6032 Innovation Way\, Keller\, TX\, 76244\, United States
ATTACH;FMTTYPE=image/jpeg:https://helpmegrownorthtexas.org/wp-content/uploads/2024/04/769b23263b77e428bd7de2e009cc14b0.jpg
END:VEVENT
BEGIN:VEVENT
DTSTART;TZID=America/Chicago:20240524T130000
DTEND;TZID=America/Chicago:20240524T140000
DTSTAMP:20260420T142217
CREATED:20240411T004413Z
LAST-MODIFIED:20240424T182038Z
UID:106157-1716555600-1716559200@helpmegrownorthtexas.org
SUMMARY:Face to Face Pathways and Sensory Group at Keller
DESCRIPTION:Come Join us!
URL:https://helpmegrownorthtexas.org/event/face-to-face-pathways-and-sensory-group-at-keller-4/
LOCATION:North Clinic- Keller\, 6032 Innovation Way\, Keller\, TX\, 76244\, United States
ATTACH;FMTTYPE=image/jpeg:https://helpmegrownorthtexas.org/wp-content/uploads/2023/05/9793dbb843004c3f538f20512fbf2da4.jpg
END:VEVENT
BEGIN:VEVENT
DTSTART;TZID=America/Chicago:20240527T170000
DTEND;TZID=America/Chicago:20240527T180000
DTSTAMP:20260420T142217
CREATED:20240429T234854Z
LAST-MODIFIED:20240429T234854Z
UID:106300-1716829200-1716832800@helpmegrownorthtexas.org
SUMMARY:Virtual Nurturing Families Program
DESCRIPTION:Join Us!
URL:https://helpmegrownorthtexas.org/event/virtual-nurturing-families-program-14/
LOCATION:TX
ATTACH;FMTTYPE=image/jpeg:https://helpmegrownorthtexas.org/wp-content/uploads/2024/03/104557a3983a5b41424cd685e9664224.jpg
END:VEVENT
BEGIN:VEVENT
DTSTART;TZID=America/Chicago:20240528T093000
DTEND;TZID=America/Chicago:20240528T103000
DTSTAMP:20260420T142217
CREATED:20240411T003825Z
LAST-MODIFIED:20240424T181830Z
UID:106132-1716888600-1716892200@helpmegrownorthtexas.org
SUMMARY:Face to Face: Nurture Nature Exploration- North Richland Hills
DESCRIPTION:Come join us!
URL:https://helpmegrownorthtexas.org/event/face-to-face-nurture-nature-exploration-north-richland-hills-5/
LOCATION:Adventure World Playground\, 7451 Starnes Road\, North Richland Hills\, TX\, 76182\, United States
ATTACH;FMTTYPE=image/jpeg:https://helpmegrownorthtexas.org/wp-content/uploads/2024/04/96fb3b25bd7673c3bdd30fef16444875.jpg
END:VEVENT
BEGIN:VEVENT
DTSTART;TZID=America/Chicago:20240528T100000
DTEND;TZID=America/Chicago:20240528T110000
DTSTAMP:20260420T142217
CREATED:20240422T230441Z
LAST-MODIFIED:20240422T230441Z
UID:106190-1716890400-1716894000@helpmegrownorthtexas.org
SUMMARY:Face to Face Healthy Eating and Reading Group- Ennis
DESCRIPTION:Come Join us!
URL:https://helpmegrownorthtexas.org/event/face-to-face-healthy-eating-and-reading-group-ennis-2/
LOCATION:2 E Ennis Ave\, 2 East Ennis Avenue\, Ennis\, TX\, 75119\, United States
ATTACH;FMTTYPE=image/jpeg:https://helpmegrownorthtexas.org/wp-content/uploads/2024/04/ccd63cda13860716df50b2ae26824f94.jpg
END:VEVENT
BEGIN:VEVENT
DTSTART;TZID=America/Chicago:20240528T100000
DTEND;TZID=America/Chicago:20240528T110000
DTSTAMP:20260420T142217
CREATED:20240522T192446Z
LAST-MODIFIED:20240522T192446Z
UID:106430-1716890400-1716894000@helpmegrownorthtexas.org
SUMMARY:Face to Face Nurturing Families Program-Fort Worth
DESCRIPTION:Come join us!
URL:https://helpmegrownorthtexas.org/event/face-to-face-nurturing-families-program-fort-worth-19/
LOCATION:Mental Health America of Greater Tarrant County\, 3136 West 4th Street\, Fort Worth\, TX\, 76107\, United States
ATTACH;FMTTYPE=image/jpeg:https://helpmegrownorthtexas.org/wp-content/uploads/2024/04/2b64abcf585c000ed155c826c3c9aca0.jpg
END:VEVENT
BEGIN:VEVENT
DTSTART;TZID=America/Chicago:20240528T110000
DTEND;TZID=America/Chicago:20240528T120000
DTSTAMP:20260420T142217
CREATED:20240411T003942Z
LAST-MODIFIED:20240424T181855Z
UID:106139-1716894000-1716897600@helpmegrownorthtexas.org
SUMMARY:Face to Face Happy Baby Happy Family at Keller
DESCRIPTION:Come Join us!
URL:https://helpmegrownorthtexas.org/event/face-to-face-happy-baby-happy-family-at-keller-5/
LOCATION:North Clinic – Keller\, 6032 Innovation Way\, Keller\, TX\, 76244\, United States
ATTACH;FMTTYPE=image/jpeg:https://helpmegrownorthtexas.org/wp-content/uploads/2023/05/6cb1bb3b9e763e6d178a4a090cb73eef.jpg
END:VEVENT
BEGIN:VEVENT
DTSTART;TZID=America/Chicago:20240528T170000
DTEND;TZID=America/Chicago:20240528T180000
DTSTAMP:20260420T142217
CREATED:20240522T192412Z
LAST-MODIFIED:20240522T192412Z
UID:106415-1716915600-1716919200@helpmegrownorthtexas.org
SUMMARY:Virtual Nurturing Families Program
DESCRIPTION:Join Us!
URL:https://helpmegrownorthtexas.org/event/virtual-nurturing-families-program-21/
LOCATION:TX
ATTACH;FMTTYPE=image/jpeg:https://helpmegrownorthtexas.org/wp-content/uploads/2024/03/104557a3983a5b41424cd685e9664224.jpg
END:VEVENT
BEGIN:VEVENT
DTSTART;TZID=America/Chicago:20240528T173000
DTEND;TZID=America/Chicago:20240528T190000
DTSTAMP:20260420T142217
CREATED:20240513T205010Z
LAST-MODIFIED:20240513T205010Z
UID:106342-1716917400-1716922800@helpmegrownorthtexas.org
SUMMARY:Face to Face #WoWTalk Cafe- Arlington
DESCRIPTION:Come join us!!
URL:https://helpmegrownorthtexas.org/event/face-to-face-wowtalk-cafe-arlington-2/
LOCATION:401 W Sanford St\, 401 West Sanford Street\, Arlington\, TX\, 76011\, United States
ATTACH;FMTTYPE=image/jpeg:https://helpmegrownorthtexas.org/wp-content/uploads/2024/05/513cbe9ac4686978bfd9240c4dcdbf91.jpg
END:VEVENT
BEGIN:VEVENT
DTSTART;TZID=America/Chicago:20240529T090000
DTEND;TZID=America/Chicago:20240529T100000
DTSTAMP:20260420T142217
CREATED:20240522T130212Z
LAST-MODIFIED:20240522T130212Z
UID:106409-1716973200-1716976800@helpmegrownorthtexas.org
SUMMARY:Face to Face Transition Group- Crowley
DESCRIPTION:Come join us!
URL:https://helpmegrownorthtexas.org/event/face-to-face-transition-group-crowley-8/
LOCATION:Crowley House of Hope\, 216 North Magnolia Street\, Crowley\, TX\, 76036\, United States
ATTACH;FMTTYPE=image/jpeg:https://helpmegrownorthtexas.org/wp-content/uploads/2024/05/64045e43bebbd926f905c2981cddfeb1.jpg
END:VEVENT
BEGIN:VEVENT
DTSTART;TZID=America/Chicago:20240529T090000
DTEND;TZID=America/Chicago:20240529T110000
DTSTAMP:20260420T142217
CREATED:20240520T231539Z
LAST-MODIFIED:20240520T231539Z
UID:106382-1716973200-1716980400@helpmegrownorthtexas.org
SUMMARY:Virtual Mothers and Babies Group
DESCRIPTION:Join Us!
URL:https://helpmegrownorthtexas.org/event/virtual-mothers-and-babies-group/
LOCATION:TX
ATTACH;FMTTYPE=image/jpeg:https://helpmegrownorthtexas.org/wp-content/uploads/2024/05/35eb9de53b9ffef53256359d9281a882.jpg
END:VEVENT
BEGIN:VEVENT
DTSTART;TZID=America/Chicago:20240529T120000
DTEND;TZID=America/Chicago:20240529T140000
DTSTAMP:20260420T142217
CREATED:20240520T231626Z
LAST-MODIFIED:20240520T231626Z
UID:106385-1716984000-1716991200@helpmegrownorthtexas.org
SUMMARY:Curso de Madres y Bebes
DESCRIPTION:¡Únete a nosotros!
URL:https://helpmegrownorthtexas.org/event/curso-de-madres-y-bebes/
LOCATION:TX
ATTACH;FMTTYPE=image/jpeg:https://helpmegrownorthtexas.org/wp-content/uploads/2024/03/a7834e33a08a85fce6a9f86289d57528.jpg
END:VEVENT
BEGIN:VEVENT
DTSTART;TZID=America/Chicago:20240530T100000
DTEND;TZID=America/Chicago:20240530T110000
DTSTAMP:20260420T142217
CREATED:20240422T230623Z
LAST-MODIFIED:20240424T182128Z
UID:106196-1717063200-1717066800@helpmegrownorthtexas.org
SUMMARY:Face to Face Little Sprouts- Venus
DESCRIPTION:Come Join us!
URL:https://helpmegrownorthtexas.org/event/face-to-face-little-sprouts-venus/
LOCATION:Joe A Hall High School & Community Library\, 12 Bulldog Drive\, Venus\, TX\, 76084\, United States
ATTACH;FMTTYPE=image/jpeg:https://helpmegrownorthtexas.org/wp-content/uploads/2024/04/dac2bf3c14f40de55d274dbfc12fd2b5.jpg
END:VEVENT
BEGIN:VEVENT
DTSTART;TZID=America/Chicago:20240530T173000
DTEND;TZID=America/Chicago:20240530T193000
DTSTAMP:20260420T142217
CREATED:20240513T205243Z
LAST-MODIFIED:20240513T205243Z
UID:106345-1717090200-1717097400@helpmegrownorthtexas.org
SUMMARY:Face to Face Journey to Vitality Cafe- Grief and Loss
DESCRIPTION:Come and join us!
URL:https://helpmegrownorthtexas.org/event/face-to-face-journey-to-vitality-cafe-grief-and-loss/
LOCATION:Mental Health America of Greater Tarrant County\, 3136 West 4th Street\, Fort Worth\, TX\, 76107\, United States
ATTACH;FMTTYPE=image/jpeg:https://helpmegrownorthtexas.org/wp-content/uploads/2024/05/d67edb19f107750e04fd5c819f3bf379.jpg
END:VEVENT
BEGIN:VEVENT
DTSTART;TZID=America/Chicago:20240531T100000
DTEND;TZID=America/Chicago:20240531T113000
DTSTAMP:20260420T142217
CREATED:20240513T205353Z
LAST-MODIFIED:20240513T205353Z
UID:106348-1717149600-1717155000@helpmegrownorthtexas.org
SUMMARY:Face to Face Pop n Play- Rice
DESCRIPTION:Come join us!
URL:https://helpmegrownorthtexas.org/event/face-to-face-pop-n-play-rice/
LOCATION:305 Dallas St\, 305 Dallas Street\, Rice\, TX\, 75155\, United States
ATTACH;FMTTYPE=image/jpeg:https://helpmegrownorthtexas.org/wp-content/uploads/2024/05/4c6a3db93e8577c01c0308364c3e65c5.jpg
END:VEVENT
BEGIN:VEVENT
DTSTART;TZID=America/Chicago:20240531T103000
DTEND;TZID=America/Chicago:20240531T113000
DTSTAMP:20260420T142217
CREATED:20240422T230336Z
LAST-MODIFIED:20240429T235634Z
UID:106186-1717151400-1717155000@helpmegrownorthtexas.org
SUMMARY:Face to Face Healthy Eating and Reading Group- Fort Worth
DESCRIPTION:Come Join us!
URL:https://helpmegrownorthtexas.org/event/face-to-face-healthy-eating-and-reading-group-fort-worth-5/
LOCATION:Mental Health America of Greater Tarrant County\, 3136 West 4th Street\, Fort Worth\, TX\, 76107\, United States
ATTACH;FMTTYPE=image/jpeg:https://helpmegrownorthtexas.org/wp-content/uploads/2024/04/996061143a67acc243e5c62733d90333.jpg
END:VEVENT
BEGIN:VEVENT
DTSTART;TZID=America/Chicago:20240531T110000
DTEND;TZID=America/Chicago:20240531T120000
DTSTAMP:20260420T142217
CREATED:20240411T004139Z
LAST-MODIFIED:20240424T182012Z
UID:106151-1717153200-1717156800@helpmegrownorthtexas.org
SUMMARY:Face to Face Healthy Eating and Reading at Keller (Spanish)
DESCRIPTION:¡Ven y únete a nosotros!
URL:https://helpmegrownorthtexas.org/event/face-to-face-healthy-eating-and-reading-at-keller-spanish-5/
LOCATION:North Clinic- Keller\, 6032 Innovation Way\, Keller\, TX\, 76244\, United States
ATTACH;FMTTYPE=image/jpeg:https://helpmegrownorthtexas.org/wp-content/uploads/2024/04/769b23263b77e428bd7de2e009cc14b0.jpg
END:VEVENT
BEGIN:VEVENT
DTSTART;TZID=America/Chicago:20240531T110000
DTEND;TZID=America/Chicago:20240531T120000
DTSTAMP:20260420T142217
CREATED:20240522T192412Z
LAST-MODIFIED:20240522T192412Z
UID:106416-1717153200-1717156800@helpmegrownorthtexas.org
SUMMARY:Virtual Nurturing Families Program
DESCRIPTION:Join Us!
URL:https://helpmegrownorthtexas.org/event/virtual-nurturing-families-program-22/
LOCATION:TX
ATTACH;FMTTYPE=image/jpeg:https://helpmegrownorthtexas.org/wp-content/uploads/2024/03/104557a3983a5b41424cd685e9664224.jpg
END:VEVENT
BEGIN:VEVENT
DTSTART;TZID=America/Chicago:20240531T130000
DTEND;TZID=America/Chicago:20240531T140000
DTSTAMP:20260420T142217
CREATED:20240411T004413Z
LAST-MODIFIED:20240424T182038Z
UID:106158-1717160400-1717164000@helpmegrownorthtexas.org
SUMMARY:Face to Face Pathways and Sensory Group at Keller
DESCRIPTION:Come Join us!
URL:https://helpmegrownorthtexas.org/event/face-to-face-pathways-and-sensory-group-at-keller-5/
LOCATION:North Clinic- Keller\, 6032 Innovation Way\, Keller\, TX\, 76244\, United States
ATTACH;FMTTYPE=image/jpeg:https://helpmegrownorthtexas.org/wp-content/uploads/2023/05/9793dbb843004c3f538f20512fbf2da4.jpg
END:VEVENT
END:VCALENDAR