BEGIN:VCALENDAR
VERSION:2.0
PRODID:-//Help Me Grow North Texas - ECPv6.15.20//NONSGML v1.0//EN
CALSCALE:GREGORIAN
METHOD:PUBLISH
X-ORIGINAL-URL:https://helpmegrownorthtexas.org
X-WR-CALDESC:Events for Help Me Grow North Texas
REFRESH-INTERVAL;VALUE=DURATION:PT1H
X-Robots-Tag:noindex
X-PUBLISHED-TTL:PT1H
BEGIN:VTIMEZONE
TZID:America/Chicago
BEGIN:DAYLIGHT
TZOFFSETFROM:-0600
TZOFFSETTO:-0500
TZNAME:CDT
DTSTART:20230312T080000
END:DAYLIGHT
BEGIN:STANDARD
TZOFFSETFROM:-0500
TZOFFSETTO:-0600
TZNAME:CST
DTSTART:20231105T070000
END:STANDARD
BEGIN:DAYLIGHT
TZOFFSETFROM:-0600
TZOFFSETTO:-0500
TZNAME:CDT
DTSTART:20240310T080000
END:DAYLIGHT
BEGIN:STANDARD
TZOFFSETFROM:-0500
TZOFFSETTO:-0600
TZNAME:CST
DTSTART:20241103T070000
END:STANDARD
BEGIN:DAYLIGHT
TZOFFSETFROM:-0600
TZOFFSETTO:-0500
TZNAME:CDT
DTSTART:20250309T080000
END:DAYLIGHT
BEGIN:STANDARD
TZOFFSETFROM:-0500
TZOFFSETTO:-0600
TZNAME:CST
DTSTART:20251102T070000
END:STANDARD
END:VTIMEZONE
BEGIN:VEVENT
DTSTART;TZID=America/Chicago:20240417T100000
DTEND;TZID=America/Chicago:20240417T113000
DTSTAMP:20260419T234941
CREATED:20240319T125834Z
LAST-MODIFIED:20240319T125834Z
UID:105998-1713348000-1713353400@helpmegrownorthtexas.org
SUMMARY:Virtual Nurturing Families Program
DESCRIPTION:Join Us!
URL:https://helpmegrownorthtexas.org/event/virtual-nurturing-families-program-12/
ATTACH;FMTTYPE=image/jpeg:https://helpmegrownorthtexas.org/wp-content/uploads/2024/03/104557a3983a5b41424cd685e9664224.jpg
END:VEVENT
BEGIN:VEVENT
DTSTART;TZID=America/Chicago:20240418T090000
DTEND;TZID=America/Chicago:20240418T100000
DTSTAMP:20260419T234941
CREATED:20240319T125249Z
LAST-MODIFIED:20240319T125320Z
UID:105970-1713430800-1713434400@helpmegrownorthtexas.org
SUMMARY:Face to Face Play with Me - Serve Lewisville
DESCRIPTION:Come Join us!
URL:https://helpmegrownorthtexas.org/event/face-to-face-play-with-me-serve-lewisville-5/
LOCATION:Serve Lewisville\, 1001 Edmonds Lane\, Lewisville\, TX\, 75067\, United States
ATTACH;FMTTYPE=image/jpeg:https://helpmegrownorthtexas.org/wp-content/uploads/2024/01/84c3fc838b181f0a26f2458ace4f2846.jpg
END:VEVENT
BEGIN:VEVENT
DTSTART;TZID=America/Chicago:20240418T103000
DTEND;TZID=America/Chicago:20240418T113000
DTSTAMP:20260419T234941
CREATED:20240319T125428Z
LAST-MODIFIED:20240319T125428Z
UID:105983-1713436200-1713439800@helpmegrownorthtexas.org
SUMMARY:Face to Face Little Sprouts- Serve Lewisville
DESCRIPTION:Come Join us!
URL:https://helpmegrownorthtexas.org/event/face-to-face-little-sprouts-serve-lewisville-9/
LOCATION:Serve Lewisville\, 1001 Edmonds Lane\, Lewisville\, TX\, 75067\, United States
ATTACH;FMTTYPE=image/jpeg:https://helpmegrownorthtexas.org/wp-content/uploads/2024/01/84c3fc838b181f0a26f2458ace4f2846.jpg
END:VEVENT
BEGIN:VEVENT
DTSTART;TZID=America/Chicago:20240418T110000
DTEND;TZID=America/Chicago:20240418T120000
DTSTAMP:20260419T234941
CREATED:20240305T204201Z
LAST-MODIFIED:20240305T204201Z
UID:105931-1713438000-1713441600@helpmegrownorthtexas.org
SUMMARY:Face to Face Transition Group- Rice
DESCRIPTION:Come join us!
URL:https://helpmegrownorthtexas.org/event/face-to-face-transition-group-rice-3/
LOCATION:305 Dallas St\, 305 Dallas Street\, Rice\, TX\, 75155\, United States
ATTACH;FMTTYPE=image/jpeg:https://helpmegrownorthtexas.org/wp-content/uploads/2024/03/98c8579ec19039f691c4f0b2feb9fa3e.jpg
END:VEVENT
BEGIN:VEVENT
DTSTART;TZID=America/Chicago:20240418T160000
DTEND;TZID=America/Chicago:20240418T170000
DTSTAMP:20260419T234941
CREATED:20240319T130006Z
LAST-MODIFIED:20240319T130006Z
UID:106003-1713456000-1713459600@helpmegrownorthtexas.org
SUMMARY:Face to Face All the Feels Groups- Ennis
DESCRIPTION:Come join us!
URL:https://helpmegrownorthtexas.org/event/face-to-face-all-the-feels-groups-ennis-3/
LOCATION:2 E Ennis Ave\, 2 East Ennis Avenue\, Ennis\, TX\, 75119\, United States
ATTACH;FMTTYPE=image/jpeg:https://helpmegrownorthtexas.org/wp-content/uploads/2024/03/d7ff41bf60547baa2a3bd259bb2c5f2a.jpg
END:VEVENT
BEGIN:VEVENT
DTSTART;TZID=America/Chicago:20240418T173000
DTEND;TZID=America/Chicago:20240418T190000
DTSTAMP:20260419T234941
CREATED:20240325T183243Z
LAST-MODIFIED:20240325T183243Z
UID:106037-1713461400-1713466800@helpmegrownorthtexas.org
SUMMARY:Face to Face #WoWTalk Café- Keller
DESCRIPTION:Come join us!!
URL:https://helpmegrownorthtexas.org/event/face-to-face-wowtalk-cafe-keller-2/
LOCATION:North Clinic – Keller\, 6032 Innovation Way\, Keller\, TX\, 76244\, United States
ATTACH;FMTTYPE=image/jpeg:https://helpmegrownorthtexas.org/wp-content/uploads/2024/03/e9f8f16a9753bffa594db6f5267a74cb.jpg
END:VEVENT
BEGIN:VEVENT
DTSTART;TZID=America/Chicago:20240419T090000
DTEND;TZID=America/Chicago:20240419T110000
DTSTAMP:20260419T234941
CREATED:20240411T001808Z
LAST-MODIFIED:20240411T001808Z
UID:106098-1713517200-1713524400@helpmegrownorthtexas.org
SUMMARY:Face to Face Parent Cafe- Waxahachie
DESCRIPTION:Come join us!!           ¡Ven y únete a nosotros!
URL:https://helpmegrownorthtexas.org/event/face-to-face-parent-cafe-waxahachie/
LOCATION:106 S Jackson St\, 106 South Jackson Street\, Waxahachie\, TX\, 75165\, United States
ATTACH;FMTTYPE=image/jpeg:https://helpmegrownorthtexas.org/wp-content/uploads/2024/04/85ff3eb84477741f5dd34d920d4d67ee.jpg
END:VEVENT
BEGIN:VEVENT
DTSTART;TZID=America/Chicago:20240419T100000
DTEND;TZID=America/Chicago:20240419T110000
DTSTAMP:20260419T234941
CREATED:20240305T204302Z
LAST-MODIFIED:20240319T130152Z
UID:105939-1713520800-1713524400@helpmegrownorthtexas.org
SUMMARY:Face to Face GLOW Cooking Group- Venus
DESCRIPTION:Come Join us!
URL:https://helpmegrownorthtexas.org/event/face-to-face-glow-cooking-group-venus-3/
LOCATION:Joe A Hall High School & Community Library\, 12 Bulldog Drive\, Venus\, TX\, 76084\, United States
ATTACH;FMTTYPE=image/jpeg:https://helpmegrownorthtexas.org/wp-content/uploads/2024/03/6e8c98f150589d8d8bedac32dc84d07e.jpg
END:VEVENT
BEGIN:VEVENT
DTSTART;TZID=America/Chicago:20240419T140000
DTEND;TZID=America/Chicago:20240419T150000
DTSTAMP:20260419T234941
CREATED:20240305T003423Z
LAST-MODIFIED:20240305T003423Z
UID:105924-1713535200-1713538800@helpmegrownorthtexas.org
SUMMARY:Face to Face Sensory Group- Keller
DESCRIPTION:Come join us!
URL:https://helpmegrownorthtexas.org/event/face-to-face-sensory-group-keller-6/
LOCATION:North Clinic – Keller\, 6032 Innovation Way\, Keller\, TX\, 76244\, United States
ATTACH;FMTTYPE=image/jpeg:https://helpmegrownorthtexas.org/wp-content/uploads/2024/03/60e64cb90495e7c316301ee4b155a374.jpg
END:VEVENT
BEGIN:VEVENT
DTSTART;TZID=America/Chicago:20240422T123000
DTEND;TZID=America/Chicago:20240422T143000
DTSTAMP:20260419T234941
CREATED:20240305T002534Z
LAST-MODIFIED:20240305T002534Z
UID:105893-1713789000-1713796200@helpmegrownorthtexas.org
SUMMARY:Cara a Cara Curso de Madres y Bebes
DESCRIPTION:¡Únete a nosotros!
URL:https://helpmegrownorthtexas.org/event/cara-a-cara-curso-de-madres-y-bebes-6/
LOCATION:Metroplex Women’s Center\, 7603 US Hwy 287 N Frontage Road\, Arlington\, TX\, 76001\, United States
ATTACH;FMTTYPE=image/jpeg:https://helpmegrownorthtexas.org/wp-content/uploads/2024/03/a7834e33a08a85fce6a9f86289d57528.jpg
END:VEVENT
BEGIN:VEVENT
DTSTART;TZID=America/Chicago:20240422T170000
DTEND;TZID=America/Chicago:20240422T183000
DTSTAMP:20260419T234941
CREATED:20240411T002701Z
LAST-MODIFIED:20240411T002728Z
UID:106104-1713805200-1713810600@helpmegrownorthtexas.org
SUMMARY:Virtual Nurturing Families Program -Spanish
DESCRIPTION:¡Únete a nosotros!
URL:https://helpmegrownorthtexas.org/event/virtual-nurturing-families-program-spanish-13/
ATTACH;FMTTYPE=image/jpeg:https://helpmegrownorthtexas.org/wp-content/uploads/2024/02/aa353e5a6f8b57766452381a3ab30ae8.jpg
END:VEVENT
BEGIN:VEVENT
DTSTART;TZID=America/Chicago:20240423T100000
DTEND;TZID=America/Chicago:20240423T110000
DTSTAMP:20260419T234941
CREATED:20240319T130310Z
LAST-MODIFIED:20240319T130310Z
UID:106018-1713866400-1713870000@helpmegrownorthtexas.org
SUMMARY:Face to Face Play with Me Group- Ennis
DESCRIPTION:Come join us!
URL:https://helpmegrownorthtexas.org/event/face-to-face-play-with-me-group-ennis-3/
LOCATION:Ennis Welcome Center\, 201 Northwest Main\, Ennis\, TX\, 75119\, United States
ATTACH;FMTTYPE=image/jpeg:https://helpmegrownorthtexas.org/wp-content/uploads/2024/03/ed7fbd4aba24013b62679a9fcedf38ad.jpg
END:VEVENT
BEGIN:VEVENT
DTSTART;TZID=America/Chicago:20240423T100000
DTEND;TZID=America/Chicago:20240423T110000
DTSTAMP:20260419T234941
CREATED:20240411T003505Z
LAST-MODIFIED:20240411T003505Z
UID:106117-1713866400-1713870000@helpmegrownorthtexas.org
SUMMARY:Face to Face Nurturing Families Program-Fort Worth
DESCRIPTION:Come join us!
URL:https://helpmegrownorthtexas.org/event/face-to-face-nurturing-families-program-fort-worth-7/
LOCATION:Mental Health America of Greater Tarrant County\, 3136 West 4th Street\, Fort Worth\, TX\, 76107\, United States
ATTACH;FMTTYPE=image/jpeg:https://helpmegrownorthtexas.org/wp-content/uploads/2024/04/2b64abcf585c000ed155c826c3c9aca0.jpg
END:VEVENT
BEGIN:VEVENT
DTSTART;TZID=America/Chicago:20240423T110000
DTEND;TZID=America/Chicago:20240423T120000
DTSTAMP:20260419T234941
CREATED:20240305T002220Z
LAST-MODIFIED:20240305T002220Z
UID:105871-1713870000-1713873600@helpmegrownorthtexas.org
SUMMARY:Face to Face Music and Motion Group- Mineral Wells
DESCRIPTION:Come Join Us!!
URL:https://helpmegrownorthtexas.org/event/face-to-face-music-and-motion-group-mineral-wells-8/
LOCATION:Grace House Pregnancy Center\, 400 Southeast 1st Street\, Mineral Wells\, TX\, 76067\, United States
ATTACH;FMTTYPE=image/jpeg:https://helpmegrownorthtexas.org/wp-content/uploads/2024/03/8a4f3001d102eb1ab6fb777e48105b64.jpg
END:VEVENT
BEGIN:VEVENT
DTSTART;TZID=America/Chicago:20240423T180000
DTEND;TZID=America/Chicago:20240423T193000
DTSTAMP:20260419T234941
CREATED:20240411T003713Z
LAST-MODIFIED:20240411T003713Z
UID:106123-1713895200-1713900600@helpmegrownorthtexas.org
SUMMARY:Face to Face #WOWTalk Cafe- MLK Fort Worth
DESCRIPTION:Come and join us!
URL:https://helpmegrownorthtexas.org/event/face-to-face-wowtalk-cafe-mlk-fort-worth-3/
LOCATION:Martin Luther King Community Center\, 5565 Truman Drive\, Fort Worth\, TX\, 76112\, United States
ATTACH;FMTTYPE=image/jpeg:https://helpmegrownorthtexas.org/wp-content/uploads/2024/04/a5ba9511950cba721df2696543a942bd.jpg
END:VEVENT
BEGIN:VEVENT
DTSTART;TZID=America/Chicago:20240424T090000
DTEND;TZID=America/Chicago:20240424T100000
DTSTAMP:20260419T234941
CREATED:20240319T125711Z
LAST-MODIFIED:20240319T125711Z
UID:105991-1713949200-1713952800@helpmegrownorthtexas.org
SUMMARY:Face to Face Little Sprouts Group- Crowley
DESCRIPTION:Come join us!
URL:https://helpmegrownorthtexas.org/event/face-to-face-little-sprouts-group-crowley-4/
LOCATION:Crowley House of Hope\, 216 North Magnolia Street\, Crowley\, TX\, 76036\, United States
ATTACH;FMTTYPE=image/jpeg:https://helpmegrownorthtexas.org/wp-content/uploads/2024/03/6321d09d31498b93593828fce29abcc0.jpg
END:VEVENT
BEGIN:VEVENT
DTSTART;TZID=America/Chicago:20240424T100000
DTEND;TZID=America/Chicago:20240424T110000
DTSTAMP:20260419T234941
CREATED:20240411T003104Z
LAST-MODIFIED:20240411T003104Z
UID:106114-1713952800-1713956400@helpmegrownorthtexas.org
SUMMARY:Virtual Music and Motion - Spanish
DESCRIPTION:¡Ven y únete a nosotros!
URL:https://helpmegrownorthtexas.org/event/virtual-music-and-motion-spanish-2/
ATTACH;FMTTYPE=image/jpeg:https://helpmegrownorthtexas.org/wp-content/uploads/2024/04/d3dc9cd05e1c4553909441a4a98c704a.jpg
END:VEVENT
BEGIN:VEVENT
DTSTART;TZID=America/Chicago:20240424T173000
DTEND;TZID=America/Chicago:20240424T190000
DTSTAMP:20260419T234941
CREATED:20240422T230027Z
LAST-MODIFIED:20240424T181359Z
UID:106176-1713979800-1713985200@helpmegrownorthtexas.org
SUMMARY:Face to Face Nurturing Families Program- Fort Worth
DESCRIPTION:Join Us!
URL:https://helpmegrownorthtexas.org/event/face-to-face-nurturing-families-program-fort-worth-11/
LOCATION:MHMR of Tarrant County:  3136 W. 4th St.\, Fort Worth TX  76107\, 3136 West 4th Street\, Fort Worth\, TX\, 76107\, United States
ATTACH;FMTTYPE=image/jpeg:https://helpmegrownorthtexas.org/wp-content/uploads/2024/02/168a69acd684a24be38447b4a17e6b9f.jpg
END:VEVENT
BEGIN:VEVENT
DTSTART;TZID=America/Chicago:20240425T090000
DTEND;TZID=America/Chicago:20240425T100000
DTSTAMP:20260419T234941
CREATED:20240319T125320Z
LAST-MODIFIED:20240319T125320Z
UID:105977-1714035600-1714039200@helpmegrownorthtexas.org
SUMMARY:Face to Face Play with Me - Serve Lewisville
DESCRIPTION:Come Join us!
URL:https://helpmegrownorthtexas.org/event/face-to-face-play-with-me-serve-lewisville-6/
LOCATION:Serve Lewisville\, 1001 Edmonds Lane\, Lewisville\, TX\, 75067\, United States
ATTACH;FMTTYPE=image/jpeg:https://helpmegrownorthtexas.org/wp-content/uploads/2024/01/84c3fc838b181f0a26f2458ace4f2846.jpg
END:VEVENT
BEGIN:VEVENT
DTSTART;TZID=America/Chicago:20240425T103000
DTEND;TZID=America/Chicago:20240425T113000
DTSTAMP:20260419T234941
CREATED:20240319T125428Z
LAST-MODIFIED:20240319T125428Z
UID:105984-1714041000-1714044600@helpmegrownorthtexas.org
SUMMARY:Face to Face Little Sprouts- Serve Lewisville
DESCRIPTION:Come Join us!
URL:https://helpmegrownorthtexas.org/event/face-to-face-little-sprouts-serve-lewisville-10/
LOCATION:Serve Lewisville\, 1001 Edmonds Lane\, Lewisville\, TX\, 75067\, United States
ATTACH;FMTTYPE=image/jpeg:https://helpmegrownorthtexas.org/wp-content/uploads/2024/01/84c3fc838b181f0a26f2458ace4f2846.jpg
END:VEVENT
BEGIN:VEVENT
DTSTART;TZID=America/Chicago:20240425T110000
DTEND;TZID=America/Chicago:20240425T120000
DTSTAMP:20260419T234941
CREATED:20240305T204201Z
LAST-MODIFIED:20240424T181626Z
UID:105932-1714042800-1714046400@helpmegrownorthtexas.org
SUMMARY:Face to Face Transition Group- Rice
DESCRIPTION:Come join us!
URL:https://helpmegrownorthtexas.org/event/face-to-face-transition-group-rice-4/
LOCATION:305 Dallas St\, 305 Dallas Street\, Rice\, TX\, 75155\, United States
ATTACH;FMTTYPE=image/jpeg:https://helpmegrownorthtexas.org/wp-content/uploads/2024/03/98c8579ec19039f691c4f0b2feb9fa3e.jpg
END:VEVENT
BEGIN:VEVENT
DTSTART;TZID=America/Chicago:20240425T160000
DTEND;TZID=America/Chicago:20240425T170000
DTSTAMP:20260419T234941
CREATED:20240319T130006Z
LAST-MODIFIED:20240424T181646Z
UID:106004-1714060800-1714064400@helpmegrownorthtexas.org
SUMMARY:Face to Face All the Feels Groups- Ennis
DESCRIPTION:Come join us!
URL:https://helpmegrownorthtexas.org/event/face-to-face-all-the-feels-groups-ennis-4/
LOCATION:2 E Ennis Ave\, 2 East Ennis Avenue\, Ennis\, TX\, 75119\, United States
ATTACH;FMTTYPE=image/jpeg:https://helpmegrownorthtexas.org/wp-content/uploads/2024/03/d7ff41bf60547baa2a3bd259bb2c5f2a.jpg
END:VEVENT
BEGIN:VEVENT
DTSTART;TZID=America/Chicago:20240426T100000
DTEND;TZID=America/Chicago:20240426T110000
DTSTAMP:20260419T234941
CREATED:20240305T204303Z
LAST-MODIFIED:20240424T181733Z
UID:105940-1714125600-1714129200@helpmegrownorthtexas.org
SUMMARY:Face to Face GLOW Cooking Group- Venus
DESCRIPTION:Come Join us!
URL:https://helpmegrownorthtexas.org/event/face-to-face-glow-cooking-group-venus-4/
LOCATION:Joe A Hall High School & Community Library\, 12 Bulldog Drive\, Venus\, TX\, 76084\, United States
ATTACH;FMTTYPE=image/jpeg:https://helpmegrownorthtexas.org/wp-content/uploads/2024/04/1cce33af9244ddd84e3c87b897e47e87.jpg
END:VEVENT
BEGIN:VEVENT
DTSTART;TZID=America/Chicago:20240430T093000
DTEND;TZID=America/Chicago:20240430T103000
DTSTAMP:20260419T234941
CREATED:20240411T003823Z
LAST-MODIFIED:20240424T181829Z
UID:106127-1714469400-1714473000@helpmegrownorthtexas.org
SUMMARY:Face to Face: Nurture Nature Exploration- North Richland Hills
DESCRIPTION:Come join us!
URL:https://helpmegrownorthtexas.org/event/face-to-face-nurture-nature-exploration-north-richland-hills/
LOCATION:Adventure World Playground\, 7451 Starnes Road\, North Richland Hills\, TX\, 76182\, United States
ATTACH;FMTTYPE=image/jpeg:https://helpmegrownorthtexas.org/wp-content/uploads/2024/04/96fb3b25bd7673c3bdd30fef16444875.jpg
END:VEVENT
BEGIN:VEVENT
DTSTART;TZID=America/Chicago:20240430T100000
DTEND;TZID=America/Chicago:20240430T110000
DTSTAMP:20260419T234941
CREATED:20240319T130310Z
LAST-MODIFIED:20240424T181756Z
UID:106019-1714471200-1714474800@helpmegrownorthtexas.org
SUMMARY:Face to Face Play with Me Group- Ennis
DESCRIPTION:Come join us!
URL:https://helpmegrownorthtexas.org/event/face-to-face-play-with-me-group-ennis-4/
LOCATION:2 E Ennis Ave\, 2 East Ennis Avenue\, Ennis\, TX\, 75119\, United States
ATTACH;FMTTYPE=image/jpeg:https://helpmegrownorthtexas.org/wp-content/uploads/2024/04/2a4d38b3b90f7397d1ae5f2d89802cbb.jpg
END:VEVENT
BEGIN:VEVENT
DTSTART;TZID=America/Chicago:20240430T100000
DTEND;TZID=America/Chicago:20240430T110000
DTSTAMP:20260419T234941
CREATED:20240411T003507Z
LAST-MODIFIED:20240424T181440Z
UID:106119-1714471200-1714474800@helpmegrownorthtexas.org
SUMMARY:Face to Face Nurturing Families Program-Fort Worth
DESCRIPTION:Come join us!
URL:https://helpmegrownorthtexas.org/event/face-to-face-nurturing-families-program-fort-worth-8/
LOCATION:Mental Health America of Greater Tarrant County\, 3136 West 4th Street\, Fort Worth\, TX\, 76107\, United States
ATTACH;FMTTYPE=image/jpeg:https://helpmegrownorthtexas.org/wp-content/uploads/2024/04/2b64abcf585c000ed155c826c3c9aca0.jpg
END:VEVENT
BEGIN:VEVENT
DTSTART;TZID=America/Chicago:20240430T110000
DTEND;TZID=America/Chicago:20240430T120000
DTSTAMP:20260419T234941
CREATED:20240305T002220Z
LAST-MODIFIED:20240305T002220Z
UID:105872-1714474800-1714478400@helpmegrownorthtexas.org
SUMMARY:Face to Face Music and Motion Group- Mineral Wells
DESCRIPTION:Come Join Us!!
URL:https://helpmegrownorthtexas.org/event/face-to-face-music-and-motion-group-mineral-wells-9/
LOCATION:Grace House Pregnancy Center\, 400 Southeast 1st Street\, Mineral Wells\, TX\, 76067\, United States
ATTACH;FMTTYPE=image/jpeg:https://helpmegrownorthtexas.org/wp-content/uploads/2024/03/8a4f3001d102eb1ab6fb777e48105b64.jpg
END:VEVENT
BEGIN:VEVENT
DTSTART;TZID=America/Chicago:20240430T110000
DTEND;TZID=America/Chicago:20240430T120000
DTSTAMP:20260419T234941
CREATED:20240411T003941Z
LAST-MODIFIED:20240424T181854Z
UID:106135-1714474800-1714478400@helpmegrownorthtexas.org
SUMMARY:Face to Face Happy Baby Happy Family at Keller
DESCRIPTION:Come Join us!
URL:https://helpmegrownorthtexas.org/event/face-to-face-happy-baby-happy-family-at-keller/
LOCATION:North Clinic – Keller\, 6032 Innovation Way\, Keller\, TX\, 76244\, United States
ATTACH;FMTTYPE=image/jpeg:https://helpmegrownorthtexas.org/wp-content/uploads/2023/05/6cb1bb3b9e763e6d178a4a090cb73eef.jpg
END:VEVENT
BEGIN:VEVENT
DTSTART;TZID=America/Chicago:20240501T090000
DTEND;TZID=America/Chicago:20240501T100000
DTSTAMP:20260419T234941
CREATED:20240319T125711Z
LAST-MODIFIED:20240424T181554Z
UID:105992-1714554000-1714557600@helpmegrownorthtexas.org
SUMMARY:Face to Face Little Sprouts Group- Crowley
DESCRIPTION:Come join us!
URL:https://helpmegrownorthtexas.org/event/face-to-face-little-sprouts-group-crowley-5/
LOCATION:Crowley House of Hope\, 216 North Magnolia Street\, Crowley\, TX\, 76036\, United States
ATTACH;FMTTYPE=image/jpeg:https://helpmegrownorthtexas.org/wp-content/uploads/2024/03/6321d09d31498b93593828fce29abcc0.jpg
END:VEVENT
BEGIN:VEVENT
DTSTART;TZID=America/Chicago:20240501T100000
DTEND;TZID=America/Chicago:20240501T110000
DTSTAMP:20260419T234941
CREATED:20240411T003104Z
LAST-MODIFIED:20240424T181531Z
UID:106115-1714557600-1714561200@helpmegrownorthtexas.org
SUMMARY:Virtual Music and Motion - Spanish
DESCRIPTION:¡Ven y únete a nosotros!
URL:https://helpmegrownorthtexas.org/event/virtual-music-and-motion-spanish-3/
ATTACH;FMTTYPE=image/jpeg:https://helpmegrownorthtexas.org/wp-content/uploads/2024/04/d3dc9cd05e1c4553909441a4a98c704a.jpg
END:VEVENT
END:VCALENDAR