BEGIN:VCALENDAR
VERSION:2.0
PRODID:-//Help Me Grow North Texas - ECPv6.15.20//NONSGML v1.0//EN
CALSCALE:GREGORIAN
METHOD:PUBLISH
X-WR-CALNAME:Help Me Grow North Texas
X-ORIGINAL-URL:https://helpmegrownorthtexas.org
X-WR-CALDESC:Events for Help Me Grow North Texas
REFRESH-INTERVAL;VALUE=DURATION:PT1H
X-Robots-Tag:noindex
X-PUBLISHED-TTL:PT1H
BEGIN:VTIMEZONE
TZID:America/Chicago
BEGIN:DAYLIGHT
TZOFFSETFROM:-0600
TZOFFSETTO:-0500
TZNAME:CDT
DTSTART:20220313T080000
END:DAYLIGHT
BEGIN:STANDARD
TZOFFSETFROM:-0500
TZOFFSETTO:-0600
TZNAME:CST
DTSTART:20221106T070000
END:STANDARD
BEGIN:DAYLIGHT
TZOFFSETFROM:-0600
TZOFFSETTO:-0500
TZNAME:CDT
DTSTART:20230312T080000
END:DAYLIGHT
BEGIN:STANDARD
TZOFFSETFROM:-0500
TZOFFSETTO:-0600
TZNAME:CST
DTSTART:20231105T070000
END:STANDARD
BEGIN:DAYLIGHT
TZOFFSETFROM:-0600
TZOFFSETTO:-0500
TZNAME:CDT
DTSTART:20240310T080000
END:DAYLIGHT
BEGIN:STANDARD
TZOFFSETFROM:-0500
TZOFFSETTO:-0600
TZNAME:CST
DTSTART:20241103T070000
END:STANDARD
END:VTIMEZONE
BEGIN:VEVENT
DTSTART;TZID=America/Chicago:20230404T110000
DTEND;TZID=America/Chicago:20230404T120000
DTSTAMP:20260419T204859
CREATED:20230320T221113Z
LAST-MODIFIED:20230320T221113Z
UID:104775-1680606000-1680609600@helpmegrownorthtexas.org
SUMMARY:Face to Face Healthy Eating and Reading at Play Studio
DESCRIPTION:Come join us!
URL:https://helpmegrownorthtexas.org/event/face-to-face-healthy-eating-and-reading-at-play-studio-3/
LOCATION:Play Studio by Green Space\, 3005 East Belknap Street\, Fort Worth\, TX\, 76111\, United States
ATTACH;FMTTYPE=image/jpeg:https://helpmegrownorthtexas.org/wp-content/uploads/2023/03/6a23cc7c678799df84fd285fc745c42d.jpg
END:VEVENT
BEGIN:VEVENT
DTSTART;TZID=America/Chicago:20230404T093000
DTEND;TZID=America/Chicago:20230404T103000
DTSTAMP:20260419T204859
CREATED:20230320T220834Z
LAST-MODIFIED:20230320T220834Z
UID:104725-1680600600-1680604200@helpmegrownorthtexas.org
SUMMARY:Face to Face Transition Group at Play Studio
DESCRIPTION:Come Join us!
URL:https://helpmegrownorthtexas.org/event/face-to-face-transition-group-at-play-studio-3/
LOCATION:Play Studio by Green Space\, 3005 East Belknap Street\, Fort Worth\, TX\, 76111\, United States
ATTACH;FMTTYPE=image/jpeg:https://helpmegrownorthtexas.org/wp-content/uploads/2023/03/1c18114e5b9d81af896a466256127bd6.jpg
END:VEVENT
BEGIN:VEVENT
DTSTART;TZID=America/Chicago:20230403T080000
DTEND;TZID=America/Chicago:20230403T090000
DTSTAMP:20260419T204859
CREATED:20230320T223720Z
LAST-MODIFIED:20230320T223720Z
UID:104814-1680508800-1680512400@helpmegrownorthtexas.org
SUMMARY:Face to Face Nurturing Families Program- Washington Heights
DESCRIPTION:Come join us!/ ¡Ven y únete a nosotros!
URL:https://helpmegrownorthtexas.org/event/face-to-face-nurturing-families-program-washington-heights-2/
LOCATION:Washington Heights Elementary\, 3214 Clinton Avenue\, Fort Worth\, TX\, 76106\, United States
ATTACH;FMTTYPE=image/jpeg:https://helpmegrownorthtexas.org/wp-content/uploads/2023/03/f7254d974f75b330b757aab28ca6d63f.jpg
END:VEVENT
BEGIN:VEVENT
DTSTART;TZID=America/Chicago:20230331T093000
DTEND;TZID=America/Chicago:20230331T110000
DTSTAMP:20260419T204859
CREATED:20230320T223425Z
LAST-MODIFIED:20230320T223425Z
UID:104808-1680255000-1680260400@helpmegrownorthtexas.org
SUMMARY:Face to Face Nurturing Families Program- Crowley
DESCRIPTION:Come join us!
URL:https://helpmegrownorthtexas.org/event/face-to-face-nurturing-families-program-crowley-2/
LOCATION:216 N Magnolia St\, 216 North Magnolia Street\, Crowley\, TX\, 76036\, United States
ATTACH;FMTTYPE=image/jpeg:https://helpmegrownorthtexas.org/wp-content/uploads/2023/03/8a18bba71c08b05e791cdb6f0bac31c3.jpg
END:VEVENT
BEGIN:VEVENT
DTSTART;TZID=America/Chicago:20230330T190000
DTEND;TZID=America/Chicago:20230330T203000
DTSTAMP:20260419T204859
CREATED:20230320T223131Z
LAST-MODIFIED:20230320T223131Z
UID:104799-1680202800-1680208200@helpmegrownorthtexas.org
SUMMARY:Face to Face Nurturing Families Program- Play Studio
DESCRIPTION:Come join us!
URL:https://helpmegrownorthtexas.org/event/face-to-face-nurturing-families-program-play-studio/
LOCATION:Play Studio by Green Space\, 3005 East Belknap Street\, Fort Worth\, TX\, 76111\, United States
ATTACH;FMTTYPE=image/jpeg:https://helpmegrownorthtexas.org/wp-content/uploads/2023/03/07ce4f5bef23ba6b0d3d6ddf21e7ef0e.jpg
END:VEVENT
BEGIN:VEVENT
DTSTART;TZID=America/Chicago:20230330T110000
DTEND;TZID=America/Chicago:20230330T120000
DTSTAMP:20260419T204859
CREATED:20230320T221022Z
LAST-MODIFIED:20230320T221022Z
UID:104750-1680174000-1680177600@helpmegrownorthtexas.org
SUMMARY:Face to Face Little Sprouts at Play Studio
DESCRIPTION:Come Join us!
URL:https://helpmegrownorthtexas.org/event/face-to-face-little-sprouts-at-play-studio-2/
LOCATION:Play Studio by Green Space\, 3005 East Belknap Street\, Fort Worth\, TX\, 76111\, United States
ATTACH;FMTTYPE=image/jpeg:https://helpmegrownorthtexas.org/wp-content/uploads/2023/03/48396a2f7196b045e7e8b3bb1062ed2b.jpg
END:VEVENT
BEGIN:VEVENT
DTSTART;TZID=America/Chicago:20230330T093000
DTEND;TZID=America/Chicago:20230330T103000
DTSTAMP:20260419T204859
CREATED:20230320T220948Z
LAST-MODIFIED:20230320T220948Z
UID:104738-1680168600-1680172200@helpmegrownorthtexas.org
SUMMARY:Face to Face Music and Motion Group at Play Studio
DESCRIPTION:Come Join us!
URL:https://helpmegrownorthtexas.org/event/face-to-face-music-and-motion-group-at-play-studio-2/
LOCATION:Play Studio by Green Space\, 3005 East Belknap Street\, Fort Worth\, TX\, 76111\, United States
ATTACH;FMTTYPE=image/jpeg:https://helpmegrownorthtexas.org/wp-content/uploads/2023/03/1642fe1f421b2dbd987b2a4422055622.jpg
END:VEVENT
BEGIN:VEVENT
DTSTART;TZID=America/Chicago:20230329T110500
DTEND;TZID=America/Chicago:20230329T122500
DTSTAMP:20260419T204859
CREATED:20230320T195019Z
LAST-MODIFIED:20230320T195019Z
UID:104680-1680087900-1680092700@helpmegrownorthtexas.org
SUMMARY:Face to Face #WoWTalk Café- Biomedical
DESCRIPTION:Come join us!!
URL:https://helpmegrownorthtexas.org/event/face-to-face-wowtalk-cafe-biomedical/
LOCATION:Texas Academy of Biomedical Sciences\, 300 Trinity Campus Circle\, Fort Worth\, TX\, 76102\, United States
ATTACH;FMTTYPE=image/jpeg:https://helpmegrownorthtexas.org/wp-content/uploads/2023/03/e62c651f98b6274f94572c7cd65a5315.jpg
END:VEVENT
BEGIN:VEVENT
DTSTART;TZID=America/Chicago:20230329T100000
DTEND;TZID=America/Chicago:20230329T110000
DTSTAMP:20260419T204859
CREATED:20230320T221149Z
LAST-MODIFIED:20230320T221149Z
UID:104786-1680084000-1680087600@helpmegrownorthtexas.org
SUMMARY:Face to Face Music and Motion - Alvarado
DESCRIPTION:Come Join Us!!
URL:https://helpmegrownorthtexas.org/event/face-to-face-music-and-motion-alvarado-2/
LOCATION:Alvarado Public Library\, 210 North Baugh Street\, Alvarado\, TX\, 76009\, United States
ATTACH;FMTTYPE=image/jpeg:https://helpmegrownorthtexas.org/wp-content/uploads/2023/03/5b51e2d686c0c8f3ed305ad26dacdf7a.jpg
END:VEVENT
BEGIN:VEVENT
DTSTART;TZID=America/Chicago:20230329T100000
DTEND;TZID=America/Chicago:20230329T110000
DTSTAMP:20260419T204859
CREATED:20220929T055244Z
LAST-MODIFIED:20221201T013042Z
UID:5411-1680084000-1680087600@helpmegrownorthtexas.org
SUMMARY:Face to Face Kindermusik Group- Springtown
DESCRIPTION:Come join us!!
URL:https://helpmegrownorthtexas.org/event/face-to-face-kindermusik-group-springtown-36/
LOCATION:Cornerstone Community Church\, 2233 East Highway 199\, Springtown\, TX\, 76082\, United States
ATTACH;FMTTYPE=image/jpeg:https://helpmegrownorthtexas.org/wp-content/uploads/2022/09/66247c2fab629edeadff3c5e4bab5287.jpg
END:VEVENT
BEGIN:VEVENT
DTSTART;TZID=America/Chicago:20230328T130000
DTEND;TZID=America/Chicago:20230328T140000
DTSTAMP:20260419T204859
CREATED:20230320T221048Z
LAST-MODIFIED:20230320T221048Z
UID:104762-1680008400-1680012000@helpmegrownorthtexas.org
SUMMARY:Face to Face Nurture Nature Exploration at Play Studio
DESCRIPTION:Come join us!
URL:https://helpmegrownorthtexas.org/event/face-to-face-nurture-nature-exploration-at-play-studio-2/
LOCATION:Play Studio by Green Space\, 3005 East Belknap Street\, Fort Worth\, TX\, 76111\, United States
ATTACH;FMTTYPE=image/jpeg:https://helpmegrownorthtexas.org/wp-content/uploads/2023/03/024589e4b8054bd1793de62b93a6eacf.jpg
END:VEVENT
BEGIN:VEVENT
DTSTART;TZID=America/Chicago:20230328T110000
DTEND;TZID=America/Chicago:20230328T120000
DTSTAMP:20260419T204859
CREATED:20230320T221113Z
LAST-MODIFIED:20230320T221113Z
UID:104774-1680001200-1680004800@helpmegrownorthtexas.org
SUMMARY:Face to Face Healthy Eating and Reading at Play Studio
DESCRIPTION:Come join us!
URL:https://helpmegrownorthtexas.org/event/face-to-face-healthy-eating-and-reading-at-play-studio-2/
LOCATION:Play Studio by Green Space\, 3005 East Belknap Street\, Fort Worth\, TX\, 76111\, United States
ATTACH;FMTTYPE=image/jpeg:https://helpmegrownorthtexas.org/wp-content/uploads/2023/03/6a23cc7c678799df84fd285fc745c42d.jpg
END:VEVENT
BEGIN:VEVENT
DTSTART;TZID=America/Chicago:20230328T093000
DTEND;TZID=America/Chicago:20230328T103000
DTSTAMP:20260419T204859
CREATED:20230320T220834Z
LAST-MODIFIED:20230320T220834Z
UID:104724-1679995800-1679999400@helpmegrownorthtexas.org
SUMMARY:Face to Face Transition Group at Play Studio
DESCRIPTION:Come Join us!
URL:https://helpmegrownorthtexas.org/event/face-to-face-transition-group-at-play-studio-2/
LOCATION:Play Studio by Green Space\, 3005 East Belknap Street\, Fort Worth\, TX\, 76111\, United States
ATTACH;FMTTYPE=image/jpeg:https://helpmegrownorthtexas.org/wp-content/uploads/2023/03/1c18114e5b9d81af896a466256127bd6.jpg
END:VEVENT
BEGIN:VEVENT
DTSTART;TZID=America/Chicago:20230327T080000
DTEND;TZID=America/Chicago:20230327T090000
DTSTAMP:20260419T204859
CREATED:20230320T223717Z
LAST-MODIFIED:20230320T223717Z
UID:104812-1679904000-1679907600@helpmegrownorthtexas.org
SUMMARY:Face to Face Nurturing Families Program- Washington Heights
DESCRIPTION:Come join us!/ ¡Ven y únete a nosotros!
URL:https://helpmegrownorthtexas.org/event/face-to-face-nurturing-families-program-washington-heights/
LOCATION:Washington Heights Elementary\, 3214 Clinton Avenue\, Fort Worth\, TX\, 76106\, United States
ATTACH;FMTTYPE=image/jpeg:https://helpmegrownorthtexas.org/wp-content/uploads/2023/03/f7254d974f75b330b757aab28ca6d63f.jpg
END:VEVENT
BEGIN:VEVENT
DTSTART;TZID=America/Chicago:20230324T093000
DTEND;TZID=America/Chicago:20230324T110000
DTSTAMP:20260419T204859
CREATED:20230320T223422Z
LAST-MODIFIED:20230320T223422Z
UID:104806-1679650200-1679655600@helpmegrownorthtexas.org
SUMMARY:Face to Face Nurturing Families Program- Crowley
DESCRIPTION:Come join us!
URL:https://helpmegrownorthtexas.org/event/face-to-face-nurturing-families-program-crowley/
LOCATION:216 N Magnolia St\, 216 North Magnolia Street\, Crowley\, TX\, 76036\, United States
ATTACH;FMTTYPE=image/jpeg:https://helpmegrownorthtexas.org/wp-content/uploads/2023/03/8a18bba71c08b05e791cdb6f0bac31c3.jpg
END:VEVENT
BEGIN:VEVENT
DTSTART;TZID=America/Chicago:20230323T110000
DTEND;TZID=America/Chicago:20230323T120000
DTSTAMP:20260419T204859
CREATED:20230320T221019Z
LAST-MODIFIED:20230320T221019Z
UID:104748-1679569200-1679572800@helpmegrownorthtexas.org
SUMMARY:Face to Face Little Sprouts at Play Studio
DESCRIPTION:Come Join us!
URL:https://helpmegrownorthtexas.org/event/face-to-face-little-sprouts-at-play-studio/
LOCATION:Play Studio by Green Space\, 3005 East Belknap Street\, Fort Worth\, TX\, 76111\, United States
ATTACH;FMTTYPE=image/jpeg:https://helpmegrownorthtexas.org/wp-content/uploads/2023/03/48396a2f7196b045e7e8b3bb1062ed2b.jpg
END:VEVENT
BEGIN:VEVENT
DTSTART;TZID=America/Chicago:20230323T093000
DTEND;TZID=America/Chicago:20230323T103000
DTSTAMP:20260419T204859
CREATED:20230320T220945Z
LAST-MODIFIED:20230320T220945Z
UID:104736-1679563800-1679567400@helpmegrownorthtexas.org
SUMMARY:Face to Face Music and Motion Group at Play Studio
DESCRIPTION:Come Join us!
URL:https://helpmegrownorthtexas.org/event/face-to-face-music-and-motion-group-at-play-studio/
LOCATION:Play Studio by Green Space\, 3005 East Belknap Street\, Fort Worth\, TX\, 76111\, United States
ATTACH;FMTTYPE=image/jpeg:https://helpmegrownorthtexas.org/wp-content/uploads/2023/03/1642fe1f421b2dbd987b2a4422055622.jpg
END:VEVENT
BEGIN:VEVENT
DTSTART;TZID=America/Chicago:20230322T190000
DTEND;TZID=America/Chicago:20230322T203000
DTSTAMP:20260419T204859
CREATED:20230320T220751Z
LAST-MODIFIED:20230320T220751Z
UID:104716-1679511600-1679517000@helpmegrownorthtexas.org
SUMMARY:Face to Face #WoWTalk Café- Ramp
DESCRIPTION:Come join us!!
URL:https://helpmegrownorthtexas.org/event/face-to-face-wowtalk-cafe-ramp-3/
LOCATION:Ramp Church Texas\, 5430 Miller Avenue\, Fort Worth\, TX\, 76119\, United States
ATTACH;FMTTYPE=image/jpeg:https://helpmegrownorthtexas.org/wp-content/uploads/2023/03/d3130898ebb4b7679d211d69106032fc.jpg
END:VEVENT
BEGIN:VEVENT
DTSTART;TZID=America/Chicago:20230322T100000
DTEND;TZID=America/Chicago:20230322T110000
DTSTAMP:20260419T204859
CREATED:20230320T221146Z
LAST-MODIFIED:20230320T221146Z
UID:104784-1679479200-1679482800@helpmegrownorthtexas.org
SUMMARY:Face to Face Music and Motion - Alvarado
DESCRIPTION:Come Join Us!!
URL:https://helpmegrownorthtexas.org/event/face-to-face-music-and-motion-alvarado/
LOCATION:Alvarado Public Library\, 210 North Baugh Street\, Alvarado\, TX\, 76009\, United States
ATTACH;FMTTYPE=image/jpeg:https://helpmegrownorthtexas.org/wp-content/uploads/2023/03/5b51e2d686c0c8f3ed305ad26dacdf7a.jpg
END:VEVENT
BEGIN:VEVENT
DTSTART;TZID=America/Chicago:20230322T100000
DTEND;TZID=America/Chicago:20230322T110000
DTSTAMP:20260419T204859
CREATED:20220929T055244Z
LAST-MODIFIED:20221201T013042Z
UID:5410-1679479200-1679482800@helpmegrownorthtexas.org
SUMMARY:Face to Face Kindermusik Group- Springtown
DESCRIPTION:Come join us!!
URL:https://helpmegrownorthtexas.org/event/face-to-face-kindermusik-group-springtown-35/
LOCATION:Cornerstone Community Church\, 2233 East Highway 199\, Springtown\, TX\, 76082\, United States
ATTACH;FMTTYPE=image/jpeg:https://helpmegrownorthtexas.org/wp-content/uploads/2022/09/66247c2fab629edeadff3c5e4bab5287.jpg
END:VEVENT
BEGIN:VEVENT
DTSTART;TZID=America/Chicago:20230322T091500
DTEND;TZID=America/Chicago:20230322T105500
DTSTAMP:20260419T204859
CREATED:20230320T195052Z
LAST-MODIFIED:20230320T195052Z
UID:104685-1679476500-1679482500@helpmegrownorthtexas.org
SUMMARY:Face to Face #WoWTalk Café- Martin High
DESCRIPTION:Come join us!!
URL:https://helpmegrownorthtexas.org/event/face-to-face-wowtalk-cafe-martin-high/
LOCATION:James Martin High School\, 4501 West Pleasant Ridge Road\, Arlington\, TX\, 76016\, United States
ATTACH;FMTTYPE=image/jpeg:https://helpmegrownorthtexas.org/wp-content/uploads/2023/03/66d3bc509ecd10b8c967c3abdc8e3109.jpg
END:VEVENT
BEGIN:VEVENT
DTSTART;TZID=America/Chicago:20230321T130000
DTEND;TZID=America/Chicago:20230321T140000
DTSTAMP:20260419T204859
CREATED:20230320T221045Z
LAST-MODIFIED:20230320T221045Z
UID:104760-1679403600-1679407200@helpmegrownorthtexas.org
SUMMARY:Face to Face Nurture Nature Exploration at Play Studio
DESCRIPTION:Come join us!
URL:https://helpmegrownorthtexas.org/event/face-to-face-nurture-nature-exploration-at-play-studio/
LOCATION:Play Studio by Green Space\, 3005 East Belknap Street\, Fort Worth\, TX\, 76111\, United States
ATTACH;FMTTYPE=image/jpeg:https://helpmegrownorthtexas.org/wp-content/uploads/2023/03/024589e4b8054bd1793de62b93a6eacf.jpg
END:VEVENT
BEGIN:VEVENT
DTSTART;TZID=America/Chicago:20230321T110000
DTEND;TZID=America/Chicago:20230321T120000
DTSTAMP:20260419T204859
CREATED:20230320T221110Z
LAST-MODIFIED:20230320T221110Z
UID:104772-1679396400-1679400000@helpmegrownorthtexas.org
SUMMARY:Face to Face Healthy Eating and Reading at Play Studio
DESCRIPTION:Come join us!
URL:https://helpmegrownorthtexas.org/event/face-to-face-healthy-eating-and-reading-at-play-studio/
LOCATION:Play Studio by Green Space\, 3005 East Belknap Street\, Fort Worth\, TX\, 76111\, United States
ATTACH;FMTTYPE=image/jpeg:https://helpmegrownorthtexas.org/wp-content/uploads/2023/03/6a23cc7c678799df84fd285fc745c42d.jpg
END:VEVENT
BEGIN:VEVENT
DTSTART;TZID=America/Chicago:20230321T093000
DTEND;TZID=America/Chicago:20230321T103000
DTSTAMP:20260419T204859
CREATED:20230320T220831Z
LAST-MODIFIED:20230320T220831Z
UID:104722-1679391000-1679394600@helpmegrownorthtexas.org
SUMMARY:Face to Face Transition Group at Play Studio
DESCRIPTION:Come Join us!
URL:https://helpmegrownorthtexas.org/event/face-to-face-transition-group-at-play-studio/
LOCATION:Play Studio by Green Space\, 3005 East Belknap Street\, Fort Worth\, TX\, 76111\, United States
ATTACH;FMTTYPE=image/jpeg:https://helpmegrownorthtexas.org/wp-content/uploads/2023/03/1c18114e5b9d81af896a466256127bd6.jpg
END:VEVENT
BEGIN:VEVENT
DTSTART;TZID=America/Chicago:20230315T100000
DTEND;TZID=America/Chicago:20230315T110000
DTSTAMP:20260419T204859
CREATED:20220929T055243Z
LAST-MODIFIED:20221201T013042Z
UID:5409-1678874400-1678878000@helpmegrownorthtexas.org
SUMMARY:Face to Face Kindermusik Group- Springtown
DESCRIPTION:Come join us!!
URL:https://helpmegrownorthtexas.org/event/face-to-face-kindermusik-group-springtown-34/
LOCATION:Cornerstone Community Church\, 2233 East Highway 199\, Springtown\, TX\, 76082\, United States
ATTACH;FMTTYPE=image/jpeg:https://helpmegrownorthtexas.org/wp-content/uploads/2022/09/66247c2fab629edeadff3c5e4bab5287.jpg
END:VEVENT
BEGIN:VEVENT
DTSTART;TZID=America/Chicago:20230309T173000
DTEND;TZID=America/Chicago:20230309T190000
DTSTAMP:20260419T204859
CREATED:20221220T175336Z
LAST-MODIFIED:20221220T175336Z
UID:104509-1678383000-1678388400@helpmegrownorthtexas.org
SUMMARY:#WOWTalk Cafe- Fort Worth
DESCRIPTION:#WoWTalk Cafés are free! It gives teens a chance to get together with their peers and talk about ways to be strong-minded\, make social connections\, and a chance to obtain support and resources. This is for ages 11-17.
URL:https://helpmegrownorthtexas.org/event/wowtalk-cafe-fort-worth-4/
LOCATION:Mental Health America of Greater Tarrant County\, 3136 West 4th Street\, Fort Worth\, TX\, 76107\, United States
ATTACH;FMTTYPE=image/png:https://helpmegrownorthtexas.org/wp-content/uploads/2022/12/WoWTalk-Cafe-General-Flyer-2-1.png
END:VEVENT
BEGIN:VEVENT
DTSTART;TZID=America/Chicago:20230308T100000
DTEND;TZID=America/Chicago:20230308T110000
DTSTAMP:20260419T204859
CREATED:20220929T055243Z
LAST-MODIFIED:20221201T013042Z
UID:5408-1678269600-1678273200@helpmegrownorthtexas.org
SUMMARY:Face to Face Kindermusik Group- Springtown
DESCRIPTION:Come join us!!
URL:https://helpmegrownorthtexas.org/event/face-to-face-kindermusik-group-springtown-33/
LOCATION:Cornerstone Community Church\, 2233 East Highway 199\, Springtown\, TX\, 76082\, United States
ATTACH;FMTTYPE=image/jpeg:https://helpmegrownorthtexas.org/wp-content/uploads/2022/09/66247c2fab629edeadff3c5e4bab5287.jpg
END:VEVENT
BEGIN:VEVENT
DTSTART;TZID=America/Chicago:20230307T103000
DTEND;TZID=America/Chicago:20230307T113000
DTSTAMP:20260419T204859
CREATED:20230124T145405Z
LAST-MODIFIED:20230124T145405Z
UID:104615-1678185000-1678188600@helpmegrownorthtexas.org
SUMMARY:Face to Face Healthy Eating and Reading - Waxahachie
DESCRIPTION:Come Join Us!!
URL:https://helpmegrownorthtexas.org/event/face-to-face-healthy-eating-and-reading-waxahachie-6/
LOCATION:MHMR Waxahachie\, 106 S. Jackson St. #1\, Waxahachie\, TX\, 75165\, United States
ATTACH;FMTTYPE=image/jpeg:https://helpmegrownorthtexas.org/wp-content/uploads/2023/01/9c270ca0c96b99e7dec369e71176a24f.jpg
END:VEVENT
BEGIN:VEVENT
DTSTART;TZID=America/Chicago:20230307T100000
DTEND;TZID=America/Chicago:20230307T120000
DTSTAMP:20260419T204859
CREATED:20221220T165215Z
LAST-MODIFIED:20221220T165215Z
UID:104478-1678183200-1678190400@helpmegrownorthtexas.org
SUMMARY:Face to Face Parent Cafe Spanish- Morningside
DESCRIPTION:¡Los Cafés para Padres son GRATIS! En los Cafés para Padres\, los participantes tienen conversaciones guiadas de temas importantes para sus familias. Los Cafés para Padres son basados en la estructura de fortalecer la familia y los cinco factores de protección.
URL:https://helpmegrownorthtexas.org/event/face-to-face-parent-cafe-spanish-morningside/
LOCATION:Morningside United Methodist Church\, 2860 Evans Avenue\, Fort Worth\, TX\, 76104\, United States
ATTACH;FMTTYPE=image/png:https://helpmegrownorthtexas.org/wp-content/uploads/2022/12/parent-cafe-morningside.png
END:VEVENT
BEGIN:VEVENT
DTSTART;TZID=America/Chicago:20230301T100000
DTEND;TZID=America/Chicago:20230301T110000
DTSTAMP:20260419T204859
CREATED:20230117T173504Z
LAST-MODIFIED:20230215T144751Z
UID:104590-1677664800-1677668400@helpmegrownorthtexas.org
SUMMARY:Face to Face Healthy Eating and Reading - Alvarado
DESCRIPTION:Come Join Us!!
URL:https://helpmegrownorthtexas.org/event/face-to-face-healthy-eating-and-reading-alvarado-6/
LOCATION:Alvarado Public Library\, 210 North Baugh Street\, Alvarado\, TX\, 76009\, United States
ATTACH;FMTTYPE=image/jpeg:https://helpmegrownorthtexas.org/wp-content/uploads/2023/02/610af9aadc92a1a3ccb14d19a51d5cc9.jpg
END:VEVENT
END:VCALENDAR