BEGIN:VCALENDAR
VERSION:2.0
PRODID:-//Help Me Grow North Texas - ECPv6.15.20//NONSGML v1.0//EN
CALSCALE:GREGORIAN
METHOD:PUBLISH
X-ORIGINAL-URL:https://helpmegrownorthtexas.org
X-WR-CALDESC:Events for Help Me Grow North Texas
REFRESH-INTERVAL;VALUE=DURATION:PT1H
X-Robots-Tag:noindex
X-PUBLISHED-TTL:PT1H
BEGIN:VTIMEZONE
TZID:America/Chicago
BEGIN:DAYLIGHT
TZOFFSETFROM:-0600
TZOFFSETTO:-0500
TZNAME:CDT
DTSTART:20240310T080000
END:DAYLIGHT
BEGIN:STANDARD
TZOFFSETFROM:-0500
TZOFFSETTO:-0600
TZNAME:CST
DTSTART:20241103T070000
END:STANDARD
BEGIN:DAYLIGHT
TZOFFSETFROM:-0600
TZOFFSETTO:-0500
TZNAME:CDT
DTSTART:20250309T080000
END:DAYLIGHT
BEGIN:STANDARD
TZOFFSETFROM:-0500
TZOFFSETTO:-0600
TZNAME:CST
DTSTART:20251102T070000
END:STANDARD
BEGIN:DAYLIGHT
TZOFFSETFROM:-0600
TZOFFSETTO:-0500
TZNAME:CDT
DTSTART:20260308T080000
END:DAYLIGHT
BEGIN:STANDARD
TZOFFSETFROM:-0500
TZOFFSETTO:-0600
TZNAME:CST
DTSTART:20261101T070000
END:STANDARD
BEGIN:DAYLIGHT
TZOFFSETFROM:-0600
TZOFFSETTO:-0500
TZNAME:CDT
DTSTART:20270314T080000
END:DAYLIGHT
BEGIN:STANDARD
TZOFFSETFROM:-0500
TZOFFSETTO:-0600
TZNAME:CST
DTSTART:20271107T070000
END:STANDARD
END:VTIMEZONE
BEGIN:VEVENT
DTSTART;TZID=America/Chicago:20250821T173000
DTEND;TZID=America/Chicago:20250821T193000
DTSTAMP:20260419T222831
CREATED:20250715T203222Z
LAST-MODIFIED:20250715T203222Z
UID:107739-1755797400-1755804600@helpmegrownorthtexas.org
SUMMARY:Face to Face Parent Cafe- Hulen
DESCRIPTION:Come and join us!
URL:https://helpmegrownorthtexas.org/event/face-to-face-parent-cafe-hulen-14/
LOCATION:3800 Hulen St\, 3800 Hulen Street\, Fort Worth\, TX\, 76107\, United States
ATTACH;FMTTYPE=image/jpeg:https://helpmegrownorthtexas.org/wp-content/uploads/2025/07/017be4c2adcda9c5f9f4b40bdce2e413.jpg
END:VEVENT
BEGIN:VEVENT
DTSTART;TZID=America/Chicago:20250826T100000
DTEND;TZID=America/Chicago:20250826T110000
DTSTAMP:20260419T222831
CREATED:20250715T202448Z
LAST-MODIFIED:20250715T202448Z
UID:107733-1756202400-1756206000@helpmegrownorthtexas.org
SUMMARY:Virtual Nurturing Families
DESCRIPTION:JOIN US!
URL:https://helpmegrownorthtexas.org/event/virtual-nurturing-families-31/
LOCATION:TX
ATTACH;FMTTYPE=image/jpeg:https://helpmegrownorthtexas.org/wp-content/uploads/2025/07/d46ca4286e4a4ae754a9629c9c9d3da8.jpg
END:VEVENT
BEGIN:VEVENT
DTSTART;TZID=America/Chicago:20250828T093000
DTEND;TZID=America/Chicago:20250828T103000
DTSTAMP:20260419T222831
CREATED:20250619T133436Z
LAST-MODIFIED:20250619T133436Z
UID:107669-1756373400-1756377000@helpmegrownorthtexas.org
SUMMARY:Face to Face: Nurture Nature Exploration- Fort Worth
DESCRIPTION:Come join us!
URL:https://helpmegrownorthtexas.org/event/face-to-face-nurture-nature-exploration-fort-worth-18/
LOCATION:6032 Innovation Way\, 6032 Innovation Way\, Fort Worth\, TX\, 76244\, United States
ATTACH;FMTTYPE=image/jpeg:https://helpmegrownorthtexas.org/wp-content/uploads/2025/06/6b77600ceabd0a0de819dd0926116904.jpg
END:VEVENT
BEGIN:VEVENT
DTSTART;TZID=America/Chicago:20250828T173000
DTEND;TZID=America/Chicago:20250828T193000
DTSTAMP:20260419T222831
CREATED:20250715T203249Z
LAST-MODIFIED:20250715T203249Z
UID:107742-1756402200-1756409400@helpmegrownorthtexas.org
SUMMARY:Face to Face #WoWTalk Cafe - Potter's House FTW
DESCRIPTION:Come and join us!
URL:https://helpmegrownorthtexas.org/event/face-to-face-wowtalk-cafe-potters-house-ftw-3/
LOCATION:1270 Woodhaven Blvd\, 1270 Woodhaven Boulevard\, Fort Worth\, TX\, 76112\, United States
ATTACH;FMTTYPE=image/jpeg:https://helpmegrownorthtexas.org/wp-content/uploads/2025/07/0893c1b03ae2d89f27b7863015680c4d.jpg
END:VEVENT
BEGIN:VEVENT
DTSTART;TZID=America/Chicago:20250828T173000
DTEND;TZID=America/Chicago:20250828T193000
DTSTAMP:20260419T222831
CREATED:20250715T203526Z
LAST-MODIFIED:20250715T203627Z
UID:107745-1756402200-1756409400@helpmegrownorthtexas.org
SUMMARY:Face to Face Parent Cafe - Potter's House FTW
DESCRIPTION:Come and join us!
URL:https://helpmegrownorthtexas.org/event/face-to-face-parent-cafe-potters-house-ftw-2/
LOCATION:1270 Woodhaven Blvd\, 1270 Woodhaven Boulevard\, Fort Worth\, TX\, 76112\, United States
ATTACH;FMTTYPE=image/jpeg:https://helpmegrownorthtexas.org/wp-content/uploads/2025/07/bb14306f1842ff35938295dc3b1e3c2f.jpg
END:VEVENT
BEGIN:VEVENT
DTSTART;TZID=America/Chicago:20250918T173000
DTEND;TZID=America/Chicago:20250918T193000
DTSTAMP:20260419T222831
CREATED:20250822T173030Z
LAST-MODIFIED:20250822T173030Z
UID:107771-1758216600-1758223800@helpmegrownorthtexas.org
SUMMARY:Face to Face #WoWTalk Cafe- Hulen
DESCRIPTION:Come join us!!
URL:https://helpmegrownorthtexas.org/event/face-to-face-wowtalk-cafe-hulen-13/
LOCATION:3800 Hulen St\, 3800 Hulen Street\, Fort Worth\, TX\, 76107\, United States
ATTACH;FMTTYPE=image/jpeg:https://helpmegrownorthtexas.org/wp-content/uploads/2025/07/d5167d18a7b4b7ae6f146a91ae6230df.jpg
END:VEVENT
BEGIN:VEVENT
DTSTART;TZID=America/Chicago:20250918T173000
DTEND;TZID=America/Chicago:20250918T193000
DTSTAMP:20260419T222831
CREATED:20250822T173101Z
LAST-MODIFIED:20250822T173101Z
UID:107773-1758216600-1758223800@helpmegrownorthtexas.org
SUMMARY:Face to Face Parent Cafe- Hulen
DESCRIPTION:Come and join us!
URL:https://helpmegrownorthtexas.org/event/face-to-face-parent-cafe-hulen-15/
LOCATION:3800 Hulen St\, 3800 Hulen Street\, Fort Worth\, TX\, 76107\, United States
ATTACH;FMTTYPE=image/jpeg:https://helpmegrownorthtexas.org/wp-content/uploads/2025/07/017be4c2adcda9c5f9f4b40bdce2e413.jpg
END:VEVENT
BEGIN:VEVENT
DTSTART;TZID=America/Chicago:20250923T100000
DTEND;TZID=America/Chicago:20250923T110000
DTSTAMP:20260419T222831
CREATED:20250819T164308Z
LAST-MODIFIED:20250819T164308Z
UID:107762-1758621600-1758625200@helpmegrownorthtexas.org
SUMMARY:Virtual Nurturing Families
DESCRIPTION:JOIN US!
URL:https://helpmegrownorthtexas.org/event/virtual-nurturing-families-32/
LOCATION:TX
ATTACH;FMTTYPE=image/jpeg:https://helpmegrownorthtexas.org/wp-content/uploads/2025/08/6b45d9196971fea8555f2ebb51c2a202.jpg
END:VEVENT
BEGIN:VEVENT
DTSTART;TZID=America/Chicago:20250930T100000
DTEND;TZID=America/Chicago:20250930T110000
DTSTAMP:20260419T222831
CREATED:20250819T164358Z
LAST-MODIFIED:20250819T164358Z
UID:107765-1759226400-1759230000@helpmegrownorthtexas.org
SUMMARY:Virtual Nurturing Families
DESCRIPTION:JOIN US!
URL:https://helpmegrownorthtexas.org/event/virtual-nurturing-families-33/
LOCATION:TX
ATTACH;FMTTYPE=image/jpeg:https://helpmegrownorthtexas.org/wp-content/uploads/2025/08/6b45d9196971fea8555f2ebb51c2a202.jpg
END:VEVENT
BEGIN:VEVENT
DTSTART;TZID=America/Chicago:20251003T120000
DTEND;TZID=America/Chicago:20251003T130000
DTSTAMP:20260419T222831
CREATED:20250819T164359Z
LAST-MODIFIED:20250822T173221Z
UID:107767-1759492800-1759496400@helpmegrownorthtexas.org
SUMMARY:Virtual Nurturing Families
DESCRIPTION:JOIN US!
URL:https://helpmegrownorthtexas.org/event/virtual-nurturing-families-35/
LOCATION:TX
ATTACH;FMTTYPE=image/jpeg:https://helpmegrownorthtexas.org/wp-content/uploads/2025/08/6b45d9196971fea8555f2ebb51c2a202.jpg
END:VEVENT
BEGIN:VEVENT
DTSTART;TZID=America/Chicago:20251007T100000
DTEND;TZID=America/Chicago:20251007T110000
DTSTAMP:20260419T222831
CREATED:20250819T164358Z
LAST-MODIFIED:20250819T164358Z
UID:107766-1759831200-1759834800@helpmegrownorthtexas.org
SUMMARY:Virtual Nurturing Families
DESCRIPTION:JOIN US!
URL:https://helpmegrownorthtexas.org/event/virtual-nurturing-families-34/
LOCATION:TX
ATTACH;FMTTYPE=image/jpeg:https://helpmegrownorthtexas.org/wp-content/uploads/2025/08/6b45d9196971fea8555f2ebb51c2a202.jpg
END:VEVENT
BEGIN:VEVENT
DTSTART;TZID=America/Chicago:20251010T190000
DTEND;TZID=America/Chicago:20251010T220000
DTSTAMP:20260419T222831
CREATED:20250819T164359Z
LAST-MODIFIED:20250822T173221Z
UID:107768-1760122800-1760133600@helpmegrownorthtexas.org
SUMMARY:Virtual Nurturing Families
DESCRIPTION:JOIN US!
URL:https://helpmegrownorthtexas.org/event/virtual-nurturing-families-36/
LOCATION:TX
ATTACH;FMTTYPE=image/jpeg:https://helpmegrownorthtexas.org/wp-content/uploads/2025/08/6b45d9196971fea8555f2ebb51c2a202.jpg
END:VEVENT
BEGIN:VEVENT
DTSTART;TZID=America/Chicago:20251017T190000
DTEND;TZID=America/Chicago:20251017T220000
DTSTAMP:20260419T222831
CREATED:20250819T164359Z
LAST-MODIFIED:20250822T173221Z
UID:107769-1760727600-1760738400@helpmegrownorthtexas.org
SUMMARY:Virtual Nurturing Families
DESCRIPTION:JOIN US!
URL:https://helpmegrownorthtexas.org/event/virtual-nurturing-families-37/
LOCATION:TX
ATTACH;FMTTYPE=image/jpeg:https://helpmegrownorthtexas.org/wp-content/uploads/2025/08/6b45d9196971fea8555f2ebb51c2a202.jpg
END:VEVENT
BEGIN:VEVENT
DTSTART;TZID=America/Chicago:20260210T133000
DTEND;TZID=America/Chicago:20260331T143000
DTSTAMP:20260419T222831
CREATED:20260219T154157Z
LAST-MODIFIED:20260219T154157Z
UID:107865-1770730200-1774967400@helpmegrownorthtexas.org
SUMMARY:Virtual Nurturing Parenting Group
DESCRIPTION:Looking for a fun and supportive way to connect with other parents? Our Virtual Nurturing Parenting Group is the perfect place!\n\n\nLooking for a fun and supportive way to connect with other parents? Our Virtual Nurturing Parenting Group is the perfect place! Join us online\, every Tuesday\, to share tips\, learn new skills\, and uplift each other in a relaxed\, friendly setting. Whether you’re a new parent or have lots of experience\, everyone is welcome. However\, this group is focusing on parents and/or caregivers who have children 0 to 6 years of age. Come as you are and be part of our awesome parenting community from the comfort of your home.
URL:https://helpmegrownorthtexas.org/event/virtual-nurturing-parenting-group/
LOCATION:TX
ATTACH;FMTTYPE=image/jpeg:https://helpmegrownorthtexas.org/wp-content/uploads/2026/02/e63c0dc1c1f9f0e61c25886ca358d789.jpg
END:VEVENT
BEGIN:VEVENT
DTSTART;TZID=America/Chicago:20260219T110000
DTEND;TZID=America/Chicago:20260219T120000
DTSTAMP:20260419T222831
CREATED:20260218T220414Z
LAST-MODIFIED:20260219T154128Z
UID:107802-1771498800-1771502400@helpmegrownorthtexas.org
SUMMARY:Face to Face Friendship Arts & Crafts - North Center
DESCRIPTION:Come join us and celebrate the month of Love and Friendship!
URL:https://helpmegrownorthtexas.org/event/face-to-face-friendship-arts-crafts-north-center-5/
LOCATION:North Center – 6032 Innovation Way Keller\, 76244\, Innovation Way\, Fort Worth\, TX\, 76244\, United States
ATTACH;FMTTYPE=image/jpeg:https://helpmegrownorthtexas.org/wp-content/uploads/2026/02/d048d1a96dea46bf063118388f41b69e.jpg
END:VEVENT
BEGIN:VEVENT
DTSTART;TZID=America/Chicago:20260224T103000
DTEND;TZID=America/Chicago:20260224T113000
DTSTAMP:20260419T222831
CREATED:20260218T220408Z
LAST-MODIFIED:20260219T154246Z
UID:107798-1771929000-1771932600@helpmegrownorthtexas.org
SUMMARY:Face to Face Holiday Sensory Group - North Center
DESCRIPTION:Come join us!
URL:https://helpmegrownorthtexas.org/event/face-to-face-holiday-sensory-group-north-center-7/
LOCATION:North Center – 6032 Innovation Way Keller\, 76244\, Innovation Way\, Fort Worth\, TX\, 76244\, United States
ATTACH;FMTTYPE=image/jpeg:https://helpmegrownorthtexas.org/wp-content/uploads/2026/02/9e6b6c2563d6b47bf821676a6ace55a9.jpg
END:VEVENT
BEGIN:VEVENT
DTSTART;TZID=America/Chicago:20260224T120000
DTEND;TZID=America/Chicago:20260224T130000
DTSTAMP:20260419T222831
CREATED:20260218T220411Z
LAST-MODIFIED:20260219T154220Z
UID:107800-1771934400-1771938000@helpmegrownorthtexas.org
SUMMARY:Face to Face Music and Motion - North Center
DESCRIPTION:Come Join us!
URL:https://helpmegrownorthtexas.org/event/face-to-face-music-and-motion-north-center-13/
LOCATION:North Center – 6032 Innovation Way Keller\, 76244\, Innovation Way\, Fort Worth\, TX\, 76244\, United States
ATTACH;FMTTYPE=image/jpeg:https://helpmegrownorthtexas.org/wp-content/uploads/2026/02/40278c7549ecb6ba14c57ef21b228ff6.jpg
END:VEVENT
BEGIN:VEVENT
DTSTART;TZID=America/Chicago:20260226T110000
DTEND;TZID=America/Chicago:20260226T120000
DTSTAMP:20260419T222831
CREATED:20260218T220416Z
LAST-MODIFIED:20260219T154128Z
UID:107804-1772103600-1772107200@helpmegrownorthtexas.org
SUMMARY:Face to Face Friendship Arts & Crafts - North Center
DESCRIPTION:Come join us and celebrate the month of Love and Friendship!
URL:https://helpmegrownorthtexas.org/event/face-to-face-friendship-arts-crafts-north-center-6/
LOCATION:North Center – 6032 Innovation Way Keller\, 76244\, Innovation Way\, Fort Worth\, TX\, 76244\, United States
ATTACH;FMTTYPE=image/jpeg:https://helpmegrownorthtexas.org/wp-content/uploads/2026/02/d048d1a96dea46bf063118388f41b69e.jpg
END:VEVENT
BEGIN:VEVENT
DTSTART;TZID=America/Chicago:20260303T093000
DTEND;TZID=America/Chicago:20260303T103000
DTSTAMP:20260419T222831
CREATED:20260219T154105Z
LAST-MODIFIED:20260219T154105Z
UID:107856-1772530200-1772533800@helpmegrownorthtexas.org
SUMMARY:Face to Face Little Sprouts Group- NRH
DESCRIPTION:Come and play with us!
URL:https://helpmegrownorthtexas.org/event/face-to-face-little-sprouts-group-nrh-6/
LOCATION:Adventure World Playground\, 7451 Starnes Road\, North Richland Hills\, TX\, 76182\, United States
ATTACH;FMTTYPE=image/jpeg:https://helpmegrownorthtexas.org/wp-content/uploads/2026/02/8f07bca8c13f4425cf3a35903eac0b37.jpg
END:VEVENT
BEGIN:VEVENT
DTSTART;TZID=America/Chicago:20260303T110000
DTEND;TZID=America/Chicago:20260303T120000
DTSTAMP:20260419T222831
CREATED:20260219T154037Z
LAST-MODIFIED:20260219T154037Z
UID:107850-1772535600-1772539200@helpmegrownorthtexas.org
SUMMARY:Face to Face: Nurture Nature Exploration- NRH
DESCRIPTION:Come join us!
URL:https://helpmegrownorthtexas.org/event/face-to-face-nurture-nature-exploration-nrh/
LOCATION:Adventure World Playground\, 7451 Starnes Road\, North Richland Hills\, TX\, 76182\, United States
ATTACH;FMTTYPE=image/jpeg:https://helpmegrownorthtexas.org/wp-content/uploads/2026/02/ecbcabf2fccbe1bcfb395cf89fb66fa8.jpg
END:VEVENT
BEGIN:VEVENT
DTSTART;TZID=America/Chicago:20260305T103000
DTEND;TZID=America/Chicago:20260305T113000
DTSTAMP:20260419T222831
CREATED:20260219T153713Z
LAST-MODIFIED:20260219T153713Z
UID:107809-1772706600-1772710200@helpmegrownorthtexas.org
SUMMARY:Face to Face: Nurture Nature Exploration- Decatur
DESCRIPTION:Come join us!
URL:https://helpmegrownorthtexas.org/event/face-to-face-nurture-nature-exploration-decatur/
LOCATION:351 E Mill St\, 351 East Mill Street\, Decatur\, TX\, 76234\, United States
ATTACH;FMTTYPE=image/jpeg:https://helpmegrownorthtexas.org/wp-content/uploads/2026/02/0c5deef334d7896e5b4b125b8e52a550.jpg
END:VEVENT
BEGIN:VEVENT
DTSTART;TZID=America/Chicago:20260310T093000
DTEND;TZID=America/Chicago:20260310T103000
DTSTAMP:20260419T222831
CREATED:20260219T154107Z
LAST-MODIFIED:20260219T154107Z
UID:107858-1773135000-1773138600@helpmegrownorthtexas.org
SUMMARY:Face to Face Little Sprouts Group- NRH
DESCRIPTION:Come and play with us!
URL:https://helpmegrownorthtexas.org/event/face-to-face-little-sprouts-group-nrh-7/
LOCATION:Adventure World Playground\, 7451 Starnes Road\, North Richland Hills\, TX\, 76182\, United States
ATTACH;FMTTYPE=image/jpeg:https://helpmegrownorthtexas.org/wp-content/uploads/2026/02/8f07bca8c13f4425cf3a35903eac0b37.jpg
END:VEVENT
BEGIN:VEVENT
DTSTART;TZID=America/Chicago:20260310T110000
DTEND;TZID=America/Chicago:20260310T120000
DTSTAMP:20260419T222831
CREATED:20260219T154039Z
LAST-MODIFIED:20260219T154039Z
UID:107852-1773140400-1773144000@helpmegrownorthtexas.org
SUMMARY:Face to Face: Nurture Nature Exploration- NRH
DESCRIPTION:Come join us!
URL:https://helpmegrownorthtexas.org/event/face-to-face-nurture-nature-exploration-nrh-2/
LOCATION:Adventure World Playground\, 7451 Starnes Road\, North Richland Hills\, TX\, 76182\, United States
ATTACH;FMTTYPE=image/jpeg:https://helpmegrownorthtexas.org/wp-content/uploads/2026/02/ecbcabf2fccbe1bcfb395cf89fb66fa8.jpg
END:VEVENT
BEGIN:VEVENT
DTSTART;TZID=America/Chicago:20260312T093000
DTEND;TZID=America/Chicago:20260312T103000
DTSTAMP:20260419T222831
CREATED:20260219T154009Z
LAST-MODIFIED:20260219T154009Z
UID:107845-1773307800-1773311400@helpmegrownorthtexas.org
SUMMARY:Face to Face Little Sprouts Group-Lewisville
DESCRIPTION:Come and play with us!
URL:https://helpmegrownorthtexas.org/event/face-to-face-little-sprouts-group-lewisville/
LOCATION:1899 Edmonds Ln\, 1899 Edmonds Lane\, Lewisville\, TX\, 75067\, United States
ATTACH;FMTTYPE=image/jpeg:https://helpmegrownorthtexas.org/wp-content/uploads/2026/02/310f8e4b2858c0d8c9fd4c2f5ab1e471.jpg
END:VEVENT
BEGIN:VEVENT
DTSTART;TZID=America/Chicago:20260312T103000
DTEND;TZID=America/Chicago:20260312T113000
DTSTAMP:20260419T222831
CREATED:20260219T153715Z
LAST-MODIFIED:20260219T153715Z
UID:107811-1773311400-1773315000@helpmegrownorthtexas.org
SUMMARY:Face to Face: Nurture Nature Exploration- Decatur
DESCRIPTION:Come join us!
URL:https://helpmegrownorthtexas.org/event/face-to-face-nurture-nature-exploration-decatur-2/
LOCATION:351 E Mill St\, 351 East Mill Street\, Decatur\, TX\, 76234\, United States
ATTACH;FMTTYPE=image/jpeg:https://helpmegrownorthtexas.org/wp-content/uploads/2026/02/0c5deef334d7896e5b4b125b8e52a550.jpg
END:VEVENT
BEGIN:VEVENT
DTSTART;TZID=America/Chicago:20260312T110000
DTEND;TZID=America/Chicago:20260312T120000
DTSTAMP:20260419T222831
CREATED:20260219T153832Z
LAST-MODIFIED:20260219T153855Z
UID:107823-1773313200-1773316800@helpmegrownorthtexas.org
SUMMARY:Face to Face: Nurture Nature Exploration- Lewisville
DESCRIPTION:Come join us!
URL:https://helpmegrownorthtexas.org/event/face-to-face-nurture-nature-exploration-lewisville/
LOCATION:1899 Edmonds Ln\, 1899 Edmonds Lane\, Lewisville\, TX\, 75067\, United States
ATTACH;FMTTYPE=image/jpeg:https://helpmegrownorthtexas.org/wp-content/uploads/2026/02/03058b4538358d19d97f317a9d3e0748.jpg
END:VEVENT
BEGIN:VEVENT
DTSTART;TZID=America/Chicago:20260313T093000
DTEND;TZID=America/Chicago:20260313T103000
DTSTAMP:20260419T222831
CREATED:20260219T153945Z
LAST-MODIFIED:20260219T153945Z
UID:107840-1773394200-1773397800@helpmegrownorthtexas.org
SUMMARY:Face to Face Little Sprouts Gardening Group-Mansfield
DESCRIPTION:Come and play with us!
URL:https://helpmegrownorthtexas.org/event/face-to-face-little-sprouts-gardening-group-mansfield/
LOCATION:303 N Walnut Creek Dr\, 303 North Walnut Creek Drive\, Mansfield\, TX\, 76063\, United States
ATTACH;FMTTYPE=image/jpeg:https://helpmegrownorthtexas.org/wp-content/uploads/2026/02/8d116fcdd770d1c1d0346bbd70b91c46.jpg
END:VEVENT
BEGIN:VEVENT
DTSTART;TZID=America/Chicago:20260313T110000
DTEND;TZID=America/Chicago:20260313T120000
DTSTAMP:20260419T222831
CREATED:20260219T153920Z
LAST-MODIFIED:20260219T153920Z
UID:107834-1773399600-1773403200@helpmegrownorthtexas.org
SUMMARY:Face to Face: Nurture Nature Exploration-Mansfield
DESCRIPTION:Come join us!
URL:https://helpmegrownorthtexas.org/event/face-to-face-nurture-nature-exploration-mansfield/
LOCATION:Katherine Rose Memorial Park\, 303 North Walnut Creek Drive\, Mansfield\, TX\, 76063\, United States
ATTACH;FMTTYPE=image/jpeg:https://helpmegrownorthtexas.org/wp-content/uploads/2026/02/42ac23a8b471af9eee4a7e5614bd8abf.jpg
END:VEVENT
BEGIN:VEVENT
DTSTART;TZID=America/Chicago:20260317T093000
DTEND;TZID=America/Chicago:20260317T103000
DTSTAMP:20260419T222831
CREATED:20260219T154108Z
LAST-MODIFIED:20260219T154108Z
UID:107859-1773739800-1773743400@helpmegrownorthtexas.org
SUMMARY:Face to Face Little Sprouts Group- NRH
DESCRIPTION:Come and play with us!
URL:https://helpmegrownorthtexas.org/event/face-to-face-little-sprouts-group-nrh-8/
LOCATION:Adventure World Playground\, 7451 Starnes Road\, North Richland Hills\, TX\, 76182\, United States
ATTACH;FMTTYPE=image/jpeg:https://helpmegrownorthtexas.org/wp-content/uploads/2026/02/8f07bca8c13f4425cf3a35903eac0b37.jpg
END:VEVENT
BEGIN:VEVENT
DTSTART;TZID=America/Chicago:20260317T110000
DTEND;TZID=America/Chicago:20260317T120000
DTSTAMP:20260419T222831
CREATED:20260219T154040Z
LAST-MODIFIED:20260219T154040Z
UID:107853-1773745200-1773748800@helpmegrownorthtexas.org
SUMMARY:Face to Face: Nurture Nature Exploration- NRH
DESCRIPTION:Come join us!
URL:https://helpmegrownorthtexas.org/event/face-to-face-nurture-nature-exploration-nrh-3/
LOCATION:Adventure World Playground\, 7451 Starnes Road\, North Richland Hills\, TX\, 76182\, United States
ATTACH;FMTTYPE=image/jpeg:https://helpmegrownorthtexas.org/wp-content/uploads/2026/02/ecbcabf2fccbe1bcfb395cf89fb66fa8.jpg
END:VEVENT
END:VCALENDAR