BEGIN:VCALENDAR
VERSION:2.0
PRODID:-//Help Me Grow North Texas - ECPv6.15.20//NONSGML v1.0//EN
CALSCALE:GREGORIAN
METHOD:PUBLISH
X-WR-CALNAME:Help Me Grow North Texas
X-ORIGINAL-URL:https://helpmegrownorthtexas.org
X-WR-CALDESC:Events for Help Me Grow North Texas
REFRESH-INTERVAL;VALUE=DURATION:PT1H
X-Robots-Tag:noindex
X-PUBLISHED-TTL:PT1H
BEGIN:VTIMEZONE
TZID:America/Chicago
BEGIN:DAYLIGHT
TZOFFSETFROM:-0600
TZOFFSETTO:-0500
TZNAME:CDT
DTSTART:20220313T080000
END:DAYLIGHT
BEGIN:STANDARD
TZOFFSETFROM:-0500
TZOFFSETTO:-0600
TZNAME:CST
DTSTART:20221106T070000
END:STANDARD
BEGIN:DAYLIGHT
TZOFFSETFROM:-0600
TZOFFSETTO:-0500
TZNAME:CDT
DTSTART:20230312T080000
END:DAYLIGHT
BEGIN:STANDARD
TZOFFSETFROM:-0500
TZOFFSETTO:-0600
TZNAME:CST
DTSTART:20231105T070000
END:STANDARD
BEGIN:DAYLIGHT
TZOFFSETFROM:-0600
TZOFFSETTO:-0500
TZNAME:CDT
DTSTART:20240310T080000
END:DAYLIGHT
BEGIN:STANDARD
TZOFFSETFROM:-0500
TZOFFSETTO:-0600
TZNAME:CST
DTSTART:20241103T070000
END:STANDARD
END:VTIMEZONE
BEGIN:VEVENT
DTSTART;TZID=America/Chicago:20230418T170000
DTEND;TZID=America/Chicago:20230418T180000
DTSTAMP:20260419T164007
CREATED:20230320T220624Z
LAST-MODIFIED:20230320T220624Z
UID:104709-1681837200-1681840800@helpmegrownorthtexas.org
SUMMARY:Virtual Nurturing Families Program- Spanish
DESCRIPTION:¡Únete a nosotras!
URL:https://helpmegrownorthtexas.org/event/virtual-nurturing-families-program-spanish-3/
LOCATION:TX
ATTACH;FMTTYPE=image/jpeg:https://helpmegrownorthtexas.org/wp-content/uploads/2023/03/1a0083c6da9bf3626460333b0e8cba70.jpg
END:VEVENT
BEGIN:VEVENT
DTSTART;TZID=America/Chicago:20230418T130000
DTEND;TZID=America/Chicago:20230418T140000
DTSTAMP:20260419T164007
CREATED:20230320T221049Z
LAST-MODIFIED:20230320T221049Z
UID:104765-1681822800-1681826400@helpmegrownorthtexas.org
SUMMARY:Face to Face Nurture Nature Exploration at Play Studio
DESCRIPTION:Come join us!
URL:https://helpmegrownorthtexas.org/event/face-to-face-nurture-nature-exploration-at-play-studio-5/
LOCATION:Play Studio by Green Space\, 3005 East Belknap Street\, Fort Worth\, TX\, 76111\, United States
ATTACH;FMTTYPE=image/jpeg:https://helpmegrownorthtexas.org/wp-content/uploads/2023/03/024589e4b8054bd1793de62b93a6eacf.jpg
END:VEVENT
BEGIN:VEVENT
DTSTART;TZID=America/Chicago:20230418T110000
DTEND;TZID=America/Chicago:20230418T120000
DTSTAMP:20260419T164007
CREATED:20230320T221113Z
LAST-MODIFIED:20230320T221113Z
UID:104777-1681815600-1681819200@helpmegrownorthtexas.org
SUMMARY:Face to Face Healthy Eating and Reading at Play Studio
DESCRIPTION:Come join us!
URL:https://helpmegrownorthtexas.org/event/face-to-face-healthy-eating-and-reading-at-play-studio-5/
LOCATION:Play Studio by Green Space\, 3005 East Belknap Street\, Fort Worth\, TX\, 76111\, United States
ATTACH;FMTTYPE=image/jpeg:https://helpmegrownorthtexas.org/wp-content/uploads/2023/03/6a23cc7c678799df84fd285fc745c42d.jpg
END:VEVENT
BEGIN:VEVENT
DTSTART;TZID=America/Chicago:20230418T093000
DTEND;TZID=America/Chicago:20230418T103000
DTSTAMP:20260419T164007
CREATED:20230320T220834Z
LAST-MODIFIED:20230320T220834Z
UID:104727-1681810200-1681813800@helpmegrownorthtexas.org
SUMMARY:Face to Face Transition Group at Play Studio
DESCRIPTION:Come Join us!
URL:https://helpmegrownorthtexas.org/event/face-to-face-transition-group-at-play-studio-5/
LOCATION:Play Studio by Green Space\, 3005 East Belknap Street\, Fort Worth\, TX\, 76111\, United States
ATTACH;FMTTYPE=image/jpeg:https://helpmegrownorthtexas.org/wp-content/uploads/2023/03/1c18114e5b9d81af896a466256127bd6.jpg
END:VEVENT
BEGIN:VEVENT
DTSTART;TZID=America/Chicago:20230414T093000
DTEND;TZID=America/Chicago:20230414T110000
DTSTAMP:20260419T164007
CREATED:20230320T223425Z
LAST-MODIFIED:20230320T223425Z
UID:104809-1681464600-1681470000@helpmegrownorthtexas.org
SUMMARY:Face to Face Nurturing Families Program- Crowley
DESCRIPTION:Come join us!
URL:https://helpmegrownorthtexas.org/event/face-to-face-nurturing-families-program-crowley-3/
LOCATION:216 N Magnolia St\, 216 North Magnolia Street\, Crowley\, TX\, 76036\, United States
ATTACH;FMTTYPE=image/jpeg:https://helpmegrownorthtexas.org/wp-content/uploads/2023/03/8a18bba71c08b05e791cdb6f0bac31c3.jpg
END:VEVENT
BEGIN:VEVENT
DTSTART;TZID=America/Chicago:20230413T190000
DTEND;TZID=America/Chicago:20230413T203000
DTSTAMP:20260419T164007
CREATED:20230320T223135Z
LAST-MODIFIED:20230320T223135Z
UID:104802-1681412400-1681417800@helpmegrownorthtexas.org
SUMMARY:Face to Face Nurturing Families Program- Play Studio
DESCRIPTION:Come join us!
URL:https://helpmegrownorthtexas.org/event/face-to-face-nurturing-families-program-play-studio-3/
LOCATION:Play Studio by Green Space\, 3005 East Belknap Street\, Fort Worth\, TX\, 76111\, United States
ATTACH;FMTTYPE=image/jpeg:https://helpmegrownorthtexas.org/wp-content/uploads/2023/03/07ce4f5bef23ba6b0d3d6ddf21e7ef0e.jpg
END:VEVENT
BEGIN:VEVENT
DTSTART;TZID=America/Chicago:20230413T173000
DTEND;TZID=America/Chicago:20230413T190000
DTSTAMP:20260419T164007
CREATED:20230320T194847Z
LAST-MODIFIED:20230320T194847Z
UID:104675-1681407000-1681412400@helpmegrownorthtexas.org
SUMMARY:Face to Face #WoWTalk Café- Fort Worth
DESCRIPTION:Come join us!!
URL:https://helpmegrownorthtexas.org/event/face-to-face-wowtalk-cafe-fort-worth-11/
LOCATION:Mental Health America of Greater Tarrant County\, 3136 West 4th Street\, Fort Worth\, TX\, 76107\, United States
ATTACH;FMTTYPE=image/jpeg:https://helpmegrownorthtexas.org/wp-content/uploads/2023/03/76c2c53e454629cd1b4c9ee073af8c71.jpg
END:VEVENT
BEGIN:VEVENT
DTSTART;TZID=America/Chicago:20230413T110000
DTEND;TZID=America/Chicago:20230413T120000
DTSTAMP:20260419T164007
CREATED:20230320T221022Z
LAST-MODIFIED:20230320T221022Z
UID:104752-1681383600-1681387200@helpmegrownorthtexas.org
SUMMARY:Face to Face Little Sprouts at Play Studio
DESCRIPTION:Come Join us!
URL:https://helpmegrownorthtexas.org/event/face-to-face-little-sprouts-at-play-studio-4/
LOCATION:Play Studio by Green Space\, 3005 East Belknap Street\, Fort Worth\, TX\, 76111\, United States
ATTACH;FMTTYPE=image/jpeg:https://helpmegrownorthtexas.org/wp-content/uploads/2023/03/48396a2f7196b045e7e8b3bb1062ed2b.jpg
END:VEVENT
BEGIN:VEVENT
DTSTART;TZID=America/Chicago:20230413T093000
DTEND;TZID=America/Chicago:20230413T103000
DTSTAMP:20260419T164007
CREATED:20230320T220949Z
LAST-MODIFIED:20230320T220949Z
UID:104740-1681378200-1681381800@helpmegrownorthtexas.org
SUMMARY:Face to Face Music and Motion Group at Play Studio
DESCRIPTION:Come Join us!
URL:https://helpmegrownorthtexas.org/event/face-to-face-music-and-motion-group-at-play-studio-4/
LOCATION:Play Studio by Green Space\, 3005 East Belknap Street\, Fort Worth\, TX\, 76111\, United States
ATTACH;FMTTYPE=image/jpeg:https://helpmegrownorthtexas.org/wp-content/uploads/2023/03/1642fe1f421b2dbd987b2a4422055622.jpg
END:VEVENT
BEGIN:VEVENT
DTSTART;TZID=America/Chicago:20230412T110000
DTEND;TZID=America/Chicago:20230412T120000
DTSTAMP:20260419T164007
CREATED:20230320T220648Z
LAST-MODIFIED:20230320T220648Z
UID:104713-1681297200-1681300800@helpmegrownorthtexas.org
SUMMARY:Virtual Nurturing Families Program
DESCRIPTION:Come join us!
URL:https://helpmegrownorthtexas.org/event/virtual-nurturing-families-program-2/
LOCATION:TX
ATTACH;FMTTYPE=image/jpeg:https://helpmegrownorthtexas.org/wp-content/uploads/2023/03/a20ba637d8fa3f4e33e7dcf5447e3ec3.jpg
END:VEVENT
BEGIN:VEVENT
DTSTART;TZID=America/Chicago:20230412T100000
DTEND;TZID=America/Chicago:20230412T110000
DTSTAMP:20260419T164007
CREATED:20220929T055244Z
LAST-MODIFIED:20221201T013043Z
UID:5413-1681293600-1681297200@helpmegrownorthtexas.org
SUMMARY:Face to Face Kindermusik Group- Springtown
DESCRIPTION:Come join us!!
URL:https://helpmegrownorthtexas.org/event/face-to-face-kindermusik-group-springtown-38/
LOCATION:Cornerstone Community Church\, 2233 East Highway 199\, Springtown\, TX\, 76082\, United States
ATTACH;FMTTYPE=image/jpeg:https://helpmegrownorthtexas.org/wp-content/uploads/2022/09/66247c2fab629edeadff3c5e4bab5287.jpg
END:VEVENT
BEGIN:VEVENT
DTSTART;TZID=America/Chicago:20230411T170000
DTEND;TZID=America/Chicago:20230411T180000
DTSTAMP:20260419T164007
CREATED:20230320T220624Z
LAST-MODIFIED:20230320T220624Z
UID:104708-1681232400-1681236000@helpmegrownorthtexas.org
SUMMARY:Virtual Nurturing Families Program- Spanish
DESCRIPTION:¡Únete a nosotras!
URL:https://helpmegrownorthtexas.org/event/virtual-nurturing-families-program-spanish-2/
LOCATION:TX
ATTACH;FMTTYPE=image/jpeg:https://helpmegrownorthtexas.org/wp-content/uploads/2023/03/1a0083c6da9bf3626460333b0e8cba70.jpg
END:VEVENT
BEGIN:VEVENT
DTSTART;TZID=America/Chicago:20230411T130000
DTEND;TZID=America/Chicago:20230411T140000
DTSTAMP:20260419T164007
CREATED:20230320T221048Z
LAST-MODIFIED:20230320T221048Z
UID:104764-1681218000-1681221600@helpmegrownorthtexas.org
SUMMARY:Face to Face Nurture Nature Exploration at Play Studio
DESCRIPTION:Come join us!
URL:https://helpmegrownorthtexas.org/event/face-to-face-nurture-nature-exploration-at-play-studio-4/
LOCATION:Play Studio by Green Space\, 3005 East Belknap Street\, Fort Worth\, TX\, 76111\, United States
ATTACH;FMTTYPE=image/jpeg:https://helpmegrownorthtexas.org/wp-content/uploads/2023/03/024589e4b8054bd1793de62b93a6eacf.jpg
END:VEVENT
BEGIN:VEVENT
DTSTART;TZID=America/Chicago:20230411T110000
DTEND;TZID=America/Chicago:20230411T120000
DTSTAMP:20260419T164007
CREATED:20230320T221113Z
LAST-MODIFIED:20230320T221113Z
UID:104776-1681210800-1681214400@helpmegrownorthtexas.org
SUMMARY:Face to Face Healthy Eating and Reading at Play Studio
DESCRIPTION:Come join us!
URL:https://helpmegrownorthtexas.org/event/face-to-face-healthy-eating-and-reading-at-play-studio-4/
LOCATION:Play Studio by Green Space\, 3005 East Belknap Street\, Fort Worth\, TX\, 76111\, United States
ATTACH;FMTTYPE=image/jpeg:https://helpmegrownorthtexas.org/wp-content/uploads/2023/03/6a23cc7c678799df84fd285fc745c42d.jpg
END:VEVENT
BEGIN:VEVENT
DTSTART;TZID=America/Chicago:20230411T093000
DTEND;TZID=America/Chicago:20230411T103000
DTSTAMP:20260419T164007
CREATED:20230320T220834Z
LAST-MODIFIED:20230320T220834Z
UID:104726-1681205400-1681209000@helpmegrownorthtexas.org
SUMMARY:Face to Face Transition Group at Play Studio
DESCRIPTION:Come Join us!
URL:https://helpmegrownorthtexas.org/event/face-to-face-transition-group-at-play-studio-4/
LOCATION:Play Studio by Green Space\, 3005 East Belknap Street\, Fort Worth\, TX\, 76111\, United States
ATTACH;FMTTYPE=image/jpeg:https://helpmegrownorthtexas.org/wp-content/uploads/2023/03/1c18114e5b9d81af896a466256127bd6.jpg
END:VEVENT
BEGIN:VEVENT
DTSTART;TZID=America/Chicago:20230406T190000
DTEND;TZID=America/Chicago:20230406T203000
DTSTAMP:20260419T164007
CREATED:20230320T223134Z
LAST-MODIFIED:20230320T223134Z
UID:104801-1680807600-1680813000@helpmegrownorthtexas.org
SUMMARY:Face to Face Nurturing Families Program- Play Studio
DESCRIPTION:Come join us!
URL:https://helpmegrownorthtexas.org/event/face-to-face-nurturing-families-program-play-studio-2/
LOCATION:Play Studio by Green Space\, 3005 East Belknap Street\, Fort Worth\, TX\, 76111\, United States
ATTACH;FMTTYPE=image/jpeg:https://helpmegrownorthtexas.org/wp-content/uploads/2023/03/07ce4f5bef23ba6b0d3d6ddf21e7ef0e.jpg
END:VEVENT
BEGIN:VEVENT
DTSTART;TZID=America/Chicago:20230406T110000
DTEND;TZID=America/Chicago:20230406T120000
DTSTAMP:20260419T164007
CREATED:20230320T221022Z
LAST-MODIFIED:20230320T221022Z
UID:104751-1680778800-1680782400@helpmegrownorthtexas.org
SUMMARY:Face to Face Little Sprouts at Play Studio
DESCRIPTION:Come Join us!
URL:https://helpmegrownorthtexas.org/event/face-to-face-little-sprouts-at-play-studio-3/
LOCATION:Play Studio by Green Space\, 3005 East Belknap Street\, Fort Worth\, TX\, 76111\, United States
ATTACH;FMTTYPE=image/jpeg:https://helpmegrownorthtexas.org/wp-content/uploads/2023/03/48396a2f7196b045e7e8b3bb1062ed2b.jpg
END:VEVENT
BEGIN:VEVENT
DTSTART;TZID=America/Chicago:20230406T093000
DTEND;TZID=America/Chicago:20230406T103000
DTSTAMP:20260419T164007
CREATED:20230320T220949Z
LAST-MODIFIED:20230320T220949Z
UID:104739-1680773400-1680777000@helpmegrownorthtexas.org
SUMMARY:Face to Face Music and Motion Group at Play Studio
DESCRIPTION:Come Join us!
URL:https://helpmegrownorthtexas.org/event/face-to-face-music-and-motion-group-at-play-studio-3/
LOCATION:Play Studio by Green Space\, 3005 East Belknap Street\, Fort Worth\, TX\, 76111\, United States
ATTACH;FMTTYPE=image/jpeg:https://helpmegrownorthtexas.org/wp-content/uploads/2023/03/1642fe1f421b2dbd987b2a4422055622.jpg
END:VEVENT
BEGIN:VEVENT
DTSTART;TZID=America/Chicago:20230405T110000
DTEND;TZID=America/Chicago:20230405T120000
DTSTAMP:20260419T164007
CREATED:20230320T220645Z
LAST-MODIFIED:20230320T220645Z
UID:104711-1680692400-1680696000@helpmegrownorthtexas.org
SUMMARY:Virtual Nurturing Families Program
DESCRIPTION:Come join us!
URL:https://helpmegrownorthtexas.org/event/virtual-nurturing-families-program/
LOCATION:TX
ATTACH;FMTTYPE=image/jpeg:https://helpmegrownorthtexas.org/wp-content/uploads/2023/03/a20ba637d8fa3f4e33e7dcf5447e3ec3.jpg
END:VEVENT
BEGIN:VEVENT
DTSTART;TZID=America/Chicago:20230405T100000
DTEND;TZID=America/Chicago:20230405T110000
DTSTAMP:20260419T164007
CREATED:20230320T221149Z
LAST-MODIFIED:20230320T221149Z
UID:104787-1680688800-1680692400@helpmegrownorthtexas.org
SUMMARY:Face to Face Music and Motion - Alvarado
DESCRIPTION:Come Join Us!!
URL:https://helpmegrownorthtexas.org/event/face-to-face-music-and-motion-alvarado-3/
LOCATION:Alvarado Public Library\, 210 North Baugh Street\, Alvarado\, TX\, 76009\, United States
ATTACH;FMTTYPE=image/jpeg:https://helpmegrownorthtexas.org/wp-content/uploads/2023/03/5b51e2d686c0c8f3ed305ad26dacdf7a.jpg
END:VEVENT
BEGIN:VEVENT
DTSTART;TZID=America/Chicago:20230405T100000
DTEND;TZID=America/Chicago:20230405T110000
DTSTAMP:20260419T164007
CREATED:20220929T055244Z
LAST-MODIFIED:20221201T013043Z
UID:5412-1680688800-1680692400@helpmegrownorthtexas.org
SUMMARY:Face to Face Kindermusik Group- Springtown
DESCRIPTION:Come join us!!
URL:https://helpmegrownorthtexas.org/event/face-to-face-kindermusik-group-springtown-37/
LOCATION:Cornerstone Community Church\, 2233 East Highway 199\, Springtown\, TX\, 76082\, United States
ATTACH;FMTTYPE=image/jpeg:https://helpmegrownorthtexas.org/wp-content/uploads/2022/09/66247c2fab629edeadff3c5e4bab5287.jpg
END:VEVENT
BEGIN:VEVENT
DTSTART;TZID=America/Chicago:20230405T091500
DTEND;TZID=America/Chicago:20230405T105500
DTSTAMP:20260419T164007
CREATED:20230320T195055Z
LAST-MODIFIED:20230320T195055Z
UID:104687-1680686100-1680692100@helpmegrownorthtexas.org
SUMMARY:Face to Face #WoWTalk Café- Martin High
DESCRIPTION:Come join us!!
URL:https://helpmegrownorthtexas.org/event/face-to-face-wowtalk-cafe-martin-high-2/
LOCATION:James Martin High School\, 4501 West Pleasant Ridge Road\, Arlington\, TX\, 76016\, United States
ATTACH;FMTTYPE=image/jpeg:https://helpmegrownorthtexas.org/wp-content/uploads/2023/03/66d3bc509ecd10b8c967c3abdc8e3109.jpg
END:VEVENT
BEGIN:VEVENT
DTSTART;TZID=America/Chicago:20230404T170000
DTEND;TZID=America/Chicago:20230404T180000
DTSTAMP:20260419T164007
CREATED:20230320T220621Z
LAST-MODIFIED:20230320T220621Z
UID:104706-1680627600-1680631200@helpmegrownorthtexas.org
SUMMARY:Virtual Nurturing Families Program- Spanish
DESCRIPTION:¡Únete a nosotras!
URL:https://helpmegrownorthtexas.org/event/virtual-nurturing-families-program-spanish/
LOCATION:TX
ATTACH;FMTTYPE=image/jpeg:https://helpmegrownorthtexas.org/wp-content/uploads/2023/03/1a0083c6da9bf3626460333b0e8cba70.jpg
END:VEVENT
BEGIN:VEVENT
DTSTART;TZID=America/Chicago:20230404T130000
DTEND;TZID=America/Chicago:20230404T140000
DTSTAMP:20260419T164007
CREATED:20230320T221048Z
LAST-MODIFIED:20230320T221048Z
UID:104763-1680613200-1680616800@helpmegrownorthtexas.org
SUMMARY:Face to Face Nurture Nature Exploration at Play Studio
DESCRIPTION:Come join us!
URL:https://helpmegrownorthtexas.org/event/face-to-face-nurture-nature-exploration-at-play-studio-3/
LOCATION:Play Studio by Green Space\, 3005 East Belknap Street\, Fort Worth\, TX\, 76111\, United States
ATTACH;FMTTYPE=image/jpeg:https://helpmegrownorthtexas.org/wp-content/uploads/2023/03/024589e4b8054bd1793de62b93a6eacf.jpg
END:VEVENT
BEGIN:VEVENT
DTSTART;TZID=America/Chicago:20230404T110000
DTEND;TZID=America/Chicago:20230404T120000
DTSTAMP:20260419T164007
CREATED:20230320T221113Z
LAST-MODIFIED:20230320T221113Z
UID:104775-1680606000-1680609600@helpmegrownorthtexas.org
SUMMARY:Face to Face Healthy Eating and Reading at Play Studio
DESCRIPTION:Come join us!
URL:https://helpmegrownorthtexas.org/event/face-to-face-healthy-eating-and-reading-at-play-studio-3/
LOCATION:Play Studio by Green Space\, 3005 East Belknap Street\, Fort Worth\, TX\, 76111\, United States
ATTACH;FMTTYPE=image/jpeg:https://helpmegrownorthtexas.org/wp-content/uploads/2023/03/6a23cc7c678799df84fd285fc745c42d.jpg
END:VEVENT
BEGIN:VEVENT
DTSTART;TZID=America/Chicago:20230404T093000
DTEND;TZID=America/Chicago:20230404T103000
DTSTAMP:20260419T164007
CREATED:20230320T220834Z
LAST-MODIFIED:20230320T220834Z
UID:104725-1680600600-1680604200@helpmegrownorthtexas.org
SUMMARY:Face to Face Transition Group at Play Studio
DESCRIPTION:Come Join us!
URL:https://helpmegrownorthtexas.org/event/face-to-face-transition-group-at-play-studio-3/
LOCATION:Play Studio by Green Space\, 3005 East Belknap Street\, Fort Worth\, TX\, 76111\, United States
ATTACH;FMTTYPE=image/jpeg:https://helpmegrownorthtexas.org/wp-content/uploads/2023/03/1c18114e5b9d81af896a466256127bd6.jpg
END:VEVENT
BEGIN:VEVENT
DTSTART;TZID=America/Chicago:20230403T080000
DTEND;TZID=America/Chicago:20230403T090000
DTSTAMP:20260419T164007
CREATED:20230320T223720Z
LAST-MODIFIED:20230320T223720Z
UID:104814-1680508800-1680512400@helpmegrownorthtexas.org
SUMMARY:Face to Face Nurturing Families Program- Washington Heights
DESCRIPTION:Come join us!/ ¡Ven y únete a nosotros!
URL:https://helpmegrownorthtexas.org/event/face-to-face-nurturing-families-program-washington-heights-2/
LOCATION:Washington Heights Elementary\, 3214 Clinton Avenue\, Fort Worth\, TX\, 76106\, United States
ATTACH;FMTTYPE=image/jpeg:https://helpmegrownorthtexas.org/wp-content/uploads/2023/03/f7254d974f75b330b757aab28ca6d63f.jpg
END:VEVENT
BEGIN:VEVENT
DTSTART;TZID=America/Chicago:20230331T093000
DTEND;TZID=America/Chicago:20230331T110000
DTSTAMP:20260419T164007
CREATED:20230320T223425Z
LAST-MODIFIED:20230320T223425Z
UID:104808-1680255000-1680260400@helpmegrownorthtexas.org
SUMMARY:Face to Face Nurturing Families Program- Crowley
DESCRIPTION:Come join us!
URL:https://helpmegrownorthtexas.org/event/face-to-face-nurturing-families-program-crowley-2/
LOCATION:216 N Magnolia St\, 216 North Magnolia Street\, Crowley\, TX\, 76036\, United States
ATTACH;FMTTYPE=image/jpeg:https://helpmegrownorthtexas.org/wp-content/uploads/2023/03/8a18bba71c08b05e791cdb6f0bac31c3.jpg
END:VEVENT
BEGIN:VEVENT
DTSTART;TZID=America/Chicago:20230330T190000
DTEND;TZID=America/Chicago:20230330T203000
DTSTAMP:20260419T164007
CREATED:20230320T223131Z
LAST-MODIFIED:20230320T223131Z
UID:104799-1680202800-1680208200@helpmegrownorthtexas.org
SUMMARY:Face to Face Nurturing Families Program- Play Studio
DESCRIPTION:Come join us!
URL:https://helpmegrownorthtexas.org/event/face-to-face-nurturing-families-program-play-studio/
LOCATION:Play Studio by Green Space\, 3005 East Belknap Street\, Fort Worth\, TX\, 76111\, United States
ATTACH;FMTTYPE=image/jpeg:https://helpmegrownorthtexas.org/wp-content/uploads/2023/03/07ce4f5bef23ba6b0d3d6ddf21e7ef0e.jpg
END:VEVENT
BEGIN:VEVENT
DTSTART;TZID=America/Chicago:20230330T110000
DTEND;TZID=America/Chicago:20230330T120000
DTSTAMP:20260419T164007
CREATED:20230320T221022Z
LAST-MODIFIED:20230320T221022Z
UID:104750-1680174000-1680177600@helpmegrownorthtexas.org
SUMMARY:Face to Face Little Sprouts at Play Studio
DESCRIPTION:Come Join us!
URL:https://helpmegrownorthtexas.org/event/face-to-face-little-sprouts-at-play-studio-2/
LOCATION:Play Studio by Green Space\, 3005 East Belknap Street\, Fort Worth\, TX\, 76111\, United States
ATTACH;FMTTYPE=image/jpeg:https://helpmegrownorthtexas.org/wp-content/uploads/2023/03/48396a2f7196b045e7e8b3bb1062ed2b.jpg
END:VEVENT
END:VCALENDAR