BEGIN:VCALENDAR
VERSION:2.0
PRODID:-//Help Me Grow North Texas - ECPv6.15.20//NONSGML v1.0//EN
CALSCALE:GREGORIAN
METHOD:PUBLISH
X-WR-CALNAME:Help Me Grow North Texas
X-ORIGINAL-URL:https://helpmegrownorthtexas.org
X-WR-CALDESC:Events for Help Me Grow North Texas
REFRESH-INTERVAL;VALUE=DURATION:PT1H
X-Robots-Tag:noindex
X-PUBLISHED-TTL:PT1H
BEGIN:VTIMEZONE
TZID:America/Chicago
BEGIN:DAYLIGHT
TZOFFSETFROM:-0600
TZOFFSETTO:-0500
TZNAME:CDT
DTSTART:20230312T080000
END:DAYLIGHT
BEGIN:STANDARD
TZOFFSETFROM:-0500
TZOFFSETTO:-0600
TZNAME:CST
DTSTART:20231105T070000
END:STANDARD
BEGIN:DAYLIGHT
TZOFFSETFROM:-0600
TZOFFSETTO:-0500
TZNAME:CDT
DTSTART:20240310T080000
END:DAYLIGHT
BEGIN:STANDARD
TZOFFSETFROM:-0500
TZOFFSETTO:-0600
TZNAME:CST
DTSTART:20241103T070000
END:STANDARD
BEGIN:DAYLIGHT
TZOFFSETFROM:-0600
TZOFFSETTO:-0500
TZNAME:CDT
DTSTART:20250309T080000
END:DAYLIGHT
BEGIN:STANDARD
TZOFFSETFROM:-0500
TZOFFSETTO:-0600
TZNAME:CST
DTSTART:20251102T070000
END:STANDARD
END:VTIMEZONE
BEGIN:VEVENT
DTSTART;TZID=America/Chicago:20241001T110000
DTEND;TZID=America/Chicago:20241001T123000
DTSTAMP:20260420T213313
CREATED:20240930T234824Z
LAST-MODIFIED:20240930T234824Z
UID:106778-1727780400-1727785800@helpmegrownorthtexas.org
SUMMARY:Face to Face Mothers and Babies Group - MHMR West Center
DESCRIPTION:Join Us!
URL:https://helpmegrownorthtexas.org/event/face-to-face-mothers-and-babies-group-mhmr-west-center/
LOCATION:6777 Camp Bowie Blvd\, 6777 Camp Bowie Boulevard\, Fort Worth\, TX\, 76116\, United States
ATTACH;FMTTYPE=image/jpeg:https://helpmegrownorthtexas.org/wp-content/uploads/2024/09/3a49006f933f9c24d9fbf486b32e2a16.jpg
END:VEVENT
BEGIN:VEVENT
DTSTART;TZID=America/Chicago:20241001T110000
DTEND;TZID=America/Chicago:20241001T120000
DTSTAMP:20260420T213313
CREATED:20240930T235131Z
LAST-MODIFIED:20240930T235131Z
UID:106798-1727780400-1727784000@helpmegrownorthtexas.org
SUMMARY:Face to Face Healthy Eating and Reading (Spanish)- Keller
DESCRIPTION:Come join us!
URL:https://helpmegrownorthtexas.org/event/face-to-face-healthy-eating-and-reading-spanish-keller/
LOCATION:North Clinic – Keller\, 6032 Innovation Way\, Keller\, TX\, 76244\, United States
ATTACH;FMTTYPE=image/jpeg:https://helpmegrownorthtexas.org/wp-content/uploads/2024/09/9732a65871e297ffe3908604ba7f2cab.jpg
END:VEVENT
BEGIN:VEVENT
DTSTART;TZID=America/Chicago:20241001T093000
DTEND;TZID=America/Chicago:20241001T103000
DTSTAMP:20260420T213313
CREATED:20240930T235030Z
LAST-MODIFIED:20240930T235030Z
UID:106790-1727775000-1727778600@helpmegrownorthtexas.org
SUMMARY:Face to Face: Nurture Nature Exploration- Keller
DESCRIPTION:Come join us!
URL:https://helpmegrownorthtexas.org/event/face-to-face-nurture-nature-exploration-keller/
LOCATION:North Clinic – Keller\, 6032 Innovation Way\, Keller\, TX\, 76244\, United States
ATTACH;FMTTYPE=image/jpeg:https://helpmegrownorthtexas.org/wp-content/uploads/2024/09/e5e499a97f1b3668fd57a05aeff6f8ef.jpg
END:VEVENT
BEGIN:VEVENT
DTSTART;TZID=America/Chicago:20240926T173000
DTEND;TZID=America/Chicago:20240926T193000
DTSTAMP:20260420T213313
CREATED:20240819T153454Z
LAST-MODIFIED:20240819T153454Z
UID:106701-1727371800-1727379000@helpmegrownorthtexas.org
SUMMARY:Face to Face Parent Cafe- Hulen
DESCRIPTION:Come and join us!
URL:https://helpmegrownorthtexas.org/event/face-to-face-parent-cafe-hulen-3/
LOCATION:3800 Hulen St\, 3800 Hulen Street\, Fort Worth\, TX\, 76107\, United States
ATTACH;FMTTYPE=image/jpeg:https://helpmegrownorthtexas.org/wp-content/uploads/2024/08/8c8bc9732e298e9e90dd41fb4de20e56.jpg
END:VEVENT
BEGIN:VEVENT
DTSTART;TZID=America/Chicago:20240926T173000
DTEND;TZID=America/Chicago:20240926T190000
DTSTAMP:20260420T213313
CREATED:20240912T235417Z
LAST-MODIFIED:20240912T235417Z
UID:106747-1727371800-1727377200@helpmegrownorthtexas.org
SUMMARY:#WowTalk Cafe - Hulen
DESCRIPTION:#WoWTalk Cafés are free! It gives teens a chance to get together with their peers and talk about ways to be strong-minded\, make social connections\, and a chance to obtain support and resources. This is for ages 11-17.
URL:https://helpmegrownorthtexas.org/event/wowtalk-cafe-hulen/
LOCATION:TX
ATTACH;FMTTYPE=image/png:https://helpmegrownorthtexas.org/wp-content/uploads/2024/09/WoWTalk-Cafe-Hulen-9.26.24.png
END:VEVENT
BEGIN:VEVENT
DTSTART;TZID=America/Chicago:20240926T100000
DTEND;TZID=America/Chicago:20240926T113000
DTSTAMP:20260420T213313
CREATED:20240912T235003Z
LAST-MODIFIED:20240912T235003Z
UID:106744-1727344800-1727350200@helpmegrownorthtexas.org
SUMMARY:Mothers and Babies Group - Arlington Center
DESCRIPTION:Mothers and Babies is a “stress less” FREE group for pregnant and newly parenting mothers. Pregnancy is one of the most stressful times in life and this group will help pregnant mothers learn helpful tips to lessen stress and increase pleasant activities\, positive thoughts\, and interactions with others. This course is also proven to prevent and/or lessen postpartum depression. You are not alone!
URL:https://helpmegrownorthtexas.org/event/mothers-and-babies-group-arlington-center/
LOCATION:TX
ATTACH;FMTTYPE=image/png:https://helpmegrownorthtexas.org/wp-content/uploads/2024/09/Mothers-and-Babies-Arlington-Center-9.26.24.png
END:VEVENT
BEGIN:VEVENT
DTSTART;TZID=America/Chicago:20240925T110000
DTEND;TZID=America/Chicago:20240925T120000
DTSTAMP:20260420T213313
CREATED:20240617T140111Z
LAST-MODIFIED:20240625T141422Z
UID:106524-1727262000-1727265600@helpmegrownorthtexas.org
SUMMARY:Face to Face Nurturing Families M.H Moore - Bilingual
DESCRIPTION:JOIN US! ¡Únete a nosotros!
URL:https://helpmegrownorthtexas.org/event/face-to-face-nurturing-families-m-h-moore-bilingual-5/
LOCATION:1809 NE 36th St\, 1809 Northeast 36th Street\, Fort Worth\, TX\, 76106\, United States
ATTACH;FMTTYPE=image/jpeg:https://helpmegrownorthtexas.org/wp-content/uploads/2024/06/f8d5d96a46ca67a7c953f257f707c8fb.jpg
END:VEVENT
BEGIN:VEVENT
DTSTART;TZID=America/Chicago:20240924T110000
DTEND;TZID=America/Chicago:20240924T123000
DTSTAMP:20260420T213313
CREATED:20240912T234543Z
LAST-MODIFIED:20240912T234543Z
UID:106741-1727175600-1727181000@helpmegrownorthtexas.org
SUMMARY:Mothers and Babies Group - West Center\, FTW
DESCRIPTION:Mothers and Babies is a “stress less” FREE group for pregnant and newly parenting mothers. Pregnancy is one of the most stressful times in life and this group will help pregnant mothers learn helpful tips to lessen stress and increase pleasant activities\, positive thoughts\, and interactions with others. This course is also proven to prevent and/or lessen postpartum depression. You are not alone!
URL:https://helpmegrownorthtexas.org/event/mothers-and-babies-group-west-center-ftw/
LOCATION:TX
ATTACH;FMTTYPE=image/png:https://helpmegrownorthtexas.org/wp-content/uploads/2024/09/Mothers-and-Babies-West-Center-FTW-9.24.24.png
END:VEVENT
BEGIN:VEVENT
DTSTART;TZID=America/Chicago:20240920T123000
DTEND;TZID=America/Chicago:20240920T140000
DTSTAMP:20260420T213313
CREATED:20240912T225916Z
LAST-MODIFIED:20240912T225916Z
UID:106738-1726835400-1726840800@helpmegrownorthtexas.org
SUMMARY:Mothers and Babies - Pregnancy Help Center FTW
DESCRIPTION:Mothers and Babies is a “stress less” FREE group for pregnant and newly parenting mothers. Pregnancy is one of the most stressful times in life and this group will help pregnant mothers learn helpful tips to lessen stress and increase pleasant activities\, positive thoughts\, and interactions with others. This course is also proven to prevent and/or lessen postpartum depression. You are not alone!
URL:https://helpmegrownorthtexas.org/event/mothers-and-babies-pregnancy-help-center-ftw/
LOCATION:TX
ATTACH;FMTTYPE=image/png:https://helpmegrownorthtexas.org/wp-content/uploads/2024/09/Mothers-and-Babies-Pregnancy-Help-Center-FTW-9.20.24.png
END:VEVENT
BEGIN:VEVENT
DTSTART;TZID=America/Chicago:20240920T110000
DTEND;TZID=America/Chicago:20240920T120000
DTSTAMP:20260420T213313
CREATED:20240724T210827Z
LAST-MODIFIED:20240724T210827Z
UID:106674-1726830000-1726833600@helpmegrownorthtexas.org
SUMMARY:Face to Face STEAM Stations- Keller
DESCRIPTION:Come Join us!
URL:https://helpmegrownorthtexas.org/event/face-to-face-steam-stations-keller-6/
LOCATION:North Clinic- Keller\, 6032 Innovation Way\, Keller\, TX\, 76244\, United States
ATTACH;FMTTYPE=image/jpeg:https://helpmegrownorthtexas.org/wp-content/uploads/2024/07/c3f619d209223a82fdd257391c03546f.jpg
END:VEVENT
BEGIN:VEVENT
DTSTART;TZID=America/Chicago:20240920T093000
DTEND;TZID=America/Chicago:20240920T103000
DTSTAMP:20260420T213313
CREATED:20240724T210729Z
LAST-MODIFIED:20240724T210729Z
UID:106666-1726824600-1726828200@helpmegrownorthtexas.org
SUMMARY:Face to Face Music and Motion- Keller
DESCRIPTION:Come Join us!
URL:https://helpmegrownorthtexas.org/event/face-to-face-music-and-motion-keller-12/
LOCATION:North Clinic- Keller\, 6032 Innovation Way\, Keller\, TX\, 76244\, United States
ATTACH;FMTTYPE=image/jpeg:https://helpmegrownorthtexas.org/wp-content/uploads/2024/07/1c8be0d6ce9aa020de77d0938f2c63b8.jpg
END:VEVENT
BEGIN:VEVENT
DTSTART;TZID=America/Chicago:20240919T173000
DTEND;TZID=America/Chicago:20240919T190000
DTSTAMP:20260420T213313
CREATED:20240912T224148Z
LAST-MODIFIED:20240912T224148Z
UID:106735-1726767000-1726772400@helpmegrownorthtexas.org
SUMMARY:#WowTalk Cafe - West Center
DESCRIPTION:#WoWTalk Cafés are free! It gives teens a chance to get together with their peers and talk about ways to be strong-minded\, make social connections\, and a chance to obtain support and resources. This is for ages 11-17.
URL:https://helpmegrownorthtexas.org/event/wowtalk-cafe-west-center/
LOCATION:TX
ATTACH;FMTTYPE=image/png:https://helpmegrownorthtexas.org/wp-content/uploads/2024/09/WoWTalk-Cafe-West-Center-9.19.24.png
END:VEVENT
BEGIN:VEVENT
DTSTART;TZID=America/Chicago:20240919T090000
DTEND;TZID=America/Chicago:20240920T160000
DTSTAMP:20260420T213313
CREATED:20240819T153550Z
LAST-MODIFIED:20240819T154331Z
UID:106704-1726736400-1726848000@helpmegrownorthtexas.org
SUMMARY:Parent Cafe Training - Fort Worth\, TX
DESCRIPTION:Come Join Us!
URL:https://helpmegrownorthtexas.org/event/face-to-face-parent-cafe-training-4th-st/
LOCATION:MHMR of Tarrant County:  3136 W. 4th St.\, Fort Worth TX  76107\, 3136 West 4th Street\, Fort Worth\, TX\, 76107\, United States
ATTACH;FMTTYPE=image/jpeg:https://helpmegrownorthtexas.org/wp-content/uploads/2024/08/d1b8b85e5a2f2eb78bd340e7ed11d2c1.jpg
END:VEVENT
BEGIN:VEVENT
DTSTART;TZID=America/Chicago:20240918T110000
DTEND;TZID=America/Chicago:20240918T120000
DTSTAMP:20260420T213313
CREATED:20240617T140111Z
LAST-MODIFIED:20240625T141422Z
UID:106523-1726657200-1726660800@helpmegrownorthtexas.org
SUMMARY:Face to Face Nurturing Families M.H Moore - Bilingual
DESCRIPTION:JOIN US! ¡Únete a nosotros!
URL:https://helpmegrownorthtexas.org/event/face-to-face-nurturing-families-m-h-moore-bilingual-4/
LOCATION:1809 NE 36th St\, 1809 Northeast 36th Street\, Fort Worth\, TX\, 76106\, United States
ATTACH;FMTTYPE=image/jpeg:https://helpmegrownorthtexas.org/wp-content/uploads/2024/06/f8d5d96a46ca67a7c953f257f707c8fb.jpg
END:VEVENT
BEGIN:VEVENT
DTSTART;TZID=America/Chicago:20240917T110000
DTEND;TZID=America/Chicago:20240917T120000
DTSTAMP:20260420T213313
CREATED:20240912T222944Z
LAST-MODIFIED:20240912T222944Z
UID:106731-1726570800-1726574400@helpmegrownorthtexas.org
SUMMARY:Virtual Nurturing Families
DESCRIPTION:Nurturing Families Program is designed for any family member to attend. The purpose of this group is to learn strategies that can lead to building nurturing relationships with those around you. Participants will be able to connect with others about the highs and lows of raising children\, gain new mindfulness strategies\, and receive program incentives.
URL:https://helpmegrownorthtexas.org/event/virtual-nurturing-families-4/
LOCATION:TX
ATTACH;FMTTYPE=application/pdf:https://helpmegrownorthtexas.org/wp-content/uploads/2024/09/Nurturing-Families-General-Flyer-1.pdf
END:VEVENT
BEGIN:VEVENT
DTSTART;TZID=America/Chicago:20240917T110000
DTEND;TZID=America/Chicago:20240917T120000
DTSTAMP:20260420T213313
CREATED:20240724T211348Z
LAST-MODIFIED:20240724T211348Z
UID:106683-1726570800-1726574400@helpmegrownorthtexas.org
SUMMARY:Face to Face Happy Baby Happy Family at Keller
DESCRIPTION:Come Join us!
URL:https://helpmegrownorthtexas.org/event/face-to-face-happy-baby-happy-family-at-keller-17/
LOCATION:North Clinic – Keller\, 6032 Innovation Way\, Keller\, TX\, 76244\, United States
ATTACH;FMTTYPE=image/jpeg:https://helpmegrownorthtexas.org/wp-content/uploads/2024/06/db3b38c130a339dc5b9cd5679b675a2e.jpg
END:VEVENT
BEGIN:VEVENT
DTSTART;TZID=America/Chicago:20240917T093000
DTEND;TZID=America/Chicago:20240917T113000
DTSTAMP:20260420T213313
CREATED:20240812T141157Z
LAST-MODIFIED:20240819T153720Z
UID:106692-1726565400-1726572600@helpmegrownorthtexas.org
SUMMARY:Face to Face Parent Cafe- 4th St
DESCRIPTION:Come and join us!
URL:https://helpmegrownorthtexas.org/event/face-to-face-parent-cafe-4th-st-2/
LOCATION:MHMR of Tarrant County:  3136 W. 4th St.\, Fort Worth TX  76107\, 3136 West 4th Street\, Fort Worth\, TX\, 76107\, United States
ATTACH;FMTTYPE=image/jpeg:https://helpmegrownorthtexas.org/wp-content/uploads/2024/08/3d798256cbf7514df0553cc79a7af1a3.jpg
END:VEVENT
BEGIN:VEVENT
DTSTART;TZID=America/Chicago:20240917T093000
DTEND;TZID=America/Chicago:20240917T103000
DTSTAMP:20260420T213313
CREATED:20240724T210545Z
LAST-MODIFIED:20240724T210545Z
UID:106658-1726565400-1726569000@helpmegrownorthtexas.org
SUMMARY:Face to Face Healthy Eating and Reading Group - Keller
DESCRIPTION:Come and play with us!
URL:https://helpmegrownorthtexas.org/event/face-to-face-healthy-eating-and-reading-group-keller-6/
LOCATION:6032 Innovation Way\, 6032 Innovation Way\, Fort Worth\, TX\, 76244\, United States
ATTACH;FMTTYPE=image/jpeg:https://helpmegrownorthtexas.org/wp-content/uploads/2024/07/181b9720de1dbaf7354de29e7b465f94.jpg
END:VEVENT
BEGIN:VEVENT
DTSTART;TZID=America/Chicago:20240916T130000
DTEND;TZID=America/Chicago:20240916T140000
DTSTAMP:20260420T213313
CREATED:20240905T144657Z
LAST-MODIFIED:20240905T144657Z
UID:106727-1726491600-1726495200@helpmegrownorthtexas.org
SUMMARY:Virtual Nurturing Families - Spanish
DESCRIPTION:Nurturing Families Program- Crianza con Cariño está diseñado para que cualquier miembro de la familia asista. El propósito de este grupo es aprender estrategias que pueden llevar a construir relaciones enriquecedoras con quienes te rodean. Los participantes podrán conectarse con otros sobre las altas y bajas de criar a los niños\, obtener nuevas estrategias de atención plena y recibir incentivos del programa.
URL:https://helpmegrownorthtexas.org/event/virtual-nurturing-families-spanish/
LOCATION:TX
ATTACH;FMTTYPE=image/jpeg:https://helpmegrownorthtexas.org/wp-content/uploads/2024/09/NF-Virtual-Spanish.jpg
END:VEVENT
BEGIN:VEVENT
DTSTART;TZID=America/Chicago:20240913T110000
DTEND;TZID=America/Chicago:20240913T120000
DTSTAMP:20260420T213313
CREATED:20240724T210826Z
LAST-MODIFIED:20240724T210826Z
UID:106673-1726225200-1726228800@helpmegrownorthtexas.org
SUMMARY:Face to Face STEAM Stations- Keller
DESCRIPTION:Come Join us!
URL:https://helpmegrownorthtexas.org/event/face-to-face-steam-stations-keller-5/
LOCATION:North Clinic- Keller\, 6032 Innovation Way\, Keller\, TX\, 76244\, United States
ATTACH;FMTTYPE=image/jpeg:https://helpmegrownorthtexas.org/wp-content/uploads/2024/07/c3f619d209223a82fdd257391c03546f.jpg
END:VEVENT
BEGIN:VEVENT
DTSTART;TZID=America/Chicago:20240913T093000
DTEND;TZID=America/Chicago:20240913T103000
DTSTAMP:20260420T213313
CREATED:20240724T210729Z
LAST-MODIFIED:20240724T210729Z
UID:106665-1726219800-1726223400@helpmegrownorthtexas.org
SUMMARY:Face to Face Music and Motion- Keller
DESCRIPTION:Come Join us!
URL:https://helpmegrownorthtexas.org/event/face-to-face-music-and-motion-keller-11/
LOCATION:North Clinic- Keller\, 6032 Innovation Way\, Keller\, TX\, 76244\, United States
ATTACH;FMTTYPE=image/jpeg:https://helpmegrownorthtexas.org/wp-content/uploads/2024/07/1c8be0d6ce9aa020de77d0938f2c63b8.jpg
END:VEVENT
BEGIN:VEVENT
DTSTART;TZID=America/Chicago:20240911T110000
DTEND;TZID=America/Chicago:20240911T120000
DTSTAMP:20260420T213313
CREATED:20240617T140111Z
LAST-MODIFIED:20240625T141421Z
UID:106522-1726052400-1726056000@helpmegrownorthtexas.org
SUMMARY:Face to Face Nurturing Families M.H Moore - Bilingual
DESCRIPTION:JOIN US! ¡Únete a nosotros!
URL:https://helpmegrownorthtexas.org/event/face-to-face-nurturing-families-m-h-moore-bilingual-3/
LOCATION:1809 NE 36th St\, 1809 Northeast 36th Street\, Fort Worth\, TX\, 76106\, United States
ATTACH;FMTTYPE=image/jpeg:https://helpmegrownorthtexas.org/wp-content/uploads/2024/06/f8d5d96a46ca67a7c953f257f707c8fb.jpg
END:VEVENT
BEGIN:VEVENT
DTSTART;TZID=America/Chicago:20240910T110000
DTEND;TZID=America/Chicago:20240910T120000
DTSTAMP:20260420T213313
CREATED:20240724T211348Z
LAST-MODIFIED:20240724T211348Z
UID:106682-1725966000-1725969600@helpmegrownorthtexas.org
SUMMARY:Face to Face Happy Baby Happy Family at Keller
DESCRIPTION:Come Join us!
URL:https://helpmegrownorthtexas.org/event/face-to-face-happy-baby-happy-family-at-keller-16/
LOCATION:North Clinic – Keller\, 6032 Innovation Way\, Keller\, TX\, 76244\, United States
ATTACH;FMTTYPE=image/jpeg:https://helpmegrownorthtexas.org/wp-content/uploads/2024/06/db3b38c130a339dc5b9cd5679b675a2e.jpg
END:VEVENT
BEGIN:VEVENT
DTSTART;TZID=America/Chicago:20240910T093000
DTEND;TZID=America/Chicago:20240910T103000
DTSTAMP:20260420T213313
CREATED:20240724T210545Z
LAST-MODIFIED:20240724T210545Z
UID:106657-1725960600-1725964200@helpmegrownorthtexas.org
SUMMARY:Face to Face Healthy Eating and Reading Group - Keller
DESCRIPTION:Come and play with us!
URL:https://helpmegrownorthtexas.org/event/face-to-face-healthy-eating-and-reading-group-keller-5/
LOCATION:6032 Innovation Way\, 6032 Innovation Way\, Fort Worth\, TX\, 76244\, United States
ATTACH;FMTTYPE=image/jpeg:https://helpmegrownorthtexas.org/wp-content/uploads/2024/07/181b9720de1dbaf7354de29e7b465f94.jpg
END:VEVENT
BEGIN:VEVENT
DTSTART;TZID=America/Chicago:20240906T110000
DTEND;TZID=America/Chicago:20240906T120000
DTSTAMP:20260420T213313
CREATED:20240724T210826Z
LAST-MODIFIED:20240724T210826Z
UID:106672-1725620400-1725624000@helpmegrownorthtexas.org
SUMMARY:Face to Face STEAM Stations- Keller
DESCRIPTION:Come Join us!
URL:https://helpmegrownorthtexas.org/event/face-to-face-steam-stations-keller-4/
LOCATION:North Clinic- Keller\, 6032 Innovation Way\, Keller\, TX\, 76244\, United States
ATTACH;FMTTYPE=image/jpeg:https://helpmegrownorthtexas.org/wp-content/uploads/2024/07/c3f619d209223a82fdd257391c03546f.jpg
END:VEVENT
BEGIN:VEVENT
DTSTART;TZID=America/Chicago:20240906T093000
DTEND;TZID=America/Chicago:20240906T103000
DTSTAMP:20260420T213313
CREATED:20240724T210729Z
LAST-MODIFIED:20240724T210729Z
UID:106664-1725615000-1725618600@helpmegrownorthtexas.org
SUMMARY:Face to Face Music and Motion- Keller
DESCRIPTION:Come Join us!
URL:https://helpmegrownorthtexas.org/event/face-to-face-music-and-motion-keller-10/
LOCATION:North Clinic- Keller\, 6032 Innovation Way\, Keller\, TX\, 76244\, United States
ATTACH;FMTTYPE=image/jpeg:https://helpmegrownorthtexas.org/wp-content/uploads/2024/07/1c8be0d6ce9aa020de77d0938f2c63b8.jpg
END:VEVENT
BEGIN:VEVENT
DTSTART;TZID=America/Chicago:20240904T110000
DTEND;TZID=America/Chicago:20240904T120000
DTSTAMP:20260420T213313
CREATED:20240617T140111Z
LAST-MODIFIED:20240625T141421Z
UID:106521-1725447600-1725451200@helpmegrownorthtexas.org
SUMMARY:Face to Face Nurturing Families M.H Moore - Bilingual
DESCRIPTION:JOIN US! ¡Únete a nosotros!
URL:https://helpmegrownorthtexas.org/event/face-to-face-nurturing-families-m-h-moore-bilingual-2/
LOCATION:1809 NE 36th St\, 1809 Northeast 36th Street\, Fort Worth\, TX\, 76106\, United States
ATTACH;FMTTYPE=image/jpeg:https://helpmegrownorthtexas.org/wp-content/uploads/2024/06/f8d5d96a46ca67a7c953f257f707c8fb.jpg
END:VEVENT
BEGIN:VEVENT
DTSTART;TZID=America/Chicago:20240903T110000
DTEND;TZID=America/Chicago:20240903T120000
DTSTAMP:20260420T213313
CREATED:20240724T211348Z
LAST-MODIFIED:20240724T211348Z
UID:106681-1725361200-1725364800@helpmegrownorthtexas.org
SUMMARY:Face to Face Happy Baby Happy Family at Keller
DESCRIPTION:Come Join us!
URL:https://helpmegrownorthtexas.org/event/face-to-face-happy-baby-happy-family-at-keller-15/
LOCATION:North Clinic – Keller\, 6032 Innovation Way\, Keller\, TX\, 76244\, United States
ATTACH;FMTTYPE=image/jpeg:https://helpmegrownorthtexas.org/wp-content/uploads/2024/06/db3b38c130a339dc5b9cd5679b675a2e.jpg
END:VEVENT
BEGIN:VEVENT
DTSTART;TZID=America/Chicago:20240903T093000
DTEND;TZID=America/Chicago:20240903T103000
DTSTAMP:20260420T213313
CREATED:20240724T210545Z
LAST-MODIFIED:20240724T210545Z
UID:106656-1725355800-1725359400@helpmegrownorthtexas.org
SUMMARY:Face to Face Healthy Eating and Reading Group - Keller
DESCRIPTION:Come and play with us!
URL:https://helpmegrownorthtexas.org/event/face-to-face-healthy-eating-and-reading-group-keller-4/
LOCATION:6032 Innovation Way\, 6032 Innovation Way\, Fort Worth\, TX\, 76244\, United States
ATTACH;FMTTYPE=image/jpeg:https://helpmegrownorthtexas.org/wp-content/uploads/2024/07/181b9720de1dbaf7354de29e7b465f94.jpg
END:VEVENT
BEGIN:VEVENT
DTSTART;TZID=America/Chicago:20240830T110000
DTEND;TZID=America/Chicago:20240830T120000
DTSTAMP:20260420T213313
CREATED:20240724T210826Z
LAST-MODIFIED:20240724T210826Z
UID:106671-1725015600-1725019200@helpmegrownorthtexas.org
SUMMARY:Face to Face STEAM Stations- Keller
DESCRIPTION:Come Join us!
URL:https://helpmegrownorthtexas.org/event/face-to-face-steam-stations-keller-3/
LOCATION:North Clinic- Keller\, 6032 Innovation Way\, Keller\, TX\, 76244\, United States
ATTACH;FMTTYPE=image/jpeg:https://helpmegrownorthtexas.org/wp-content/uploads/2024/07/c3f619d209223a82fdd257391c03546f.jpg
END:VEVENT
END:VCALENDAR