BEGIN:VCALENDAR
VERSION:2.0
PRODID:-//Help Me Grow North Texas - ECPv6.15.20//NONSGML v1.0//EN
CALSCALE:GREGORIAN
METHOD:PUBLISH
X-ORIGINAL-URL:https://helpmegrownorthtexas.org
X-WR-CALDESC:Events for Help Me Grow North Texas
REFRESH-INTERVAL;VALUE=DURATION:PT1H
X-Robots-Tag:noindex
X-PUBLISHED-TTL:PT1H
BEGIN:VTIMEZONE
TZID:America/Chicago
BEGIN:DAYLIGHT
TZOFFSETFROM:-0600
TZOFFSETTO:-0500
TZNAME:CDT
DTSTART:20230312T080000
END:DAYLIGHT
BEGIN:STANDARD
TZOFFSETFROM:-0500
TZOFFSETTO:-0600
TZNAME:CST
DTSTART:20231105T070000
END:STANDARD
BEGIN:DAYLIGHT
TZOFFSETFROM:-0600
TZOFFSETTO:-0500
TZNAME:CDT
DTSTART:20240310T080000
END:DAYLIGHT
BEGIN:STANDARD
TZOFFSETFROM:-0500
TZOFFSETTO:-0600
TZNAME:CST
DTSTART:20241103T070000
END:STANDARD
BEGIN:DAYLIGHT
TZOFFSETFROM:-0600
TZOFFSETTO:-0500
TZNAME:CDT
DTSTART:20250309T080000
END:DAYLIGHT
BEGIN:STANDARD
TZOFFSETFROM:-0500
TZOFFSETTO:-0600
TZNAME:CST
DTSTART:20251102T070000
END:STANDARD
END:VTIMEZONE
BEGIN:VEVENT
DTSTART;TZID=America/Chicago:20240308T140000
DTEND;TZID=America/Chicago:20240308T150000
DTSTAMP:20260419T090417
CREATED:20240305T003421Z
LAST-MODIFIED:20240305T003421Z
UID:105918-1709906400-1709910000@helpmegrownorthtexas.org
SUMMARY:Face to Face Sensory Group- Keller
DESCRIPTION:Come join us!
URL:https://helpmegrownorthtexas.org/event/face-to-face-sensory-group-keller/
LOCATION:North Clinic – Keller\, 6032 Innovation Way\, Keller\, TX\, 76244\, United States
ATTACH;FMTTYPE=image/jpeg:https://helpmegrownorthtexas.org/wp-content/uploads/2024/03/60e64cb90495e7c316301ee4b155a374.jpg
END:VEVENT
BEGIN:VEVENT
DTSTART;TZID=America/Chicago:20240308T170000
DTEND;TZID=America/Chicago:20240308T180000
DTSTAMP:20260419T090417
CREATED:20240206T223310Z
LAST-MODIFIED:20240206T223310Z
UID:105798-1709917200-1709920800@helpmegrownorthtexas.org
SUMMARY:Virtual GLOW- Bilingual
DESCRIPTION:Come join us! / ¡Únete a nosotros!
URL:https://helpmegrownorthtexas.org/event/virtual-glow-bilingual-8/
ATTACH;FMTTYPE=image/jpeg:https://helpmegrownorthtexas.org/wp-content/uploads/2024/02/cbd1e054d217de2e55435a790c79fcaf.jpg
END:VEVENT
BEGIN:VEVENT
DTSTART;TZID=America/Chicago:20240311T170000
DTEND;TZID=America/Chicago:20240311T183000
DTSTAMP:20260419T090417
CREATED:20240215T001405Z
LAST-MODIFIED:20240215T001405Z
UID:105850-1710176400-1710181800@helpmegrownorthtexas.org
SUMMARY:Virtual Nurturing Families Program -Spanish
DESCRIPTION:¡Únete a nosotros!
URL:https://helpmegrownorthtexas.org/event/virtual-nurturing-families-program-spanish-10/
ATTACH;FMTTYPE=image/jpeg:https://helpmegrownorthtexas.org/wp-content/uploads/2024/02/aa353e5a6f8b57766452381a3ab30ae8.jpg
END:VEVENT
BEGIN:VEVENT
DTSTART;TZID=America/Chicago:20240312T093000
DTEND;TZID=America/Chicago:20240312T103000
DTSTAMP:20260419T090417
CREATED:20240305T003149Z
LAST-MODIFIED:20240305T003149Z
UID:105903-1710235800-1710239400@helpmegrownorthtexas.org
SUMMARY:Face to Face Music and Motion- Keller
DESCRIPTION:Come Join us!
URL:https://helpmegrownorthtexas.org/event/face-to-face-music-and-motion-keller/
LOCATION:North Clinic- Keller\, 6032 Innovation Way\, Keller\, TX\, 76244\, United States
ATTACH;FMTTYPE=image/jpeg:https://helpmegrownorthtexas.org/wp-content/uploads/2024/03/ff34ca5a6a2755e0f3aee988b318ead5.jpg
END:VEVENT
BEGIN:VEVENT
DTSTART;TZID=America/Chicago:20240312T110000
DTEND;TZID=America/Chicago:20240312T120000
DTSTAMP:20260419T090417
CREATED:20240305T002440Z
LAST-MODIFIED:20240305T002440Z
UID:105876-1710241200-1710244800@helpmegrownorthtexas.org
SUMMARY:Face to Face Transition Group- Keller
DESCRIPTION:Come Join us!
URL:https://helpmegrownorthtexas.org/event/face-to-face-transition-group-keller/
LOCATION:North Clinic- Keller\, 6032 Innovation Way\, Keller\, TX\, 76244\, United States
ATTACH;FMTTYPE=image/jpeg:https://helpmegrownorthtexas.org/wp-content/uploads/2024/03/570aca9e2372c99b491e7b73c76ec7c7.jpg
END:VEVENT
BEGIN:VEVENT
DTSTART;TZID=America/Chicago:20240313T090000
DTEND;TZID=America/Chicago:20240313T100000
DTSTAMP:20260419T090417
CREATED:20240124T152123Z
LAST-MODIFIED:20240124T152123Z
UID:105705-1710320400-1710324000@helpmegrownorthtexas.org
SUMMARY:Face to Face Music and Motion Group- Crowley
DESCRIPTION:Come join us!
URL:https://helpmegrownorthtexas.org/event/face-to-face-music-and-motion-group-crowley-4/
LOCATION:Crowley House of Hope\, 216 North Magnolia Street\, Crowley\, TX\, 76036\, United States
ATTACH;FMTTYPE=image/jpeg:https://helpmegrownorthtexas.org/wp-content/uploads/2024/01/7a29503c68c5514468d8b558cb903f27.jpg
END:VEVENT
BEGIN:VEVENT
DTSTART;TZID=America/Chicago:20240313T090000
DTEND;TZID=America/Chicago:20240313T100000
DTSTAMP:20260419T090417
CREATED:20240125T224226Z
LAST-MODIFIED:20240125T224226Z
UID:105736-1710320400-1710324000@helpmegrownorthtexas.org
SUMMARY:Face to Face Transition Group- Fort Worth
DESCRIPTION:Come Join us!
URL:https://helpmegrownorthtexas.org/event/face-to-face-transition-group-fort-worth-5/
LOCATION:Mental Health America of Greater Tarrant County\, 3136 West 4th Street\, Fort Worth\, TX\, 76107\, United States
ATTACH;FMTTYPE=image/jpeg:https://helpmegrownorthtexas.org/wp-content/uploads/2024/01/dd7b455b338d0ce5867e354679240ac9.jpg
END:VEVENT
BEGIN:VEVENT
DTSTART;TZID=America/Chicago:20240313T100000
DTEND;TZID=America/Chicago:20240313T110000
DTSTAMP:20260419T090417
CREATED:20240126T004825Z
LAST-MODIFIED:20240126T004825Z
UID:105750-1710324000-1710327600@helpmegrownorthtexas.org
SUMMARY:Virtual Music and Motion
DESCRIPTION:Come join us!
URL:https://helpmegrownorthtexas.org/event/virtual-music-and-motion-5/
ATTACH;FMTTYPE=image/jpeg:https://helpmegrownorthtexas.org/wp-content/uploads/2024/01/81a7fc950ab6b7ee174f1c1e8aecbbc9.jpg
END:VEVENT
BEGIN:VEVENT
DTSTART;TZID=America/Chicago:20240313T140000
DTEND;TZID=America/Chicago:20240313T150000
DTSTAMP:20260419T090417
CREATED:20240125T224323Z
LAST-MODIFIED:20240125T224323Z
UID:105743-1710338400-1710342000@helpmegrownorthtexas.org
SUMMARY:Face to Face Music and Motion- Fort Worth
DESCRIPTION:Come Join us!
URL:https://helpmegrownorthtexas.org/event/face-to-face-music-and-motion-fort-worth-10/
LOCATION:Mental Health America of Greater Tarrant County\, 3136 West 4th Street\, Fort Worth\, TX\, 76107\, United States
ATTACH;FMTTYPE=image/jpeg:https://helpmegrownorthtexas.org/wp-content/uploads/2024/01/963205566bada74b70cd1c8d3c9ae27a.jpg
END:VEVENT
BEGIN:VEVENT
DTSTART;TZID=America/Chicago:20240314T103000
DTEND;TZID=America/Chicago:20240314T113000
DTSTAMP:20260419T090417
CREATED:20240212T192123Z
LAST-MODIFIED:20240212T192123Z
UID:105817-1710412200-1710415800@helpmegrownorthtexas.org
SUMMARY:Face to Face Little Sprouts- Mansfield
DESCRIPTION:Come Join us!
URL:https://helpmegrownorthtexas.org/event/face-to-face-little-sprouts-mansfield-2/
LOCATION:Mansfield Public Library\, 104 South Wisteria Street\, Mansfield\, TX\, 76063\, United States
ATTACH;FMTTYPE=image/jpeg:https://helpmegrownorthtexas.org/wp-content/uploads/2024/02/1e6b8d3666485a4d56d7802cad71babe.jpg
END:VEVENT
BEGIN:VEVENT
DTSTART;TZID=America/Chicago:20240315T140000
DTEND;TZID=America/Chicago:20240315T150000
DTSTAMP:20260419T090417
CREATED:20240305T003423Z
LAST-MODIFIED:20240305T003423Z
UID:105920-1710511200-1710514800@helpmegrownorthtexas.org
SUMMARY:Face to Face Sensory Group- Keller
DESCRIPTION:Come join us!
URL:https://helpmegrownorthtexas.org/event/face-to-face-sensory-group-keller-2/
LOCATION:North Clinic – Keller\, 6032 Innovation Way\, Keller\, TX\, 76244\, United States
ATTACH;FMTTYPE=image/jpeg:https://helpmegrownorthtexas.org/wp-content/uploads/2024/03/60e64cb90495e7c316301ee4b155a374.jpg
END:VEVENT
BEGIN:VEVENT
DTSTART;TZID=America/Chicago:20240315T170000
DTEND;TZID=America/Chicago:20240315T180000
DTSTAMP:20260419T090417
CREATED:20240206T223310Z
LAST-MODIFIED:20240206T223310Z
UID:105799-1710522000-1710525600@helpmegrownorthtexas.org
SUMMARY:Virtual GLOW- Bilingual
DESCRIPTION:Come join us! / ¡Únete a nosotros!
URL:https://helpmegrownorthtexas.org/event/virtual-glow-bilingual-9/
ATTACH;FMTTYPE=image/jpeg:https://helpmegrownorthtexas.org/wp-content/uploads/2024/02/cbd1e054d217de2e55435a790c79fcaf.jpg
END:VEVENT
BEGIN:VEVENT
DTSTART;TZID=America/Chicago:20240318T100000
DTEND;TZID=America/Chicago:20240318T113000
DTSTAMP:20260419T090417
CREATED:20240213T221132Z
LAST-MODIFIED:20240213T221132Z
UID:105839-1710756000-1710761400@helpmegrownorthtexas.org
SUMMARY:Face to Face Mothers and Babies Group
DESCRIPTION:Join Us!
URL:https://helpmegrownorthtexas.org/event/face-to-face-mothers-and-babies-group/
LOCATION:Metroplex Women’s Center\, 7603 US Hwy 287 N Frontage Road\, Arlington\, TX\, 76001\, United States
ATTACH;FMTTYPE=image/jpeg:https://helpmegrownorthtexas.org/wp-content/uploads/2024/02/72b96aae3a45235f128269c5c3f09962.jpg
END:VEVENT
BEGIN:VEVENT
DTSTART;TZID=America/Chicago:20240318T123000
DTEND;TZID=America/Chicago:20240318T143000
DTSTAMP:20260419T090417
CREATED:20240305T002532Z
LAST-MODIFIED:20240305T002532Z
UID:105886-1710765000-1710772200@helpmegrownorthtexas.org
SUMMARY:Cara a Cara Curso de Madres y Bebes
DESCRIPTION:¡Únete a nosotros!
URL:https://helpmegrownorthtexas.org/event/cara-a-cara-curso-de-madres-y-bebes/
LOCATION:Metroplex Women’s Center\, 7603 US Hwy 287 N Frontage Road\, Arlington\, TX\, 76001\, United States
ATTACH;FMTTYPE=image/jpeg:https://helpmegrownorthtexas.org/wp-content/uploads/2024/03/a7834e33a08a85fce6a9f86289d57528.jpg
END:VEVENT
BEGIN:VEVENT
DTSTART;TZID=America/Chicago:20240318T170000
DTEND;TZID=America/Chicago:20240318T183000
DTSTAMP:20260419T090417
CREATED:20240215T001405Z
LAST-MODIFIED:20240215T001405Z
UID:105851-1710781200-1710786600@helpmegrownorthtexas.org
SUMMARY:Virtual Nurturing Families Program -Spanish
DESCRIPTION:¡Únete a nosotros!
URL:https://helpmegrownorthtexas.org/event/virtual-nurturing-families-program-spanish-11/
ATTACH;FMTTYPE=image/jpeg:https://helpmegrownorthtexas.org/wp-content/uploads/2024/02/aa353e5a6f8b57766452381a3ab30ae8.jpg
END:VEVENT
BEGIN:VEVENT
DTSTART;TZID=America/Chicago:20240319T093000
DTEND;TZID=America/Chicago:20240319T103000
DTSTAMP:20260419T090417
CREATED:20240305T003151Z
LAST-MODIFIED:20240305T003151Z
UID:105905-1710840600-1710844200@helpmegrownorthtexas.org
SUMMARY:Face to Face Music and Motion- Keller
DESCRIPTION:Come Join us!
URL:https://helpmegrownorthtexas.org/event/face-to-face-music-and-motion-keller-2/
LOCATION:North Clinic- Keller\, 6032 Innovation Way\, Keller\, TX\, 76244\, United States
ATTACH;FMTTYPE=image/jpeg:https://helpmegrownorthtexas.org/wp-content/uploads/2024/03/ff34ca5a6a2755e0f3aee988b318ead5.jpg
END:VEVENT
BEGIN:VEVENT
DTSTART;TZID=America/Chicago:20240319T110000
DTEND;TZID=America/Chicago:20240319T120000
DTSTAMP:20260419T090417
CREATED:20240305T002442Z
LAST-MODIFIED:20240305T002442Z
UID:105878-1710846000-1710849600@helpmegrownorthtexas.org
SUMMARY:Face to Face Transition Group- Keller
DESCRIPTION:Come Join us!
URL:https://helpmegrownorthtexas.org/event/face-to-face-transition-group-keller-2/
LOCATION:North Clinic- Keller\, 6032 Innovation Way\, Keller\, TX\, 76244\, United States
ATTACH;FMTTYPE=image/jpeg:https://helpmegrownorthtexas.org/wp-content/uploads/2024/03/570aca9e2372c99b491e7b73c76ec7c7.jpg
END:VEVENT
BEGIN:VEVENT
DTSTART;TZID=America/Chicago:20240319T173000
DTEND;TZID=America/Chicago:20240319T193000
DTSTAMP:20260419T090417
CREATED:20240312T181601Z
LAST-MODIFIED:20240312T213008Z
UID:105951-1710869400-1710876600@helpmegrownorthtexas.org
SUMMARY:Face to Face #WoWTalk Cafe- Arlington
DESCRIPTION:Come join us!!
URL:https://helpmegrownorthtexas.org/event/face-to-face-wowtalk-cafe-arlington/
LOCATION:401 W Sanford St\, 401 West Sanford Street\, Arlington\, TX\, 76011\, United States
ATTACH;FMTTYPE=application/pdf:https://helpmegrownorthtexas.org/wp-content/uploads/2024/03/WoWTalk-Cafe-General-Flyer-Arl-1.pdf
END:VEVENT
BEGIN:VEVENT
DTSTART;TZID=America/Chicago:20240319T173000
DTEND;TZID=America/Chicago:20240319T200000
DTSTAMP:20260419T090417
CREATED:20240312T181648Z
LAST-MODIFIED:20240312T212832Z
UID:105954-1710869400-1710878400@helpmegrownorthtexas.org
SUMMARY:Face to Face Parent Cafe- Arlington
DESCRIPTION:Come join us!!
URL:https://helpmegrownorthtexas.org/event/face-to-face-parent-cafe-arlington-6/
LOCATION:401 W Sanford St\, 401 West Sanford Street\, Arlington\, TX\, 76011\, United States
ATTACH;FMTTYPE=application/pdf:https://helpmegrownorthtexas.org/wp-content/uploads/2024/03/WoWTalk-Cafe-General-Flyer-Arl.pdf
END:VEVENT
BEGIN:VEVENT
DTSTART;TZID=America/Chicago:20240320T090000
DTEND;TZID=America/Chicago:20240320T100000
DTSTAMP:20260419T090417
CREATED:20240124T152123Z
LAST-MODIFIED:20240124T152123Z
UID:105706-1710925200-1710928800@helpmegrownorthtexas.org
SUMMARY:Face to Face Music and Motion Group- Crowley
DESCRIPTION:Come join us!
URL:https://helpmegrownorthtexas.org/event/face-to-face-music-and-motion-group-crowley-5/
LOCATION:Crowley House of Hope\, 216 North Magnolia Street\, Crowley\, TX\, 76036\, United States
ATTACH;FMTTYPE=image/jpeg:https://helpmegrownorthtexas.org/wp-content/uploads/2024/01/7a29503c68c5514468d8b558cb903f27.jpg
END:VEVENT
BEGIN:VEVENT
DTSTART;TZID=America/Chicago:20240320T110000
DTEND;TZID=America/Chicago:20240320T133000
DTSTAMP:20260419T090417
CREATED:20240119T222955Z
LAST-MODIFIED:20240119T222955Z
UID:105680-1710932400-1710941400@helpmegrownorthtexas.org
SUMMARY:Pregnancy & Diabetes: What you need to know
DESCRIPTION:Come and Join us in person or virtual
URL:https://helpmegrownorthtexas.org/event/pregnancy-diabetes-what-you-need-to-know-3/
LOCATION:2400 NW 24th St\, 2400 Northwest 24th Street\, Fort Worth\, TX\, 76106\, United States
ATTACH;FMTTYPE=image/jpeg:https://helpmegrownorthtexas.org/wp-content/uploads/2024/01/c64ac8d8ec8fe2b75fcfed78af7e5293.jpg
END:VEVENT
BEGIN:VEVENT
DTSTART;TZID=America/Chicago:20240320T143000
DTEND;TZID=America/Chicago:20240320T163000
DTSTAMP:20260419T090417
CREATED:20240119T222955Z
LAST-MODIFIED:20240119T222955Z
UID:105681-1710945000-1710952200@helpmegrownorthtexas.org
SUMMARY:Pregnancy & Diabetes: What you need to know
DESCRIPTION:Come and Join us in person or virtual
URL:https://helpmegrownorthtexas.org/event/pregnancy-diabetes-what-you-need-to-know-4/
LOCATION:2400 NW 24th St\, 2400 Northwest 24th Street\, Fort Worth\, TX\, 76106\, United States
ATTACH;FMTTYPE=image/jpeg:https://helpmegrownorthtexas.org/wp-content/uploads/2024/01/c64ac8d8ec8fe2b75fcfed78af7e5293.jpg
END:VEVENT
BEGIN:VEVENT
DTSTART;TZID=America/Chicago:20240320T180000
DTEND;TZID=America/Chicago:20240320T190000
DTSTAMP:20260419T090417
CREATED:20240220T210247Z
LAST-MODIFIED:20240220T210247Z
UID:105852-1710957600-1710961200@helpmegrownorthtexas.org
SUMMARY:Empowering and Educating Parents: Skits Against Fraud and Exploitation (S.A.F.E.)
DESCRIPTION:This event will be in person \nPresented by:  Teresa “Tree” Rabold & Scott Evans of GSI \n 
URL:https://helpmegrownorthtexas.org/event/empowering-and-educating-parents-skits-against-fraud-and-exploitation-s-a-f-e/
ATTACH;FMTTYPE=application/pdf:https://helpmegrownorthtexas.org/wp-content/uploads/2024/02/Understand-Star-Kids-Services.pdf
END:VEVENT
BEGIN:VEVENT
DTSTART;TZID=America/Chicago:20240321T090000
DTEND;TZID=America/Chicago:20240321T100000
DTSTAMP:20260419T090417
CREATED:20240319T125248Z
LAST-MODIFIED:20240319T125320Z
UID:105966-1711011600-1711015200@helpmegrownorthtexas.org
SUMMARY:Face to Face Play with Me - Serve Lewisville
DESCRIPTION:Come Join us!
URL:https://helpmegrownorthtexas.org/event/face-to-face-play-with-me-serve-lewisville/
LOCATION:Serve Lewisville\, 1001 Edmonds Lane\, Lewisville\, TX\, 75067\, United States
ATTACH;FMTTYPE=image/jpeg:https://helpmegrownorthtexas.org/wp-content/uploads/2024/01/84c3fc838b181f0a26f2458ace4f2846.jpg
END:VEVENT
BEGIN:VEVENT
DTSTART;TZID=America/Chicago:20240321T103000
DTEND;TZID=America/Chicago:20240321T113000
DTSTAMP:20260419T090417
CREATED:20240212T192123Z
LAST-MODIFIED:20240212T192123Z
UID:105818-1711017000-1711020600@helpmegrownorthtexas.org
SUMMARY:Face to Face Little Sprouts- Mansfield
DESCRIPTION:Come Join us!
URL:https://helpmegrownorthtexas.org/event/face-to-face-little-sprouts-mansfield-3/
LOCATION:Mansfield Public Library\, 104 South Wisteria Street\, Mansfield\, TX\, 76063\, United States
ATTACH;FMTTYPE=image/jpeg:https://helpmegrownorthtexas.org/wp-content/uploads/2024/02/1e6b8d3666485a4d56d7802cad71babe.jpg
END:VEVENT
BEGIN:VEVENT
DTSTART;TZID=America/Chicago:20240321T103000
DTEND;TZID=America/Chicago:20240321T113000
DTSTAMP:20260419T090417
CREATED:20240319T125428Z
LAST-MODIFIED:20240319T125428Z
UID:105979-1711017000-1711020600@helpmegrownorthtexas.org
SUMMARY:Face to Face Little Sprouts- Serve Lewisville
DESCRIPTION:Come Join us!
URL:https://helpmegrownorthtexas.org/event/face-to-face-little-sprouts-serve-lewisville-5/
LOCATION:Serve Lewisville\, 1001 Edmonds Lane\, Lewisville\, TX\, 75067\, United States
ATTACH;FMTTYPE=image/jpeg:https://helpmegrownorthtexas.org/wp-content/uploads/2024/01/84c3fc838b181f0a26f2458ace4f2846.jpg
END:VEVENT
BEGIN:VEVENT
DTSTART;TZID=America/Chicago:20240321T173000
DTEND;TZID=America/Chicago:20240321T193000
DTSTAMP:20260419T090417
CREATED:20240305T002837Z
LAST-MODIFIED:20240305T002837Z
UID:105899-1711042200-1711049400@helpmegrownorthtexas.org
SUMMARY:Face to Face Parent Cafe- Ennis
DESCRIPTION:Come join us!!
URL:https://helpmegrownorthtexas.org/event/face-to-face-parent-cafe-ennis-6/
LOCATION:2 E Ennis Ave\, 2 East Ennis Avenue\, Ennis\, TX\, 75119\, United States
ATTACH;FMTTYPE=image/jpeg:https://helpmegrownorthtexas.org/wp-content/uploads/2024/03/e456dcd7692eb7c518e2455aa691fc48.jpg
END:VEVENT
BEGIN:VEVENT
DTSTART;TZID=America/Chicago:20240322T100000
DTEND;TZID=America/Chicago:20240322T110000
DTSTAMP:20260419T090417
CREATED:20240117T160446Z
LAST-MODIFIED:20240117T160446Z
UID:105666-1711101600-1711105200@helpmegrownorthtexas.org
SUMMARY:Face to Face Transition Group- Venus
DESCRIPTION:Come Join us!
URL:https://helpmegrownorthtexas.org/event/face-to-face-transition-group-venus-4/
LOCATION:Joe A Hall High School & Community Library\, 12 Bulldog Drive\, Venus\, TX\, 76084\, United States
ATTACH;FMTTYPE=image/jpeg:https://helpmegrownorthtexas.org/wp-content/uploads/2024/01/193d93c8e74bb4cf97a817a81220fb63.jpg
END:VEVENT
BEGIN:VEVENT
DTSTART;TZID=America/Chicago:20240322T140000
DTEND;TZID=America/Chicago:20240322T150000
DTSTAMP:20260419T090417
CREATED:20240305T003423Z
LAST-MODIFIED:20240305T003423Z
UID:105921-1711116000-1711119600@helpmegrownorthtexas.org
SUMMARY:Face to Face Sensory Group- Keller
DESCRIPTION:Come join us!
URL:https://helpmegrownorthtexas.org/event/face-to-face-sensory-group-keller-3/
LOCATION:North Clinic – Keller\, 6032 Innovation Way\, Keller\, TX\, 76244\, United States
ATTACH;FMTTYPE=image/jpeg:https://helpmegrownorthtexas.org/wp-content/uploads/2024/03/60e64cb90495e7c316301ee4b155a374.jpg
END:VEVENT
BEGIN:VEVENT
DTSTART;TZID=America/Chicago:20240323T130000
DTEND;TZID=America/Chicago:20240323T143000
DTSTAMP:20260419T090417
CREATED:20240206T223421Z
LAST-MODIFIED:20240212T181621Z
UID:105803-1711198800-1711204200@helpmegrownorthtexas.org
SUMMARY:Face to Face #WoWTalk Café- RAMP
DESCRIPTION:Come join us!!
URL:https://helpmegrownorthtexas.org/event/face-to-face-wowtalk-cafe-ramp-6/
LOCATION:Ramp Church Texas\, 5430 Miller Avenue\, Fort Worth\, TX\, 76119\, United States
ATTACH;FMTTYPE=image/jpeg:https://helpmegrownorthtexas.org/wp-content/uploads/2024/02/d593e6783bec8699d5591f672be24f11.jpg
END:VEVENT
END:VCALENDAR