BEGIN:VCALENDAR
VERSION:2.0
PRODID:-//Help Me Grow North Texas - ECPv6.15.20//NONSGML v1.0//EN
CALSCALE:GREGORIAN
METHOD:PUBLISH
X-WR-CALNAME:Help Me Grow North Texas
X-ORIGINAL-URL:https://helpmegrownorthtexas.org
X-WR-CALDESC:Events for Help Me Grow North Texas
REFRESH-INTERVAL;VALUE=DURATION:PT1H
X-Robots-Tag:noindex
X-PUBLISHED-TTL:PT1H
BEGIN:VTIMEZONE
TZID:America/Chicago
BEGIN:DAYLIGHT
TZOFFSETFROM:-0600
TZOFFSETTO:-0500
TZNAME:CDT
DTSTART:20250309T080000
END:DAYLIGHT
BEGIN:STANDARD
TZOFFSETFROM:-0500
TZOFFSETTO:-0600
TZNAME:CST
DTSTART:20251102T070000
END:STANDARD
BEGIN:DAYLIGHT
TZOFFSETFROM:-0600
TZOFFSETTO:-0500
TZNAME:CDT
DTSTART:20260308T080000
END:DAYLIGHT
BEGIN:STANDARD
TZOFFSETFROM:-0500
TZOFFSETTO:-0600
TZNAME:CST
DTSTART:20261101T070000
END:STANDARD
BEGIN:DAYLIGHT
TZOFFSETFROM:-0600
TZOFFSETTO:-0500
TZNAME:CDT
DTSTART:20270314T080000
END:DAYLIGHT
BEGIN:STANDARD
TZOFFSETFROM:-0500
TZOFFSETTO:-0600
TZNAME:CST
DTSTART:20271107T070000
END:STANDARD
END:VTIMEZONE
BEGIN:VEVENT
DTSTART;TZID=America/Chicago:20260506T093000
DTEND;TZID=America/Chicago:20260506T103000
DTSTAMP:20260420T153306
CREATED:20260326T201833Z
LAST-MODIFIED:20260420T171937Z
UID:107943-1778059800-1778063400@helpmegrownorthtexas.org
SUMMARY:Face to Face Little Sprouts Gardening Group-Midlothian
DESCRIPTION:Come and play with us!
URL:https://helpmegrownorthtexas.org/event/face-to-face-little-sprouts-gardening-group-midlothian-3/
LOCATION:Midlothian Community Park\, 3601 South 14th Street\, Midlothian\, TX\, 76065\, United States
ATTACH;FMTTYPE=image/jpeg:https://helpmegrownorthtexas.org/wp-content/uploads/2026/04/8a2cd3a0cab6b3905b55f4eff5158543.jpg
END:VEVENT
BEGIN:VEVENT
DTSTART;TZID=America/Chicago:20260506T110000
DTEND;TZID=America/Chicago:20260506T120000
DTSTAMP:20260420T153306
CREATED:20260326T201857Z
LAST-MODIFIED:20260420T172015Z
UID:107950-1778065200-1778068800@helpmegrownorthtexas.org
SUMMARY:Face to Face: Nurture Nature Exploration-Midlothian
DESCRIPTION:Come join us!
URL:https://helpmegrownorthtexas.org/event/face-to-face-nurture-nature-exploration-midlothian-3/
LOCATION:Community Park\, 3601 South 14th Street\, Midlothian\, TX\, 76065\, United States
ATTACH;FMTTYPE=image/jpeg:https://helpmegrownorthtexas.org/wp-content/uploads/2026/04/d9581bf347f012292d7aea33b09bfb13.jpg
END:VEVENT
BEGIN:VEVENT
DTSTART;TZID=America/Chicago:20260507T093000
DTEND;TZID=America/Chicago:20260507T103000
DTSTAMP:20260420T153306
CREATED:20260326T201949Z
LAST-MODIFIED:20260420T172109Z
UID:107958-1778146200-1778149800@helpmegrownorthtexas.org
SUMMARY:Face to Face Little Sprouts Gardening Group-Flower Mound
DESCRIPTION:Come and play with us!
URL:https://helpmegrownorthtexas.org/event/face-to-face-little-sprouts-gardening-group-flower-mound-3/
LOCATION:Heritage Park\, 600 Spinks Road\, Flower Mound\, TX\, 75028\, United States
ATTACH;FMTTYPE=image/jpeg:https://helpmegrownorthtexas.org/wp-content/uploads/2026/04/bf10e8e5ab16e1aaf76c2cfd0fcd5d6b.jpg
END:VEVENT
BEGIN:VEVENT
DTSTART;TZID=America/Chicago:20260507T110000
DTEND;TZID=America/Chicago:20260507T120000
DTSTAMP:20260420T153306
CREATED:20260326T202021Z
LAST-MODIFIED:20260420T172147Z
UID:107965-1778151600-1778155200@helpmegrownorthtexas.org
SUMMARY:Face to Face: Nurture Nature Exploration-Flower Mound
DESCRIPTION:Come join us!
URL:https://helpmegrownorthtexas.org/event/face-to-face-nurture-nature-exploration-flower-mound-3/
LOCATION:Heritage Park\, 600 Spinks Road\, Flower Mound\, TX\, 75028\, United States
ATTACH;FMTTYPE=image/jpeg:https://helpmegrownorthtexas.org/wp-content/uploads/2026/04/11c3a5e90f85d3d96eb0ab7e8ff912d6.jpg
END:VEVENT
BEGIN:VEVENT
DTSTART;TZID=America/Chicago:20260507T173000
DTEND;TZID=America/Chicago:20260507T193000
DTSTAMP:20260420T153306
CREATED:20260420T172226Z
LAST-MODIFIED:20260420T172226Z
UID:108024-1778175000-1778182200@helpmegrownorthtexas.org
SUMMARY:Face to Face #WoWTalk Cafe- Fort Worth
DESCRIPTION:Come join us!!
URL:https://helpmegrownorthtexas.org/event/face-to-face-wowtalk-cafe-fort-worth-28/
LOCATION:3136 W 4th St\, 3136 West 4th Street\, Fort Worth\, TX\, 76107\, United States
ATTACH;FMTTYPE=image/jpeg:https://helpmegrownorthtexas.org/wp-content/uploads/2026/04/6c2227bc7af302e08d3dafedc6575f07.jpg
END:VEVENT
BEGIN:VEVENT
DTSTART;TZID=America/Chicago:20260512T093000
DTEND;TZID=America/Chicago:20260512T103000
DTSTAMP:20260420T153306
CREATED:20260326T201747Z
LAST-MODIFIED:20260420T171827Z
UID:107931-1778578200-1778581800@helpmegrownorthtexas.org
SUMMARY:Face to Face Music and Motion - North Center
DESCRIPTION:Come Join us!
URL:https://helpmegrownorthtexas.org/event/face-to-face-music-and-motion-north-center-17/
LOCATION:North Center – 6032 Innovation Way Keller\, 76244\, Innovation Way\, Fort Worth\, TX\, 76244\, United States
ATTACH;FMTTYPE=image/jpeg:https://helpmegrownorthtexas.org/wp-content/uploads/2026/04/bbd63bff6b2002366408c3b4c4d8b78f.jpg
END:VEVENT
BEGIN:VEVENT
DTSTART;TZID=America/Chicago:20260512T110000
DTEND;TZID=America/Chicago:20260512T120000
DTSTAMP:20260420T153306
CREATED:20260326T201810Z
LAST-MODIFIED:20260420T171900Z
UID:107937-1778583600-1778587200@helpmegrownorthtexas.org
SUMMARY:Face to Face Storytime & Crafts - North Center
DESCRIPTION:Come Join us!
URL:https://helpmegrownorthtexas.org/event/face-to-face-storytime-crafts-north-center-4/
LOCATION:North Center – 6032 Innovation Way Keller\, 76244\, Innovation Way\, Fort Worth\, TX\, 76244\, United States
ATTACH;FMTTYPE=image/jpeg:https://helpmegrownorthtexas.org/wp-content/uploads/2026/03/4605079abd51dcd48d8a964e381601e8.jpg
END:VEVENT
BEGIN:VEVENT
DTSTART;TZID=America/Chicago:20260513T093000
DTEND;TZID=America/Chicago:20260513T103000
DTSTAMP:20260420T153306
CREATED:20260326T201834Z
LAST-MODIFIED:20260420T171937Z
UID:107944-1778664600-1778668200@helpmegrownorthtexas.org
SUMMARY:Face to Face Little Sprouts Gardening Group-Midlothian
DESCRIPTION:Come and play with us!
URL:https://helpmegrownorthtexas.org/event/face-to-face-little-sprouts-gardening-group-midlothian-4/
LOCATION:Midlothian Community Park\, 3601 South 14th Street\, Midlothian\, TX\, 76065\, United States
ATTACH;FMTTYPE=image/jpeg:https://helpmegrownorthtexas.org/wp-content/uploads/2026/04/8a2cd3a0cab6b3905b55f4eff5158543.jpg
END:VEVENT
BEGIN:VEVENT
DTSTART;TZID=America/Chicago:20260513T110000
DTEND;TZID=America/Chicago:20260513T120000
DTSTAMP:20260420T153306
CREATED:20260326T201857Z
LAST-MODIFIED:20260420T172015Z
UID:107951-1778670000-1778673600@helpmegrownorthtexas.org
SUMMARY:Face to Face: Nurture Nature Exploration-Midlothian
DESCRIPTION:Come join us!
URL:https://helpmegrownorthtexas.org/event/face-to-face-nurture-nature-exploration-midlothian-4/
LOCATION:Community Park\, 3601 South 14th Street\, Midlothian\, TX\, 76065\, United States
ATTACH;FMTTYPE=image/jpeg:https://helpmegrownorthtexas.org/wp-content/uploads/2026/04/d9581bf347f012292d7aea33b09bfb13.jpg
END:VEVENT
BEGIN:VEVENT
DTSTART;TZID=America/Chicago:20260514T093000
DTEND;TZID=America/Chicago:20260514T103000
DTSTAMP:20260420T153306
CREATED:20260326T201949Z
LAST-MODIFIED:20260420T172109Z
UID:107959-1778751000-1778754600@helpmegrownorthtexas.org
SUMMARY:Face to Face Little Sprouts Gardening Group-Flower Mound
DESCRIPTION:Come and play with us!
URL:https://helpmegrownorthtexas.org/event/face-to-face-little-sprouts-gardening-group-flower-mound-4/
LOCATION:Heritage Park\, 600 Spinks Road\, Flower Mound\, TX\, 75028\, United States
ATTACH;FMTTYPE=image/jpeg:https://helpmegrownorthtexas.org/wp-content/uploads/2026/04/bf10e8e5ab16e1aaf76c2cfd0fcd5d6b.jpg
END:VEVENT
BEGIN:VEVENT
DTSTART;TZID=America/Chicago:20260514T110000
DTEND;TZID=America/Chicago:20260514T120000
DTSTAMP:20260420T153306
CREATED:20260326T202021Z
LAST-MODIFIED:20260420T172148Z
UID:107966-1778756400-1778760000@helpmegrownorthtexas.org
SUMMARY:Face to Face: Nurture Nature Exploration-Flower Mound
DESCRIPTION:Come join us!
URL:https://helpmegrownorthtexas.org/event/face-to-face-nurture-nature-exploration-flower-mound-4/
LOCATION:Heritage Park\, 600 Spinks Road\, Flower Mound\, TX\, 75028\, United States
ATTACH;FMTTYPE=image/jpeg:https://helpmegrownorthtexas.org/wp-content/uploads/2026/04/11c3a5e90f85d3d96eb0ab7e8ff912d6.jpg
END:VEVENT
BEGIN:VEVENT
DTSTART;TZID=America/Chicago:20260520T103000
DTEND;TZID=America/Chicago:20260520T113000
DTSTAMP:20260420T153306
CREATED:20260420T171717Z
LAST-MODIFIED:20260420T171717Z
UID:107983-1779273000-1779276600@helpmegrownorthtexas.org
SUMMARY:Virtual Nurturing Families
DESCRIPTION:JOIN US!
URL:https://helpmegrownorthtexas.org/event/virtual-nurturing-families-38/
ATTACH;FMTTYPE=image/jpeg:https://helpmegrownorthtexas.org/wp-content/uploads/2026/04/275d582650e5b2a40b7085e4368e36b3.jpg
END:VEVENT
BEGIN:VEVENT
DTSTART;TZID=America/Chicago:20260527T103000
DTEND;TZID=America/Chicago:20260527T113000
DTSTAMP:20260420T153306
CREATED:20260420T173440Z
LAST-MODIFIED:20260420T173440Z
UID:108030-1779877800-1779881400@helpmegrownorthtexas.org
SUMMARY:Virtual Nurturing Families
DESCRIPTION:JOIN US!
URL:https://helpmegrownorthtexas.org/event/virtual-nurturing-families-39/
ATTACH;FMTTYPE=image/jpeg:https://helpmegrownorthtexas.org/wp-content/uploads/2026/04/275d582650e5b2a40b7085e4368e36b3.jpg
END:VEVENT
END:VCALENDAR