BEGIN:VCALENDAR
VERSION:2.0
PRODID:-//Help Me Grow North Texas - ECPv6.15.20//NONSGML v1.0//EN
CALSCALE:GREGORIAN
METHOD:PUBLISH
X-WR-CALNAME:Help Me Grow North Texas
X-ORIGINAL-URL:https://helpmegrownorthtexas.org
X-WR-CALDESC:Events for Help Me Grow North Texas
REFRESH-INTERVAL;VALUE=DURATION:PT1H
X-Robots-Tag:noindex
X-PUBLISHED-TTL:PT1H
BEGIN:VTIMEZONE
TZID:America/Chicago
BEGIN:DAYLIGHT
TZOFFSETFROM:-0600
TZOFFSETTO:-0500
TZNAME:CDT
DTSTART:20220313T080000
END:DAYLIGHT
BEGIN:STANDARD
TZOFFSETFROM:-0500
TZOFFSETTO:-0600
TZNAME:CST
DTSTART:20221106T070000
END:STANDARD
BEGIN:DAYLIGHT
TZOFFSETFROM:-0600
TZOFFSETTO:-0500
TZNAME:CDT
DTSTART:20230312T080000
END:DAYLIGHT
BEGIN:STANDARD
TZOFFSETFROM:-0500
TZOFFSETTO:-0600
TZNAME:CST
DTSTART:20231105T070000
END:STANDARD
BEGIN:DAYLIGHT
TZOFFSETFROM:-0600
TZOFFSETTO:-0500
TZNAME:CDT
DTSTART:20240310T080000
END:DAYLIGHT
BEGIN:STANDARD
TZOFFSETFROM:-0500
TZOFFSETTO:-0600
TZNAME:CST
DTSTART:20241103T070000
END:STANDARD
END:VTIMEZONE
BEGIN:VEVENT
DTSTART;TZID=America/Chicago:20230518T110000
DTEND;TZID=America/Chicago:20230518T120000
DTSTAMP:20260419T085059
CREATED:20230320T221022Z
LAST-MODIFIED:20230320T221022Z
UID:104757-1684407600-1684411200@helpmegrownorthtexas.org
SUMMARY:Face to Face Little Sprouts at Play Studio
DESCRIPTION:Come Join us!
URL:https://helpmegrownorthtexas.org/event/face-to-face-little-sprouts-at-play-studio-9/
LOCATION:Play Studio by Green Space\, 3005 East Belknap Street\, Fort Worth\, TX\, 76111\, United States
ATTACH;FMTTYPE=image/jpeg:https://helpmegrownorthtexas.org/wp-content/uploads/2023/03/48396a2f7196b045e7e8b3bb1062ed2b.jpg
END:VEVENT
BEGIN:VEVENT
DTSTART;TZID=America/Chicago:20230518T093000
DTEND;TZID=America/Chicago:20230518T103000
DTSTAMP:20260419T085059
CREATED:20230320T220949Z
LAST-MODIFIED:20230320T220949Z
UID:104745-1684402200-1684405800@helpmegrownorthtexas.org
SUMMARY:Face to Face Music and Motion Group at Play Studio
DESCRIPTION:Come Join us!
URL:https://helpmegrownorthtexas.org/event/face-to-face-music-and-motion-group-at-play-studio-9/
LOCATION:Play Studio by Green Space\, 3005 East Belknap Street\, Fort Worth\, TX\, 76111\, United States
ATTACH;FMTTYPE=image/jpeg:https://helpmegrownorthtexas.org/wp-content/uploads/2023/03/1642fe1f421b2dbd987b2a4422055622.jpg
END:VEVENT
BEGIN:VEVENT
DTSTART;TZID=America/Chicago:20230518T063000
DTEND;TZID=America/Chicago:20230518T080000
DTSTAMP:20260419T085059
CREATED:20230419T170528Z
LAST-MODIFIED:20230419T170528Z
UID:104842-1684391400-1684396800@helpmegrownorthtexas.org
SUMMARY:Virtual Nurturing Families Program
DESCRIPTION:Come join us!
URL:https://helpmegrownorthtexas.org/event/virtual-nurturing-families-program-6/
ATTACH;FMTTYPE=image/jpeg:https://helpmegrownorthtexas.org/wp-content/uploads/2023/03/a20ba637d8fa3f4e33e7dcf5447e3ec3.jpg
END:VEVENT
BEGIN:VEVENT
DTSTART;TZID=America/Chicago:20230517T110500
DTEND;TZID=America/Chicago:20230517T122500
DTSTAMP:20260419T085059
CREATED:20230320T195022Z
LAST-MODIFIED:20230320T195022Z
UID:104682-1684321500-1684326300@helpmegrownorthtexas.org
SUMMARY:Face to Face #WoWTalk Café- Biomedical
DESCRIPTION:Come join us!!
URL:https://helpmegrownorthtexas.org/event/face-to-face-wowtalk-cafe-biomedical-2/
LOCATION:Texas Academy of Biomedical Sciences\, 300 Trinity Campus Circle\, Fort Worth\, TX\, 76102\, United States
ATTACH;FMTTYPE=image/jpeg:https://helpmegrownorthtexas.org/wp-content/uploads/2023/03/e62c651f98b6274f94572c7cd65a5315.jpg
END:VEVENT
BEGIN:VEVENT
DTSTART;TZID=America/Chicago:20230517T100000
DTEND;TZID=America/Chicago:20230517T110000
DTSTAMP:20260419T085059
CREATED:20220929T055300Z
LAST-MODIFIED:20221201T013057Z
UID:5418-1684317600-1684321200@helpmegrownorthtexas.org
SUMMARY:Face to Face Kindermusik Group- Springtown
DESCRIPTION:Come join us!!
URL:https://helpmegrownorthtexas.org/event/face-to-face-kindermusik-group-springtown-43/
LOCATION:Cornerstone Community Church\, 2233 East Highway 199\, Springtown\, TX\, 76082\, United States
ATTACH;FMTTYPE=image/jpeg:https://helpmegrownorthtexas.org/wp-content/uploads/2022/09/66247c2fab629edeadff3c5e4bab5287.jpg
END:VEVENT
BEGIN:VEVENT
DTSTART;TZID=America/Chicago:20230516T130000
DTEND;TZID=America/Chicago:20230516T140000
DTSTAMP:20260419T085059
CREATED:20230320T222843Z
LAST-MODIFIED:20230320T222843Z
UID:104796-1684242000-1684245600@helpmegrownorthtexas.org
SUMMARY:Face to Face Music and Motion- Grace House
DESCRIPTION:Come join us!
URL:https://helpmegrownorthtexas.org/event/face-to-face-music-and-motion-grace-house-6/
LOCATION:Grace House Pregnancy Center\, 400 Southeast 1st Street\, Mineral Wells\, TX\, 76067\, United States
ATTACH;FMTTYPE=image/jpeg:https://helpmegrownorthtexas.org/wp-content/uploads/2023/03/338d6d4c0ec38c3094c737c08f5688bc.jpg
END:VEVENT
BEGIN:VEVENT
DTSTART;TZID=America/Chicago:20230516T130000
DTEND;TZID=America/Chicago:20230516T140000
DTSTAMP:20260419T085059
CREATED:20230320T221049Z
LAST-MODIFIED:20230320T221049Z
UID:104769-1684242000-1684245600@helpmegrownorthtexas.org
SUMMARY:Face to Face Nurture Nature Exploration at Play Studio
DESCRIPTION:Come join us!
URL:https://helpmegrownorthtexas.org/event/face-to-face-nurture-nature-exploration-at-play-studio-9/
LOCATION:Play Studio by Green Space\, 3005 East Belknap Street\, Fort Worth\, TX\, 76111\, United States
ATTACH;FMTTYPE=image/jpeg:https://helpmegrownorthtexas.org/wp-content/uploads/2023/03/024589e4b8054bd1793de62b93a6eacf.jpg
END:VEVENT
BEGIN:VEVENT
DTSTART;TZID=America/Chicago:20230516T110000
DTEND;TZID=America/Chicago:20230516T120000
DTSTAMP:20260419T085059
CREATED:20230320T221114Z
LAST-MODIFIED:20230320T221114Z
UID:104781-1684234800-1684238400@helpmegrownorthtexas.org
SUMMARY:Face to Face Healthy Eating and Reading at Play Studio
DESCRIPTION:Come join us!
URL:https://helpmegrownorthtexas.org/event/face-to-face-healthy-eating-and-reading-at-play-studio-9/
LOCATION:Play Studio by Green Space\, 3005 East Belknap Street\, Fort Worth\, TX\, 76111\, United States
ATTACH;FMTTYPE=image/jpeg:https://helpmegrownorthtexas.org/wp-content/uploads/2023/03/6a23cc7c678799df84fd285fc745c42d.jpg
END:VEVENT
BEGIN:VEVENT
DTSTART;TZID=America/Chicago:20230516T100000
DTEND;TZID=America/Chicago:20230516T110000
DTSTAMP:20260419T085059
CREATED:20230501T150729Z
LAST-MODIFIED:20230501T150729Z
UID:104856-1684231200-1684234800@helpmegrownorthtexas.org
SUMMARY:Face to Face Baby and Me Group - Mineral Wells
DESCRIPTION:Come Join Us!!
URL:https://helpmegrownorthtexas.org/event/face-to-face-baby-and-me-group-mineral-wells-3/
LOCATION:Grace House Pregnancy Center\, 400 Southeast 1st Street\, Mineral Wells\, TX\, 76067\, United States
END:VEVENT
BEGIN:VEVENT
DTSTART;TZID=America/Chicago:20230516T093000
DTEND;TZID=America/Chicago:20230516T103000
DTSTAMP:20260419T085059
CREATED:20230320T220835Z
LAST-MODIFIED:20230320T220835Z
UID:104731-1684229400-1684233000@helpmegrownorthtexas.org
SUMMARY:Face to Face Transition Group at Play Studio
DESCRIPTION:Come Join us!
URL:https://helpmegrownorthtexas.org/event/face-to-face-transition-group-at-play-studio-9/
LOCATION:Play Studio by Green Space\, 3005 East Belknap Street\, Fort Worth\, TX\, 76111\, United States
ATTACH;FMTTYPE=image/jpeg:https://helpmegrownorthtexas.org/wp-content/uploads/2023/03/1c18114e5b9d81af896a466256127bd6.jpg
END:VEVENT
BEGIN:VEVENT
DTSTART;TZID=America/Chicago:20230511T173000
DTEND;TZID=America/Chicago:20230511T190000
DTSTAMP:20260419T085059
CREATED:20230320T194850Z
LAST-MODIFIED:20230501T153423Z
UID:104677-1683826200-1683831600@helpmegrownorthtexas.org
SUMMARY:Face to Face #WoWTalk Café- Fort Worth
DESCRIPTION:Come join us!!
URL:https://helpmegrownorthtexas.org/event/face-to-face-wowtalk-cafe-fort-worth-12/
LOCATION:Mental Health America of Greater Tarrant County\, 3136 West 4th Street\, Fort Worth\, TX\, 76107\, United States
ATTACH;FMTTYPE=image/jpeg:https://helpmegrownorthtexas.org/wp-content/uploads/2023/03/76c2c53e454629cd1b4c9ee073af8c71.jpg
END:VEVENT
BEGIN:VEVENT
DTSTART;TZID=America/Chicago:20230511T110000
DTEND;TZID=America/Chicago:20230511T120000
DTSTAMP:20260419T085059
CREATED:20230320T221022Z
LAST-MODIFIED:20230320T221022Z
UID:104756-1683802800-1683806400@helpmegrownorthtexas.org
SUMMARY:Face to Face Little Sprouts at Play Studio
DESCRIPTION:Come Join us!
URL:https://helpmegrownorthtexas.org/event/face-to-face-little-sprouts-at-play-studio-8/
LOCATION:Play Studio by Green Space\, 3005 East Belknap Street\, Fort Worth\, TX\, 76111\, United States
ATTACH;FMTTYPE=image/jpeg:https://helpmegrownorthtexas.org/wp-content/uploads/2023/03/48396a2f7196b045e7e8b3bb1062ed2b.jpg
END:VEVENT
BEGIN:VEVENT
DTSTART;TZID=America/Chicago:20230511T093000
DTEND;TZID=America/Chicago:20230511T103000
DTSTAMP:20260419T085059
CREATED:20230320T220949Z
LAST-MODIFIED:20230320T220949Z
UID:104744-1683797400-1683801000@helpmegrownorthtexas.org
SUMMARY:Face to Face Music and Motion Group at Play Studio
DESCRIPTION:Come Join us!
URL:https://helpmegrownorthtexas.org/event/face-to-face-music-and-motion-group-at-play-studio-8/
LOCATION:Play Studio by Green Space\, 3005 East Belknap Street\, Fort Worth\, TX\, 76111\, United States
ATTACH;FMTTYPE=image/jpeg:https://helpmegrownorthtexas.org/wp-content/uploads/2023/03/1642fe1f421b2dbd987b2a4422055622.jpg
END:VEVENT
BEGIN:VEVENT
DTSTART;TZID=America/Chicago:20230511T063000
DTEND;TZID=America/Chicago:20230511T080000
DTSTAMP:20260419T085059
CREATED:20230419T170528Z
LAST-MODIFIED:20230419T170528Z
UID:104841-1683786600-1683792000@helpmegrownorthtexas.org
SUMMARY:Virtual Nurturing Families Program
DESCRIPTION:Come join us!
URL:https://helpmegrownorthtexas.org/event/virtual-nurturing-families-program-5/
ATTACH;FMTTYPE=image/jpeg:https://helpmegrownorthtexas.org/wp-content/uploads/2023/03/a20ba637d8fa3f4e33e7dcf5447e3ec3.jpg
END:VEVENT
BEGIN:VEVENT
DTSTART;TZID=America/Chicago:20230510T100000
DTEND;TZID=America/Chicago:20230510T110000
DTSTAMP:20260419T085059
CREATED:20220929T055259Z
LAST-MODIFIED:20221201T013057Z
UID:5417-1683712800-1683716400@helpmegrownorthtexas.org
SUMMARY:Face to Face Kindermusik Group- Springtown
DESCRIPTION:Come join us!!
URL:https://helpmegrownorthtexas.org/event/face-to-face-kindermusik-group-springtown-42/
LOCATION:Cornerstone Community Church\, 2233 East Highway 199\, Springtown\, TX\, 76082\, United States
ATTACH;FMTTYPE=image/jpeg:https://helpmegrownorthtexas.org/wp-content/uploads/2022/09/66247c2fab629edeadff3c5e4bab5287.jpg
END:VEVENT
BEGIN:VEVENT
DTSTART;TZID=America/Chicago:20230509T130000
DTEND;TZID=America/Chicago:20230509T140000
DTSTAMP:20260419T085059
CREATED:20230320T222843Z
LAST-MODIFIED:20230320T222843Z
UID:104795-1683637200-1683640800@helpmegrownorthtexas.org
SUMMARY:Face to Face Music and Motion- Grace House
DESCRIPTION:Come join us!
URL:https://helpmegrownorthtexas.org/event/face-to-face-music-and-motion-grace-house-5/
LOCATION:Grace House Pregnancy Center\, 400 Southeast 1st Street\, Mineral Wells\, TX\, 76067\, United States
ATTACH;FMTTYPE=image/jpeg:https://helpmegrownorthtexas.org/wp-content/uploads/2023/03/338d6d4c0ec38c3094c737c08f5688bc.jpg
END:VEVENT
BEGIN:VEVENT
DTSTART;TZID=America/Chicago:20230509T130000
DTEND;TZID=America/Chicago:20230509T140000
DTSTAMP:20260419T085059
CREATED:20230320T221049Z
LAST-MODIFIED:20230320T221049Z
UID:104768-1683637200-1683640800@helpmegrownorthtexas.org
SUMMARY:Face to Face Nurture Nature Exploration at Play Studio
DESCRIPTION:Come join us!
URL:https://helpmegrownorthtexas.org/event/face-to-face-nurture-nature-exploration-at-play-studio-8/
LOCATION:Play Studio by Green Space\, 3005 East Belknap Street\, Fort Worth\, TX\, 76111\, United States
ATTACH;FMTTYPE=image/jpeg:https://helpmegrownorthtexas.org/wp-content/uploads/2023/03/024589e4b8054bd1793de62b93a6eacf.jpg
END:VEVENT
BEGIN:VEVENT
DTSTART;TZID=America/Chicago:20230509T110000
DTEND;TZID=America/Chicago:20230509T120000
DTSTAMP:20260419T085059
CREATED:20230320T221114Z
LAST-MODIFIED:20230320T221114Z
UID:104780-1683630000-1683633600@helpmegrownorthtexas.org
SUMMARY:Face to Face Healthy Eating and Reading at Play Studio
DESCRIPTION:Come join us!
URL:https://helpmegrownorthtexas.org/event/face-to-face-healthy-eating-and-reading-at-play-studio-8/
LOCATION:Play Studio by Green Space\, 3005 East Belknap Street\, Fort Worth\, TX\, 76111\, United States
ATTACH;FMTTYPE=image/jpeg:https://helpmegrownorthtexas.org/wp-content/uploads/2023/03/6a23cc7c678799df84fd285fc745c42d.jpg
END:VEVENT
BEGIN:VEVENT
DTSTART;TZID=America/Chicago:20230509T100000
DTEND;TZID=America/Chicago:20230509T110000
DTSTAMP:20260419T085059
CREATED:20230501T150728Z
LAST-MODIFIED:20230501T150728Z
UID:104855-1683626400-1683630000@helpmegrownorthtexas.org
SUMMARY:Face to Face Baby and Me Group - Mineral Wells
DESCRIPTION:Come Join Us!!
URL:https://helpmegrownorthtexas.org/event/face-to-face-baby-and-me-group-mineral-wells-2/
LOCATION:Grace House Pregnancy Center\, 400 Southeast 1st Street\, Mineral Wells\, TX\, 76067\, United States
END:VEVENT
BEGIN:VEVENT
DTSTART;TZID=America/Chicago:20230509T093000
DTEND;TZID=America/Chicago:20230509T103000
DTSTAMP:20260419T085059
CREATED:20230320T220835Z
LAST-MODIFIED:20230320T220835Z
UID:104730-1683624600-1683628200@helpmegrownorthtexas.org
SUMMARY:Face to Face Transition Group at Play Studio
DESCRIPTION:Come Join us!
URL:https://helpmegrownorthtexas.org/event/face-to-face-transition-group-at-play-studio-8/
LOCATION:Play Studio by Green Space\, 3005 East Belknap Street\, Fort Worth\, TX\, 76111\, United States
ATTACH;FMTTYPE=image/jpeg:https://helpmegrownorthtexas.org/wp-content/uploads/2023/03/1c18114e5b9d81af896a466256127bd6.jpg
END:VEVENT
BEGIN:VEVENT
DTSTART;TZID=America/Chicago:20230505T113000
DTEND;TZID=America/Chicago:20230505T123000
DTSTAMP:20260419T085059
CREATED:20230501T153021Z
LAST-MODIFIED:20230501T153021Z
UID:104972-1683286200-1683289800@helpmegrownorthtexas.org
SUMMARY:Face to Face Healthy Eating and Reading- Mineral Wells
DESCRIPTION:Come join us!
URL:https://helpmegrownorthtexas.org/event/face-to-face-healthy-eating-and-reading-mineral-wells/
LOCATION:Boyce Ditto Public Library\, 2300 Southeast Martin Luther King Junior Street\, Mineral Wells\, TX\, 76067\, United States
ATTACH;FMTTYPE=image/jpeg:https://helpmegrownorthtexas.org/wp-content/uploads/2023/05/2b5daca2ab752fd5fcc07030ded9e583.jpg
END:VEVENT
BEGIN:VEVENT
DTSTART;TZID=America/Chicago:20230504T110000
DTEND;TZID=America/Chicago:20230504T120000
DTSTAMP:20260419T085059
CREATED:20230320T221022Z
LAST-MODIFIED:20230320T221022Z
UID:104755-1683198000-1683201600@helpmegrownorthtexas.org
SUMMARY:Face to Face Little Sprouts at Play Studio
DESCRIPTION:Come Join us!
URL:https://helpmegrownorthtexas.org/event/face-to-face-little-sprouts-at-play-studio-7/
LOCATION:Play Studio by Green Space\, 3005 East Belknap Street\, Fort Worth\, TX\, 76111\, United States
ATTACH;FMTTYPE=image/jpeg:https://helpmegrownorthtexas.org/wp-content/uploads/2023/03/48396a2f7196b045e7e8b3bb1062ed2b.jpg
END:VEVENT
BEGIN:VEVENT
DTSTART;TZID=America/Chicago:20230504T093000
DTEND;TZID=America/Chicago:20230504T103000
DTSTAMP:20260419T085059
CREATED:20230320T220949Z
LAST-MODIFIED:20230320T220949Z
UID:104743-1683192600-1683196200@helpmegrownorthtexas.org
SUMMARY:Face to Face Music and Motion Group at Play Studio
DESCRIPTION:Come Join us!
URL:https://helpmegrownorthtexas.org/event/face-to-face-music-and-motion-group-at-play-studio-7/
LOCATION:Play Studio by Green Space\, 3005 East Belknap Street\, Fort Worth\, TX\, 76111\, United States
ATTACH;FMTTYPE=image/jpeg:https://helpmegrownorthtexas.org/wp-content/uploads/2023/03/1642fe1f421b2dbd987b2a4422055622.jpg
END:VEVENT
BEGIN:VEVENT
DTSTART;TZID=America/Chicago:20230504T063000
DTEND;TZID=America/Chicago:20230504T080000
DTSTAMP:20260419T085059
CREATED:20230419T170528Z
LAST-MODIFIED:20230419T170528Z
UID:104840-1683181800-1683187200@helpmegrownorthtexas.org
SUMMARY:Virtual Nurturing Families Program
DESCRIPTION:Come join us!
URL:https://helpmegrownorthtexas.org/event/virtual-nurturing-families-program-4/
ATTACH;FMTTYPE=image/jpeg:https://helpmegrownorthtexas.org/wp-content/uploads/2023/03/a20ba637d8fa3f4e33e7dcf5447e3ec3.jpg
END:VEVENT
BEGIN:VEVENT
DTSTART;TZID=America/Chicago:20230503T170000
DTEND;TZID=America/Chicago:20230503T190000
DTSTAMP:20260419T085059
CREATED:20230501T153117Z
LAST-MODIFIED:20230501T153117Z
UID:104975-1683133200-1683140400@helpmegrownorthtexas.org
SUMMARY:Face to Face #WoWTalk Café- Hemphill
DESCRIPTION:Come join us!!
URL:https://helpmegrownorthtexas.org/event/face-to-face-wowtalk-cafe-hemphill/
LOCATION:1527 Hemphill St\, 1527 Hemphill Street\, Fort Worth\, TX\, 76104\, United States
ATTACH;FMTTYPE=image/jpeg:https://helpmegrownorthtexas.org/wp-content/uploads/2023/05/6d9159aeb17b631010084fd8167e97b2.jpg
END:VEVENT
BEGIN:VEVENT
DTSTART;TZID=America/Chicago:20230503T100000
DTEND;TZID=America/Chicago:20230503T110000
DTSTAMP:20260419T085059
CREATED:20230320T221150Z
LAST-MODIFIED:20230320T221150Z
UID:104790-1683108000-1683111600@helpmegrownorthtexas.org
SUMMARY:Face to Face Music and Motion - Alvarado
DESCRIPTION:Come Join Us!!
URL:https://helpmegrownorthtexas.org/event/face-to-face-music-and-motion-alvarado-6/
LOCATION:Alvarado Public Library\, 210 North Baugh Street\, Alvarado\, TX\, 76009\, United States
ATTACH;FMTTYPE=image/jpeg:https://helpmegrownorthtexas.org/wp-content/uploads/2023/03/5b51e2d686c0c8f3ed305ad26dacdf7a.jpg
END:VEVENT
BEGIN:VEVENT
DTSTART;TZID=America/Chicago:20230503T100000
DTEND;TZID=America/Chicago:20230503T110000
DTSTAMP:20260419T085059
CREATED:20220929T055259Z
LAST-MODIFIED:20221201T013057Z
UID:5416-1683108000-1683111600@helpmegrownorthtexas.org
SUMMARY:Face to Face Kindermusik Group- Springtown
DESCRIPTION:Come join us!!
URL:https://helpmegrownorthtexas.org/event/face-to-face-kindermusik-group-springtown-41/
LOCATION:Cornerstone Community Church\, 2233 East Highway 199\, Springtown\, TX\, 76082\, United States
ATTACH;FMTTYPE=image/jpeg:https://helpmegrownorthtexas.org/wp-content/uploads/2022/09/66247c2fab629edeadff3c5e4bab5287.jpg
END:VEVENT
BEGIN:VEVENT
DTSTART;TZID=America/Chicago:20230502T130000
DTEND;TZID=America/Chicago:20230502T140000
DTSTAMP:20260419T085059
CREATED:20230320T222840Z
LAST-MODIFIED:20230320T222840Z
UID:104793-1683032400-1683036000@helpmegrownorthtexas.org
SUMMARY:Face to Face Music and Motion- Grace House
DESCRIPTION:Come join us!
URL:https://helpmegrownorthtexas.org/event/face-to-face-music-and-motion-grace-house-4/
LOCATION:Grace House Pregnancy Center\, 400 Southeast 1st Street\, Mineral Wells\, TX\, 76067\, United States
ATTACH;FMTTYPE=image/jpeg:https://helpmegrownorthtexas.org/wp-content/uploads/2023/03/338d6d4c0ec38c3094c737c08f5688bc.jpg
END:VEVENT
BEGIN:VEVENT
DTSTART;TZID=America/Chicago:20230502T130000
DTEND;TZID=America/Chicago:20230502T140000
DTSTAMP:20260419T085059
CREATED:20230320T221049Z
LAST-MODIFIED:20230320T221049Z
UID:104767-1683032400-1683036000@helpmegrownorthtexas.org
SUMMARY:Face to Face Nurture Nature Exploration at Play Studio
DESCRIPTION:Come join us!
URL:https://helpmegrownorthtexas.org/event/face-to-face-nurture-nature-exploration-at-play-studio-7/
LOCATION:Play Studio by Green Space\, 3005 East Belknap Street\, Fort Worth\, TX\, 76111\, United States
ATTACH;FMTTYPE=image/jpeg:https://helpmegrownorthtexas.org/wp-content/uploads/2023/03/024589e4b8054bd1793de62b93a6eacf.jpg
END:VEVENT
BEGIN:VEVENT
DTSTART;TZID=America/Chicago:20230502T110000
DTEND;TZID=America/Chicago:20230502T120000
DTSTAMP:20260419T085059
CREATED:20230320T221113Z
LAST-MODIFIED:20230320T221113Z
UID:104779-1683025200-1683028800@helpmegrownorthtexas.org
SUMMARY:Face to Face Healthy Eating and Reading at Play Studio
DESCRIPTION:Come join us!
URL:https://helpmegrownorthtexas.org/event/face-to-face-healthy-eating-and-reading-at-play-studio-7/
LOCATION:Play Studio by Green Space\, 3005 East Belknap Street\, Fort Worth\, TX\, 76111\, United States
ATTACH;FMTTYPE=image/jpeg:https://helpmegrownorthtexas.org/wp-content/uploads/2023/03/6a23cc7c678799df84fd285fc745c42d.jpg
END:VEVENT
END:VCALENDAR