BEGIN:VCALENDAR
VERSION:2.0
PRODID:-//Help Me Grow North Texas - ECPv6.15.20//NONSGML v1.0//EN
CALSCALE:GREGORIAN
METHOD:PUBLISH
X-WR-CALNAME:Help Me Grow North Texas
X-ORIGINAL-URL:https://helpmegrownorthtexas.org
X-WR-CALDESC:Events for Help Me Grow North Texas
REFRESH-INTERVAL;VALUE=DURATION:PT1H
X-Robots-Tag:noindex
X-PUBLISHED-TTL:PT1H
BEGIN:VTIMEZONE
TZID:America/Chicago
BEGIN:DAYLIGHT
TZOFFSETFROM:-0600
TZOFFSETTO:-0500
TZNAME:CDT
DTSTART:20240310T080000
END:DAYLIGHT
BEGIN:STANDARD
TZOFFSETFROM:-0500
TZOFFSETTO:-0600
TZNAME:CST
DTSTART:20241103T070000
END:STANDARD
BEGIN:DAYLIGHT
TZOFFSETFROM:-0600
TZOFFSETTO:-0500
TZNAME:CDT
DTSTART:20250309T080000
END:DAYLIGHT
BEGIN:STANDARD
TZOFFSETFROM:-0500
TZOFFSETTO:-0600
TZNAME:CST
DTSTART:20251102T070000
END:STANDARD
BEGIN:DAYLIGHT
TZOFFSETFROM:-0600
TZOFFSETTO:-0500
TZNAME:CDT
DTSTART:20260308T080000
END:DAYLIGHT
BEGIN:STANDARD
TZOFFSETFROM:-0500
TZOFFSETTO:-0600
TZNAME:CST
DTSTART:20261101T070000
END:STANDARD
END:VTIMEZONE
BEGIN:VEVENT
DTSTART;TZID=America/Chicago:20250612T173000
DTEND;TZID=America/Chicago:20250612T190000
DTSTAMP:20260419T204144
CREATED:20250515T181436Z
LAST-MODIFIED:20250528T143103Z
UID:107572-1749749400-1749754800@helpmegrownorthtexas.org
SUMMARY:Face to Face #WoWTalk Cafe- Fort Worth
DESCRIPTION:Come join us!!
URL:https://helpmegrownorthtexas.org/event/face-to-face-wowtalk-cafe-fort-worth-26/
LOCATION:3136 W 4th St\, 3136 West 4th Street\, Fort Worth\, TX\, 76107\, United States
ATTACH;FMTTYPE=image/jpeg:https://helpmegrownorthtexas.org/wp-content/uploads/2025/05/6f14e966ffb96f1071dbf7ac125b548f.jpg
END:VEVENT
BEGIN:VEVENT
DTSTART;TZID=America/Chicago:20250612T120000
DTEND;TZID=America/Chicago:20250612T130000
DTSTAMP:20260419T204144
CREATED:20250604T184815Z
LAST-MODIFIED:20250604T184815Z
UID:107624-1749729600-1749733200@helpmegrownorthtexas.org
SUMMARY:Virtual Nurturing Families
DESCRIPTION:JOIN US!
URL:https://helpmegrownorthtexas.org/event/virtual-nurturing-families-22/
LOCATION:TX
ATTACH;FMTTYPE=image/jpeg:https://helpmegrownorthtexas.org/wp-content/uploads/2025/06/f654831aad1d3a32e25c4271355b34b6.jpg
END:VEVENT
BEGIN:VEVENT
DTSTART;TZID=America/Chicago:20250612T093000
DTEND;TZID=America/Chicago:20250612T103000
DTSTAMP:20260419T204144
CREATED:20250515T181239Z
LAST-MODIFIED:20250528T142717Z
UID:107556-1749720600-1749724200@helpmegrownorthtexas.org
SUMMARY:Face to Face STEAM Stations- North  Center
DESCRIPTION:Come Join us!
URL:https://helpmegrownorthtexas.org/event/face-to-face-steam-stations-north-center-6/
LOCATION:North Center – 6032 Innovation Way Keller\, 76244\, Innovation Way\, Fort Worth\, TX\, 76244\, United States
ATTACH;FMTTYPE=image/jpeg:https://helpmegrownorthtexas.org/wp-content/uploads/2025/05/e2a4f6fde46740b75e14ef91d8632bfc.jpg
END:VEVENT
BEGIN:VEVENT
DTSTART;TZID=America/Chicago:20250612T093000
DTEND;TZID=America/Chicago:20250612T103000
DTSTAMP:20260419T204144
CREATED:20250515T181158Z
LAST-MODIFIED:20250528T142617Z
UID:107550-1749720600-1749724200@helpmegrownorthtexas.org
SUMMARY:Face to Face Little Sprouts Gardening Group- North Center
DESCRIPTION:Come and play with us!
URL:https://helpmegrownorthtexas.org/event/face-to-face-little-sprouts-gardening-group-north-center-2/
LOCATION:6032 Innovation Way\, 6032 Innovation Way\, Fort Worth\, TX\, 76244\, United States
ATTACH;FMTTYPE=image/jpeg:https://helpmegrownorthtexas.org/wp-content/uploads/2025/05/07465fca7460a61e89e762f57bad779e.jpg
END:VEVENT
BEGIN:VEVENT
DTSTART;TZID=America/Chicago:20250612T090000
DTEND;TZID=America/Chicago:20250612T100000
DTSTAMP:20260419T204144
CREATED:20250505T221141Z
LAST-MODIFIED:20250505T221141Z
UID:107479-1749718800-1749722400@helpmegrownorthtexas.org
SUMMARY:Walk in the Park
DESCRIPTION:Everyone welcome\, we will be joining other moms and their babies/kids as we walk around the park\, enjoy the playground with our kids!
URL:https://helpmegrownorthtexas.org/event/walk-in-the-park-10/
LOCATION:Martin Avenue\, Martin Avenue\, Springtown\, TX\, 76082\, United States
ATTACH;FMTTYPE=image/jpeg:https://helpmegrownorthtexas.org/wp-content/uploads/2025/03/3c1ba218fdd43cae9a7a9a9b8b252bae.jpg
END:VEVENT
BEGIN:VEVENT
DTSTART;TZID=America/Chicago:20250610T110000
DTEND;TZID=America/Chicago:20250610T121500
DTSTAMP:20260419T204144
CREATED:20250515T181125Z
LAST-MODIFIED:20250528T142511Z
UID:107545-1749553200-1749557700@helpmegrownorthtexas.org
SUMMARY:Face to Face Nurturing Families - Spanish
DESCRIPTION:Join Us!  ¡Únete a nosotros!
URL:https://helpmegrownorthtexas.org/event/face-to-face-nurturing-families-spanish-2/
LOCATION:3136 W 4th St\, 3136 West 4th Street\, Fort Worth\, TX\, 76107\, United States
ATTACH;FMTTYPE=image/jpeg:https://helpmegrownorthtexas.org/wp-content/uploads/2025/05/ee36c75542a10427b8a7ce1d4c61e075.jpg
END:VEVENT
BEGIN:VEVENT
DTSTART;TZID=America/Chicago:20250609T170000
DTEND;TZID=America/Chicago:20250609T180000
DTSTAMP:20260419T204144
CREATED:20250515T181041Z
LAST-MODIFIED:20250528T142435Z
UID:107540-1749488400-1749492000@helpmegrownorthtexas.org
SUMMARY:Virtual Nurturing Families - Spanish
DESCRIPTION:Join Us!  ¡Únete a nosotros!
URL:https://helpmegrownorthtexas.org/event/virtual-nurturing-families-spanish-29/
LOCATION:TX
ATTACH;FMTTYPE=image/jpeg:https://helpmegrownorthtexas.org/wp-content/uploads/2025/05/5b5ee2b615a0db118afb14fde60d5091.jpg
END:VEVENT
BEGIN:VEVENT
DTSTART;TZID=America/Chicago:20250606T100000
DTEND;TZID=America/Chicago:20250606T110000
DTSTAMP:20260419T204144
CREATED:20250515T180631Z
LAST-MODIFIED:20250515T180631Z
UID:107535-1749204000-1749207600@helpmegrownorthtexas.org
SUMMARY:Virtual Nurturing Families - Spanish
DESCRIPTION:Join Us!  ¡Únete a nosotros!
URL:https://helpmegrownorthtexas.org/event/virtual-nurturing-families-spanish-26/
LOCATION:TX
ATTACH;FMTTYPE=image/jpeg:https://helpmegrownorthtexas.org/wp-content/uploads/2025/05/c840858cce85846f9f41f4decdc45bae.jpg
END:VEVENT
BEGIN:VEVENT
DTSTART;TZID=America/Chicago:20250606T093000
DTEND;TZID=America/Chicago:20250606T103000
DTSTAMP:20260419T204144
CREATED:20250515T181401Z
LAST-MODIFIED:20250528T143024Z
UID:107566-1749202200-1749205800@helpmegrownorthtexas.org
SUMMARY:Face to Face Happy Baby Happy Family - Fort Worth
DESCRIPTION:Come Join us!
URL:https://helpmegrownorthtexas.org/event/face-to-face-happy-baby-happy-family-fort-worth/
LOCATION:3136 W 4th St\, 3136 West 4th Street\, Fort Worth\, TX\, 76107\, United States
ATTACH;FMTTYPE=image/jpeg:https://helpmegrownorthtexas.org/wp-content/uploads/2025/05/446894a416c9d63db3b5632f58d53c09.jpg
END:VEVENT
BEGIN:VEVENT
DTSTART;TZID=America/Chicago:20250606T090300
DTEND;TZID=America/Chicago:20250606T103000
DTSTAMP:20260419T204144
CREATED:20250515T181311Z
LAST-MODIFIED:20250528T142952Z
UID:107560-1749200580-1749205800@helpmegrownorthtexas.org
SUMMARY:Face to Face Little Sprouts Gardening Group- Fort Worth
DESCRIPTION:Come and play with us!
URL:https://helpmegrownorthtexas.org/event/face-to-face-little-sprouts-gardening-group-fort-worth/
LOCATION:3136 W 4th St\, 3136 West 4th Street\, Fort Worth\, TX\, 76107\, United States
ATTACH;FMTTYPE=image/jpeg:https://helpmegrownorthtexas.org/wp-content/uploads/2025/05/2be9dd4a6ef58a3646d961dad0b9cc35.jpg
END:VEVENT
BEGIN:VEVENT
DTSTART;TZID=America/Chicago:20250605T173000
DTEND;TZID=America/Chicago:20250605T193000
DTSTAMP:20260419T204144
CREATED:20250528T142903Z
LAST-MODIFIED:20250528T142903Z
UID:107601-1749144600-1749151800@helpmegrownorthtexas.org
SUMMARY:Face to Face Parent Cafe- Arlington
DESCRIPTION:Come and join us!
URL:https://helpmegrownorthtexas.org/event/face-to-face-parent-cafe-arlington-11/
LOCATION:401 W Sanford St suite 1500\, 401 West Sanford Street\, #suite 1500\, Arlington\, TX\, 76011\, United States
ATTACH;FMTTYPE=image/jpeg:https://helpmegrownorthtexas.org/wp-content/uploads/2025/05/e978017db8a571437f70c47e0d94cfa8.jpg
END:VEVENT
BEGIN:VEVENT
DTSTART;TZID=America/Chicago:20250605T173000
DTEND;TZID=America/Chicago:20250605T193000
DTSTAMP:20260419T204144
CREATED:20250528T142754Z
LAST-MODIFIED:20250528T142754Z
UID:107598-1749144600-1749151800@helpmegrownorthtexas.org
SUMMARY:Face to Face #WoWTalk Cafe- Arlington
DESCRIPTION:Come join us!!
URL:https://helpmegrownorthtexas.org/event/face-to-face-wowtalk-cafe-arlington-8/
LOCATION:401 W Sanford St suite 1500\, 401 West Sanford Street\, #suite 1500\, Arlington\, TX\, 76011\, United States
ATTACH;FMTTYPE=image/jpeg:https://helpmegrownorthtexas.org/wp-content/uploads/2025/05/d5006ec1542ab7cc6d3dab84fa8e1167.jpg
END:VEVENT
BEGIN:VEVENT
DTSTART;TZID=America/Chicago:20250605T093000
DTEND;TZID=America/Chicago:20250605T103000
DTSTAMP:20260419T204144
CREATED:20250515T181236Z
LAST-MODIFIED:20250528T142717Z
UID:107554-1749115800-1749119400@helpmegrownorthtexas.org
SUMMARY:Face to Face STEAM Stations- North  Center
DESCRIPTION:Come Join us!
URL:https://helpmegrownorthtexas.org/event/face-to-face-steam-stations-north-center-5/
LOCATION:North Center – 6032 Innovation Way Keller\, 76244\, Innovation Way\, Fort Worth\, TX\, 76244\, United States
ATTACH;FMTTYPE=image/jpeg:https://helpmegrownorthtexas.org/wp-content/uploads/2025/05/e2a4f6fde46740b75e14ef91d8632bfc.jpg
END:VEVENT
BEGIN:VEVENT
DTSTART;TZID=America/Chicago:20250605T093000
DTEND;TZID=America/Chicago:20250605T103000
DTSTAMP:20260419T204144
CREATED:20250515T181156Z
LAST-MODIFIED:20250528T142617Z
UID:107548-1749115800-1749119400@helpmegrownorthtexas.org
SUMMARY:Face to Face Little Sprouts Gardening Group- North Center
DESCRIPTION:Come and play with us!
URL:https://helpmegrownorthtexas.org/event/face-to-face-little-sprouts-gardening-group-north-center/
LOCATION:6032 Innovation Way\, 6032 Innovation Way\, Fort Worth\, TX\, 76244\, United States
ATTACH;FMTTYPE=image/jpeg:https://helpmegrownorthtexas.org/wp-content/uploads/2025/05/07465fca7460a61e89e762f57bad779e.jpg
END:VEVENT
BEGIN:VEVENT
DTSTART;TZID=America/Chicago:20250605T090000
DTEND;TZID=America/Chicago:20250605T100000
DTSTAMP:20260419T204144
CREATED:20250505T221141Z
LAST-MODIFIED:20250505T221141Z
UID:107478-1749114000-1749117600@helpmegrownorthtexas.org
SUMMARY:Walk in the Park
DESCRIPTION:Everyone welcome\, we will be joining other moms and their babies/kids as we walk around the park\, enjoy the playground with our kids!
URL:https://helpmegrownorthtexas.org/event/walk-in-the-park-9/
LOCATION:Martin Avenue\, Martin Avenue\, Springtown\, TX\, 76082\, United States
ATTACH;FMTTYPE=image/jpeg:https://helpmegrownorthtexas.org/wp-content/uploads/2025/03/3c1ba218fdd43cae9a7a9a9b8b252bae.jpg
END:VEVENT
BEGIN:VEVENT
DTSTART;TZID=America/Chicago:20250603T110000
DTEND;TZID=America/Chicago:20250603T121500
DTSTAMP:20260419T204144
CREATED:20250515T181123Z
LAST-MODIFIED:20250528T142511Z
UID:107543-1748948400-1748952900@helpmegrownorthtexas.org
SUMMARY:Face to Face Nurturing Families - Spanish
DESCRIPTION:Join Us!  ¡Únete a nosotros!
URL:https://helpmegrownorthtexas.org/event/face-to-face-nurturing-families-spanish/
LOCATION:3136 W 4th St\, 3136 West 4th Street\, Fort Worth\, TX\, 76107\, United States
ATTACH;FMTTYPE=image/jpeg:https://helpmegrownorthtexas.org/wp-content/uploads/2025/05/ee36c75542a10427b8a7ce1d4c61e075.jpg
END:VEVENT
BEGIN:VEVENT
DTSTART;TZID=America/Chicago:20250603T110000
DTEND;TZID=America/Chicago:20250603T120000
DTSTAMP:20260419T204144
CREATED:20250505T222150Z
LAST-MODIFIED:20250505T222150Z
UID:107523-1748948400-1748952000@helpmegrownorthtexas.org
SUMMARY:Face to Face Little Sprouts Gardening Group- Serve Denton
DESCRIPTION:Come and play with us!
URL:https://helpmegrownorthtexas.org/event/face-to-face-little-sprouts-gardening-group-serve-denton-3/
LOCATION:Serve Denton Center\, 306 North Loop 288\, #Suite 100\, Denton\, TX\, 76209\, United States
ATTACH;FMTTYPE=image/jpeg:https://helpmegrownorthtexas.org/wp-content/uploads/2025/05/8db0ca5fa42974c92cf13ae76aec4b40.jpg
END:VEVENT
BEGIN:VEVENT
DTSTART;TZID=America/Chicago:20250603T093000
DTEND;TZID=America/Chicago:20250603T103000
DTSTAMP:20260419T204144
CREATED:20250505T222122Z
LAST-MODIFIED:20250505T222122Z
UID:107517-1748943000-1748946600@helpmegrownorthtexas.org
SUMMARY:Face to Face Music and Motion- Serve Denton
DESCRIPTION:Come Join us!
URL:https://helpmegrownorthtexas.org/event/face-to-face-music-and-motion-serve-denton-10/
LOCATION:Serve Denton\, 306 N Loop 288\, Denton\, TX\, 76209\, United States
ATTACH;FMTTYPE=image/jpeg:https://helpmegrownorthtexas.org/wp-content/uploads/2025/05/c3aeccecc48c2c850a4e8964844bd611.jpg
END:VEVENT
BEGIN:VEVENT
DTSTART;TZID=America/Chicago:20250602T170000
DTEND;TZID=America/Chicago:20250602T180000
DTSTAMP:20260419T204144
CREATED:20250515T181038Z
LAST-MODIFIED:20250528T142435Z
UID:107538-1748883600-1748887200@helpmegrownorthtexas.org
SUMMARY:Virtual Nurturing Families - Spanish
DESCRIPTION:Join Us!  ¡Únete a nosotros!
URL:https://helpmegrownorthtexas.org/event/virtual-nurturing-families-spanish-28/
LOCATION:TX
ATTACH;FMTTYPE=image/jpeg:https://helpmegrownorthtexas.org/wp-content/uploads/2025/05/5b5ee2b615a0db118afb14fde60d5091.jpg
END:VEVENT
BEGIN:VEVENT
DTSTART;TZID=America/Chicago:20250530T100000
DTEND;TZID=America/Chicago:20250530T110000
DTSTAMP:20260419T204144
CREATED:20250515T180628Z
LAST-MODIFIED:20250515T180628Z
UID:107533-1748599200-1748602800@helpmegrownorthtexas.org
SUMMARY:Virtual Nurturing Families - Spanish
DESCRIPTION:Join Us!  ¡Únete a nosotros!
URL:https://helpmegrownorthtexas.org/event/virtual-nurturing-families-spanish-25/
LOCATION:TX
ATTACH;FMTTYPE=image/jpeg:https://helpmegrownorthtexas.org/wp-content/uploads/2025/05/c840858cce85846f9f41f4decdc45bae.jpg
END:VEVENT
BEGIN:VEVENT
DTSTART;TZID=America/Chicago:20250529T140000
DTEND;TZID=America/Chicago:20250529T150000
DTSTAMP:20260419T204144
CREATED:20250307T233102Z
LAST-MODIFIED:20250505T221004Z
UID:107252-1748527200-1748530800@helpmegrownorthtexas.org
SUMMARY:Open Play
DESCRIPTION:A group for all kids to come enjoy playing games\, puzzles\, and crafts. Every Monday and Thursday afternoon.
URL:https://helpmegrownorthtexas.org/event/open-play-24/
LOCATION:314 E 5th Terrace\, 314 East 5th Terrace\, Springtown\, TX\, 76082\, United States
ATTACH;FMTTYPE=image/jpeg:https://helpmegrownorthtexas.org/wp-content/uploads/2025/03/846f782cb516379e1936fe50a4b442f2.jpg
END:VEVENT
BEGIN:VEVENT
DTSTART;TZID=America/Chicago:20250529T110000
DTEND;TZID=America/Chicago:20250529T120000
DTSTAMP:20260419T204144
CREATED:20250505T221836Z
LAST-MODIFIED:20250505T221836Z
UID:107503-1748516400-1748520000@helpmegrownorthtexas.org
SUMMARY:Face To Face: Sensory Group- Fort Worth
DESCRIPTION:Come and play with us!
URL:https://helpmegrownorthtexas.org/event/face-to-face-sensory-group-fort-worth-9/
LOCATION:6032 Innovation Way\, 6032 Innovation Way\, Fort Worth\, TX\, 76244\, United States
ATTACH;FMTTYPE=image/jpeg:https://helpmegrownorthtexas.org/wp-content/uploads/2025/05/7d35540443d0c99271cde5af45a2dfc1.jpg
END:VEVENT
BEGIN:VEVENT
DTSTART;TZID=America/Chicago:20250529T093000
DTEND;TZID=America/Chicago:20250529T103000
DTSTAMP:20260419T204144
CREATED:20250505T221541Z
LAST-MODIFIED:20250505T221541Z
UID:107497-1748511000-1748514600@helpmegrownorthtexas.org
SUMMARY:Face to Face: Music and Motion- Fort Worth
DESCRIPTION:Come join us!
URL:https://helpmegrownorthtexas.org/event/face-to-face-music-and-motion-fort-worth-19/
LOCATION:6032 Innovation Way\, 6032 Innovation Way\, Fort Worth\, TX\, 76244\, United States
ATTACH;FMTTYPE=image/jpeg:https://helpmegrownorthtexas.org/wp-content/uploads/2025/05/803709c02836d63997e59cb52c0ea4c4.jpg
END:VEVENT
BEGIN:VEVENT
DTSTART;TZID=America/Chicago:20250529T090000
DTEND;TZID=America/Chicago:20250529T100000
DTSTAMP:20260419T204144
CREATED:20250505T221141Z
LAST-MODIFIED:20250505T221141Z
UID:107477-1748509200-1748512800@helpmegrownorthtexas.org
SUMMARY:Walk in the Park
DESCRIPTION:Everyone welcome\, we will be joining other moms and their babies/kids as we walk around the park\, enjoy the playground with our kids!
URL:https://helpmegrownorthtexas.org/event/walk-in-the-park-8/
LOCATION:Martin Avenue\, Martin Avenue\, Springtown\, TX\, 76082\, United States
ATTACH;FMTTYPE=image/jpeg:https://helpmegrownorthtexas.org/wp-content/uploads/2025/03/3c1ba218fdd43cae9a7a9a9b8b252bae.jpg
END:VEVENT
BEGIN:VEVENT
DTSTART;TZID=America/Chicago:20250528T100000
DTEND;TZID=America/Chicago:20250528T110000
DTSTAMP:20260419T204144
CREATED:20250307T233303Z
LAST-MODIFIED:20250505T221104Z
UID:107298-1748426400-1748430000@helpmegrownorthtexas.org
SUMMARY:Face to Face Kindermusik Level 3 (2 – 5 year old) Springtown
DESCRIPTION:Free Kindermusik Group Levels 3
URL:https://helpmegrownorthtexas.org/event/face-to-face-kindermusik-level-3-2-5-year-old-springtown-12/
LOCATION:Cornerstone Community Church\, 2233 East Highway 199\, Springtown\, TX\, 76082\, United States
ATTACH;FMTTYPE=image/jpeg:https://helpmegrownorthtexas.org/wp-content/uploads/2025/03/9c326ae17d7633ffd72469baf0ae265f.jpg
END:VEVENT
BEGIN:VEVENT
DTSTART;TZID=America/Chicago:20250527T110000
DTEND;TZID=America/Chicago:20250527T120000
DTSTAMP:20260419T204144
CREATED:20250505T222150Z
LAST-MODIFIED:20250505T222150Z
UID:107522-1748343600-1748347200@helpmegrownorthtexas.org
SUMMARY:Face to Face Little Sprouts Gardening Group- Serve Denton
DESCRIPTION:Come and play with us!
URL:https://helpmegrownorthtexas.org/event/face-to-face-little-sprouts-gardening-group-serve-denton-2/
LOCATION:Serve Denton Center\, 306 North Loop 288\, #Suite 100\, Denton\, TX\, 76209\, United States
ATTACH;FMTTYPE=image/jpeg:https://helpmegrownorthtexas.org/wp-content/uploads/2025/05/8db0ca5fa42974c92cf13ae76aec4b40.jpg
END:VEVENT
BEGIN:VEVENT
DTSTART;TZID=America/Chicago:20250527T093000
DTEND;TZID=America/Chicago:20250527T103000
DTSTAMP:20260419T204144
CREATED:20250505T222122Z
LAST-MODIFIED:20250505T222122Z
UID:107516-1748338200-1748341800@helpmegrownorthtexas.org
SUMMARY:Face to Face Music and Motion- Serve Denton
DESCRIPTION:Come Join us!
URL:https://helpmegrownorthtexas.org/event/face-to-face-music-and-motion-serve-denton-9/
LOCATION:Serve Denton\, 306 N Loop 288\, Denton\, TX\, 76209\, United States
ATTACH;FMTTYPE=image/jpeg:https://helpmegrownorthtexas.org/wp-content/uploads/2025/05/c3aeccecc48c2c850a4e8964844bd611.jpg
END:VEVENT
BEGIN:VEVENT
DTSTART;TZID=America/Chicago:20250526T140000
DTEND;TZID=America/Chicago:20250526T150000
DTSTAMP:20260419T204144
CREATED:20250307T233101Z
LAST-MODIFIED:20250505T221004Z
UID:107251-1748268000-1748271600@helpmegrownorthtexas.org
SUMMARY:Open Play
DESCRIPTION:A group for all kids to come enjoy playing games\, puzzles\, and crafts. Every Monday and Thursday afternoon.
URL:https://helpmegrownorthtexas.org/event/open-play-23/
LOCATION:314 E 5th Terrace\, 314 East 5th Terrace\, Springtown\, TX\, 76082\, United States
ATTACH;FMTTYPE=image/jpeg:https://helpmegrownorthtexas.org/wp-content/uploads/2025/03/846f782cb516379e1936fe50a4b442f2.jpg
END:VEVENT
BEGIN:VEVENT
DTSTART;TZID=America/Chicago:20250522T173000
DTEND;TZID=America/Chicago:20250522T190000
DTSTAMP:20260419T204144
CREATED:20250505T222241Z
LAST-MODIFIED:20250505T222241Z
UID:107529-1747935000-1747940400@helpmegrownorthtexas.org
SUMMARY:Face to Face #WoWTalk Cafe- Potter's House
DESCRIPTION:Come join us!!
URL:https://helpmegrownorthtexas.org/event/face-to-face-wowtalk-cafe-potters-house-3/
LOCATION:1270 Woodhaven Blvd\, 1270 Woodhaven Boulevard\, Fort Worth\, TX\, 76112\, United States
ATTACH;FMTTYPE=image/jpeg:https://helpmegrownorthtexas.org/wp-content/uploads/2025/05/8c7308320a39f5c2051653a657d786e8.jpg
END:VEVENT
BEGIN:VEVENT
DTSTART;TZID=America/Chicago:20250522T173000
DTEND;TZID=America/Chicago:20250522T190000
DTSTAMP:20260419T204144
CREATED:20250505T222214Z
LAST-MODIFIED:20250505T222214Z
UID:107526-1747935000-1747940400@helpmegrownorthtexas.org
SUMMARY:Face to Face Parent Cafe- Potter's House
DESCRIPTION:Come and join us!
URL:https://helpmegrownorthtexas.org/event/face-to-face-parent-cafe-potters-house-2/
LOCATION:1270 Woodhaven Blvd\, 1270 Woodhaven Boulevard\, Fort Worth\, TX\, 76112\, United States
ATTACH;FMTTYPE=image/jpeg:https://helpmegrownorthtexas.org/wp-content/uploads/2025/05/1d04f172cce85a00cff5e46fcadf6035.jpg
END:VEVENT
END:VCALENDAR