BEGIN:VCALENDAR
VERSION:2.0
PRODID:-//Help Me Grow North Texas - ECPv6.15.20//NONSGML v1.0//EN
CALSCALE:GREGORIAN
METHOD:PUBLISH
X-WR-CALNAME:Help Me Grow North Texas
X-ORIGINAL-URL:https://helpmegrownorthtexas.org
X-WR-CALDESC:Events for Help Me Grow North Texas
REFRESH-INTERVAL;VALUE=DURATION:PT1H
X-Robots-Tag:noindex
X-PUBLISHED-TTL:PT1H
BEGIN:VTIMEZONE
TZID:America/Chicago
BEGIN:DAYLIGHT
TZOFFSETFROM:-0600
TZOFFSETTO:-0500
TZNAME:CDT
DTSTART:20240310T080000
END:DAYLIGHT
BEGIN:STANDARD
TZOFFSETFROM:-0500
TZOFFSETTO:-0600
TZNAME:CST
DTSTART:20241103T070000
END:STANDARD
BEGIN:DAYLIGHT
TZOFFSETFROM:-0600
TZOFFSETTO:-0500
TZNAME:CDT
DTSTART:20250309T080000
END:DAYLIGHT
BEGIN:STANDARD
TZOFFSETFROM:-0500
TZOFFSETTO:-0600
TZNAME:CST
DTSTART:20251102T070000
END:STANDARD
BEGIN:DAYLIGHT
TZOFFSETFROM:-0600
TZOFFSETTO:-0500
TZNAME:CDT
DTSTART:20260308T080000
END:DAYLIGHT
BEGIN:STANDARD
TZOFFSETFROM:-0500
TZOFFSETTO:-0600
TZNAME:CST
DTSTART:20261101T070000
END:STANDARD
END:VTIMEZONE
BEGIN:VEVENT
DTSTART;TZID=America/Chicago:20250717T093000
DTEND;TZID=America/Chicago:20250717T103000
DTSTAMP:20260419T185346
CREATED:20250619T133435Z
LAST-MODIFIED:20250619T133435Z
UID:107664-1752744600-1752748200@helpmegrownorthtexas.org
SUMMARY:Face to Face: Nurture Nature Exploration- Fort Worth
DESCRIPTION:Come join us!
URL:https://helpmegrownorthtexas.org/event/face-to-face-nurture-nature-exploration-fort-worth-13/
LOCATION:6032 Innovation Way\, 6032 Innovation Way\, Fort Worth\, TX\, 76244\, United States
ATTACH;FMTTYPE=image/jpeg:https://helpmegrownorthtexas.org/wp-content/uploads/2025/06/6b77600ceabd0a0de819dd0926116904.jpg
END:VEVENT
BEGIN:VEVENT
DTSTART;TZID=America/Chicago:20250717T110000
DTEND;TZID=America/Chicago:20250717T120000
DTSTAMP:20260419T185346
CREATED:20250619T133512Z
LAST-MODIFIED:20250619T133512Z
UID:107674-1752750000-1752753600@helpmegrownorthtexas.org
SUMMARY:Face to Face Circle Time Group - North Center
DESCRIPTION:Come Join us!
URL:https://helpmegrownorthtexas.org/event/face-to-face-circle-time-group-north-center-7/
LOCATION:North Center – 6032 Innovation Way Keller\, 76244\, Innovation Way\, Fort Worth\, TX\, 76244\, United States
ATTACH;FMTTYPE=image/jpeg:https://helpmegrownorthtexas.org/wp-content/uploads/2025/06/c45fd8a67b179a1bf8794095b642322f.jpg
END:VEVENT
BEGIN:VEVENT
DTSTART;TZID=America/Chicago:20250717T110000
DTEND;TZID=America/Chicago:20250717T120000
DTSTAMP:20260419T185346
CREATED:20250707T163828Z
LAST-MODIFIED:20250707T163828Z
UID:107696-1752750000-1752753600@helpmegrownorthtexas.org
SUMMARY:Virtual Mothers and Babies Group
DESCRIPTION:Join Us!
URL:https://helpmegrownorthtexas.org/event/virtual-mothers-and-babies-group-22/
LOCATION:TX
ATTACH;FMTTYPE=image/jpeg:https://helpmegrownorthtexas.org/wp-content/uploads/2025/07/ce528753da433ffcadb255c082982670.jpg
END:VEVENT
BEGIN:VEVENT
DTSTART;TZID=America/Chicago:20250717T123000
DTEND;TZID=America/Chicago:20250717T133000
DTSTAMP:20260419T185346
CREATED:20250707T163843Z
LAST-MODIFIED:20250707T163843Z
UID:107699-1752755400-1752759000@helpmegrownorthtexas.org
SUMMARY:Face to Face Happy Baby Happy Family-North Center
DESCRIPTION:Come Join us!
URL:https://helpmegrownorthtexas.org/event/face-to-face-happy-baby-happy-family-north-center-2/
LOCATION:North Clinic – Keller\, 6032 Innovation Way\, Keller\, TX\, 76244\, United States
ATTACH;FMTTYPE=image/jpeg:https://helpmegrownorthtexas.org/wp-content/uploads/2025/07/cf5e53aea285cfd4654f3e0e756252e9.jpg
END:VEVENT
BEGIN:VEVENT
DTSTART;TZID=America/Chicago:20250717T150000
DTEND;TZID=America/Chicago:20250717T160000
DTSTAMP:20260419T185346
CREATED:20250707T163920Z
LAST-MODIFIED:20250707T163920Z
UID:107704-1752764400-1752768000@helpmegrownorthtexas.org
SUMMARY:Virtual Mothers and Babies Group
DESCRIPTION:Join Us!
URL:https://helpmegrownorthtexas.org/event/virtual-mothers-and-babies-group-24/
LOCATION:TX
ATTACH;FMTTYPE=image/jpeg:https://helpmegrownorthtexas.org/wp-content/uploads/2025/07/60710ad7aeafa3198233c019b4a67b34.jpg
END:VEVENT
BEGIN:VEVENT
DTSTART;TZID=America/Chicago:20250717T173000
DTEND;TZID=America/Chicago:20250717T190000
DTSTAMP:20260419T185346
CREATED:20250630T145456Z
LAST-MODIFIED:20250630T145456Z
UID:107683-1752773400-1752778800@helpmegrownorthtexas.org
SUMMARY:Face to Face Parent Cafe- Hulen
DESCRIPTION:Come and join us!
URL:https://helpmegrownorthtexas.org/event/face-to-face-parent-cafe-hulen-13/
LOCATION:3800 Hulen St\, 3800 Hulen Street\, Fort Worth\, TX\, 76107\, United States
ATTACH;FMTTYPE=image/jpeg:https://helpmegrownorthtexas.org/wp-content/uploads/2025/06/27444b28face9a37dd8e6a08a7cbe67c.jpg
END:VEVENT
BEGIN:VEVENT
DTSTART;TZID=America/Chicago:20250717T173000
DTEND;TZID=America/Chicago:20250717T190000
DTSTAMP:20260419T185346
CREATED:20250630T145639Z
LAST-MODIFIED:20250630T145639Z
UID:107686-1752773400-1752778800@helpmegrownorthtexas.org
SUMMARY:Face to Face #WoWTalk Cafe- Hulen
DESCRIPTION:Come join us!!
URL:https://helpmegrownorthtexas.org/event/face-to-face-wowtalk-cafe-hulen-11/
LOCATION:3800 Hulen St\, 3800 Hulen Street\, Fort Worth\, TX\, 76107\, United States
ATTACH;FMTTYPE=image/jpeg:https://helpmegrownorthtexas.org/wp-content/uploads/2025/06/c608127ba30412668eabf51ad72f7c9f.jpg
END:VEVENT
END:VCALENDAR