BEGIN:VCALENDAR
VERSION:2.0
PRODID:-//Help Me Grow North Texas - ECPv6.15.20//NONSGML v1.0//EN
CALSCALE:GREGORIAN
METHOD:PUBLISH
X-WR-CALNAME:Help Me Grow North Texas
X-ORIGINAL-URL:https://helpmegrownorthtexas.org
X-WR-CALDESC:Events for Help Me Grow North Texas
REFRESH-INTERVAL;VALUE=DURATION:PT1H
X-Robots-Tag:noindex
X-PUBLISHED-TTL:PT1H
BEGIN:VTIMEZONE
TZID:America/Chicago
BEGIN:DAYLIGHT
TZOFFSETFROM:-0600
TZOFFSETTO:-0500
TZNAME:CDT
DTSTART:20240310T080000
END:DAYLIGHT
BEGIN:STANDARD
TZOFFSETFROM:-0500
TZOFFSETTO:-0600
TZNAME:CST
DTSTART:20241103T070000
END:STANDARD
BEGIN:DAYLIGHT
TZOFFSETFROM:-0600
TZOFFSETTO:-0500
TZNAME:CDT
DTSTART:20250309T080000
END:DAYLIGHT
BEGIN:STANDARD
TZOFFSETFROM:-0500
TZOFFSETTO:-0600
TZNAME:CST
DTSTART:20251102T070000
END:STANDARD
BEGIN:DAYLIGHT
TZOFFSETFROM:-0600
TZOFFSETTO:-0500
TZNAME:CDT
DTSTART:20260308T080000
END:DAYLIGHT
BEGIN:STANDARD
TZOFFSETFROM:-0500
TZOFFSETTO:-0600
TZNAME:CST
DTSTART:20261101T070000
END:STANDARD
END:VTIMEZONE
BEGIN:VEVENT
DTSTART;TZID=America/Chicago:20250626T090000
DTEND;TZID=America/Chicago:20250626T100000
DTSTAMP:20260419T170701
CREATED:20250505T221141Z
LAST-MODIFIED:20250505T221141Z
UID:107481-1750928400-1750932000@helpmegrownorthtexas.org
SUMMARY:Walk in the Park
DESCRIPTION:Everyone welcome\, we will be joining other moms and their babies/kids as we walk around the park\, enjoy the playground with our kids!
URL:https://helpmegrownorthtexas.org/event/walk-in-the-park-12/
LOCATION:Martin Avenue\, Martin Avenue\, Springtown\, TX\, 76082\, United States
ATTACH;FMTTYPE=image/jpeg:https://helpmegrownorthtexas.org/wp-content/uploads/2025/03/3c1ba218fdd43cae9a7a9a9b8b252bae.jpg
END:VEVENT
BEGIN:VEVENT
DTSTART;TZID=America/Chicago:20250626T093000
DTEND;TZID=America/Chicago:20250626T103000
DTSTAMP:20260419T170701
CREATED:20250515T181159Z
LAST-MODIFIED:20250528T142618Z
UID:107552-1750930200-1750933800@helpmegrownorthtexas.org
SUMMARY:Face to Face Little Sprouts Gardening Group- North Center
DESCRIPTION:Come and play with us!
URL:https://helpmegrownorthtexas.org/event/face-to-face-little-sprouts-gardening-group-north-center-4/
LOCATION:6032 Innovation Way\, 6032 Innovation Way\, Fort Worth\, TX\, 76244\, United States
ATTACH;FMTTYPE=image/jpeg:https://helpmegrownorthtexas.org/wp-content/uploads/2025/05/07465fca7460a61e89e762f57bad779e.jpg
END:VEVENT
BEGIN:VEVENT
DTSTART;TZID=America/Chicago:20250626T093000
DTEND;TZID=America/Chicago:20250626T103000
DTSTAMP:20260419T170701
CREATED:20250515T181239Z
LAST-MODIFIED:20250528T142718Z
UID:107558-1750930200-1750933800@helpmegrownorthtexas.org
SUMMARY:Face to Face STEAM Stations- North  Center
DESCRIPTION:Come Join us!
URL:https://helpmegrownorthtexas.org/event/face-to-face-steam-stations-north-center-8/
LOCATION:North Center – 6032 Innovation Way Keller\, 76244\, Innovation Way\, Fort Worth\, TX\, 76244\, United States
ATTACH;FMTTYPE=image/jpeg:https://helpmegrownorthtexas.org/wp-content/uploads/2025/05/e2a4f6fde46740b75e14ef91d8632bfc.jpg
END:VEVENT
BEGIN:VEVENT
DTSTART;TZID=America/Chicago:20250626T120000
DTEND;TZID=America/Chicago:20250626T130000
DTSTAMP:20260419T170701
CREATED:20250604T184817Z
LAST-MODIFIED:20250604T184817Z
UID:107627-1750939200-1750942800@helpmegrownorthtexas.org
SUMMARY:Virtual Nurturing Families
DESCRIPTION:JOIN US!
URL:https://helpmegrownorthtexas.org/event/virtual-nurturing-families-24/
LOCATION:TX
ATTACH;FMTTYPE=image/jpeg:https://helpmegrownorthtexas.org/wp-content/uploads/2025/06/f654831aad1d3a32e25c4271355b34b6.jpg
END:VEVENT
BEGIN:VEVENT
DTSTART;TZID=America/Chicago:20250626T173000
DTEND;TZID=America/Chicago:20250626T190000
DTSTAMP:20260419T170701
CREATED:20250528T141713Z
LAST-MODIFIED:20250528T141713Z
UID:107576-1750959000-1750964400@helpmegrownorthtexas.org
SUMMARY:Face to Face Parent Cafe- Potter's House
DESCRIPTION:Come and join us!
URL:https://helpmegrownorthtexas.org/event/face-to-face-parent-cafe-potters-house-3/
LOCATION:1270 Woodhaven Blvd\, 1270 Woodhaven Boulevard\, Fort Worth\, TX\, 76112\, United States
ATTACH;FMTTYPE=image/jpeg:https://helpmegrownorthtexas.org/wp-content/uploads/2025/05/2da4e4d095a3b4dd6b33851d69801c67.jpg
END:VEVENT
BEGIN:VEVENT
DTSTART;TZID=America/Chicago:20250626T173000
DTEND;TZID=America/Chicago:20250626T190000
DTSTAMP:20260419T170701
CREATED:20250619T133309Z
LAST-MODIFIED:20250619T133309Z
UID:107658-1750959000-1750964400@helpmegrownorthtexas.org
SUMMARY:Face to Face #WoWTalk Cafe - Potter's House FTW
DESCRIPTION:Come and join us!
URL:https://helpmegrownorthtexas.org/event/face-to-face-wowtalk-cafe-potters-house-ftw/
LOCATION:1270 Woodhaven Blvd\, 1270 Woodhaven Boulevard\, Fort Worth\, TX\, 76112\, United States
ATTACH;FMTTYPE=image/jpeg:https://helpmegrownorthtexas.org/wp-content/uploads/2025/06/b7e52a3cdba6d94ba56339a639fe9abe.jpg
END:VEVENT
END:VCALENDAR