BEGIN:VCALENDAR
VERSION:2.0
PRODID:-//Help Me Grow North Texas - ECPv6.15.20//NONSGML v1.0//EN
CALSCALE:GREGORIAN
METHOD:PUBLISH
X-ORIGINAL-URL:https://helpmegrownorthtexas.org
X-WR-CALDESC:Events for Help Me Grow North Texas
REFRESH-INTERVAL;VALUE=DURATION:PT1H
X-Robots-Tag:noindex
X-PUBLISHED-TTL:PT1H
BEGIN:VTIMEZONE
TZID:America/Chicago
BEGIN:DAYLIGHT
TZOFFSETFROM:-0600
TZOFFSETTO:-0500
TZNAME:CDT
DTSTART:20240310T080000
END:DAYLIGHT
BEGIN:STANDARD
TZOFFSETFROM:-0500
TZOFFSETTO:-0600
TZNAME:CST
DTSTART:20241103T070000
END:STANDARD
BEGIN:DAYLIGHT
TZOFFSETFROM:-0600
TZOFFSETTO:-0500
TZNAME:CDT
DTSTART:20250309T080000
END:DAYLIGHT
BEGIN:STANDARD
TZOFFSETFROM:-0500
TZOFFSETTO:-0600
TZNAME:CST
DTSTART:20251102T070000
END:STANDARD
BEGIN:DAYLIGHT
TZOFFSETFROM:-0600
TZOFFSETTO:-0500
TZNAME:CDT
DTSTART:20260308T080000
END:DAYLIGHT
BEGIN:STANDARD
TZOFFSETFROM:-0500
TZOFFSETTO:-0600
TZNAME:CST
DTSTART:20261101T070000
END:STANDARD
END:VTIMEZONE
BEGIN:VEVENT
DTSTART;TZID=America/Chicago:20250617T093000
DTEND;TZID=America/Chicago:20250617T103000
DTSTAMP:20260419T170735
CREATED:20250505T222122Z
LAST-MODIFIED:20250505T222122Z
UID:107518-1750152600-1750156200@helpmegrownorthtexas.org
SUMMARY:Face to Face Music and Motion- Serve Denton
DESCRIPTION:Come Join us!
URL:https://helpmegrownorthtexas.org/event/face-to-face-music-and-motion-serve-denton-11/
LOCATION:Serve Denton\, 306 N Loop 288\, Denton\, TX\, 76209\, United States
ATTACH;FMTTYPE=image/jpeg:https://helpmegrownorthtexas.org/wp-content/uploads/2025/05/c3aeccecc48c2c850a4e8964844bd611.jpg
END:VEVENT
BEGIN:VEVENT
DTSTART;TZID=America/Chicago:20250617T110000
DTEND;TZID=America/Chicago:20250617T120000
DTSTAMP:20260419T170735
CREATED:20250505T222150Z
LAST-MODIFIED:20250505T222150Z
UID:107524-1750158000-1750161600@helpmegrownorthtexas.org
SUMMARY:Face to Face Little Sprouts Gardening Group- Serve Denton
DESCRIPTION:Come and play with us!
URL:https://helpmegrownorthtexas.org/event/face-to-face-little-sprouts-gardening-group-serve-denton-4/
LOCATION:Serve Denton Center\, 306 North Loop 288\, #Suite 100\, Denton\, TX\, 76209\, United States
ATTACH;FMTTYPE=image/jpeg:https://helpmegrownorthtexas.org/wp-content/uploads/2025/05/8db0ca5fa42974c92cf13ae76aec4b40.jpg
END:VEVENT
BEGIN:VEVENT
DTSTART;TZID=America/Chicago:20250617T110000
DTEND;TZID=America/Chicago:20250617T121500
DTSTAMP:20260419T170735
CREATED:20250515T181125Z
LAST-MODIFIED:20250528T142511Z
UID:107546-1750158000-1750162500@helpmegrownorthtexas.org
SUMMARY:Face to Face Nurturing Families - Spanish
DESCRIPTION:Join Us!  ¡Únete a nosotros!
URL:https://helpmegrownorthtexas.org/event/face-to-face-nurturing-families-spanish-3/
LOCATION:3136 W 4th St\, 3136 West 4th Street\, Fort Worth\, TX\, 76107\, United States
ATTACH;FMTTYPE=image/jpeg:https://helpmegrownorthtexas.org/wp-content/uploads/2025/05/ee36c75542a10427b8a7ce1d4c61e075.jpg
END:VEVENT
END:VCALENDAR