BEGIN:VCALENDAR
VERSION:2.0
PRODID:-//Help Me Grow North Texas - ECPv6.15.20//NONSGML v1.0//EN
CALSCALE:GREGORIAN
METHOD:PUBLISH
X-WR-CALNAME:Help Me Grow North Texas
X-ORIGINAL-URL:https://helpmegrownorthtexas.org
X-WR-CALDESC:Events for Help Me Grow North Texas
REFRESH-INTERVAL;VALUE=DURATION:PT1H
X-Robots-Tag:noindex
X-PUBLISHED-TTL:PT1H
BEGIN:VTIMEZONE
TZID:America/Chicago
BEGIN:DAYLIGHT
TZOFFSETFROM:-0600
TZOFFSETTO:-0500
TZNAME:CDT
DTSTART:20240310T080000
END:DAYLIGHT
BEGIN:STANDARD
TZOFFSETFROM:-0500
TZOFFSETTO:-0600
TZNAME:CST
DTSTART:20241103T070000
END:STANDARD
BEGIN:DAYLIGHT
TZOFFSETFROM:-0600
TZOFFSETTO:-0500
TZNAME:CDT
DTSTART:20250309T080000
END:DAYLIGHT
BEGIN:STANDARD
TZOFFSETFROM:-0500
TZOFFSETTO:-0600
TZNAME:CST
DTSTART:20251102T070000
END:STANDARD
BEGIN:DAYLIGHT
TZOFFSETFROM:-0600
TZOFFSETTO:-0500
TZNAME:CDT
DTSTART:20260308T080000
END:DAYLIGHT
BEGIN:STANDARD
TZOFFSETFROM:-0500
TZOFFSETTO:-0600
TZNAME:CST
DTSTART:20261101T070000
END:STANDARD
END:VTIMEZONE
BEGIN:VEVENT
DTSTART;TZID=America/Chicago:20250522T090000
DTEND;TZID=America/Chicago:20250522T100000
DTSTAMP:20260419T152108
CREATED:20250505T221140Z
LAST-MODIFIED:20250505T221140Z
UID:107476-1747904400-1747908000@helpmegrownorthtexas.org
SUMMARY:Walk in the Park
DESCRIPTION:Everyone welcome\, we will be joining other moms and their babies/kids as we walk around the park\, enjoy the playground with our kids!
URL:https://helpmegrownorthtexas.org/event/walk-in-the-park-7/
LOCATION:Martin Avenue\, Martin Avenue\, Springtown\, TX\, 76082\, United States
ATTACH;FMTTYPE=image/jpeg:https://helpmegrownorthtexas.org/wp-content/uploads/2025/03/3c1ba218fdd43cae9a7a9a9b8b252bae.jpg
END:VEVENT
BEGIN:VEVENT
DTSTART;TZID=America/Chicago:20250522T093000
DTEND;TZID=America/Chicago:20250522T103000
DTSTAMP:20260419T152108
CREATED:20250505T221541Z
LAST-MODIFIED:20250505T221541Z
UID:107496-1747906200-1747909800@helpmegrownorthtexas.org
SUMMARY:Face to Face: Music and Motion- Fort Worth
DESCRIPTION:Come join us!
URL:https://helpmegrownorthtexas.org/event/face-to-face-music-and-motion-fort-worth-18/
LOCATION:6032 Innovation Way\, 6032 Innovation Way\, Fort Worth\, TX\, 76244\, United States
ATTACH;FMTTYPE=image/jpeg:https://helpmegrownorthtexas.org/wp-content/uploads/2025/05/803709c02836d63997e59cb52c0ea4c4.jpg
END:VEVENT
BEGIN:VEVENT
DTSTART;TZID=America/Chicago:20250522T110000
DTEND;TZID=America/Chicago:20250522T120000
DTSTAMP:20260419T152108
CREATED:20250505T221836Z
LAST-MODIFIED:20250505T221836Z
UID:107502-1747911600-1747915200@helpmegrownorthtexas.org
SUMMARY:Face To Face: Sensory Group- Fort Worth
DESCRIPTION:Come and play with us!
URL:https://helpmegrownorthtexas.org/event/face-to-face-sensory-group-fort-worth-8/
LOCATION:6032 Innovation Way\, 6032 Innovation Way\, Fort Worth\, TX\, 76244\, United States
ATTACH;FMTTYPE=image/jpeg:https://helpmegrownorthtexas.org/wp-content/uploads/2025/05/7d35540443d0c99271cde5af45a2dfc1.jpg
END:VEVENT
BEGIN:VEVENT
DTSTART;TZID=America/Chicago:20250522T140000
DTEND;TZID=America/Chicago:20250522T150000
DTSTAMP:20260419T152108
CREATED:20250307T233101Z
LAST-MODIFIED:20250505T221004Z
UID:107250-1747922400-1747926000@helpmegrownorthtexas.org
SUMMARY:Open Play
DESCRIPTION:A group for all kids to come enjoy playing games\, puzzles\, and crafts. Every Monday and Thursday afternoon.
URL:https://helpmegrownorthtexas.org/event/open-play-22/
LOCATION:314 E 5th Terrace\, 314 East 5th Terrace\, Springtown\, TX\, 76082\, United States
ATTACH;FMTTYPE=image/jpeg:https://helpmegrownorthtexas.org/wp-content/uploads/2025/03/846f782cb516379e1936fe50a4b442f2.jpg
END:VEVENT
BEGIN:VEVENT
DTSTART;TZID=America/Chicago:20250522T173000
DTEND;TZID=America/Chicago:20250522T190000
DTSTAMP:20260419T152108
CREATED:20250505T222214Z
LAST-MODIFIED:20250505T222214Z
UID:107526-1747935000-1747940400@helpmegrownorthtexas.org
SUMMARY:Face to Face Parent Cafe- Potter's House
DESCRIPTION:Come and join us!
URL:https://helpmegrownorthtexas.org/event/face-to-face-parent-cafe-potters-house-2/
LOCATION:1270 Woodhaven Blvd\, 1270 Woodhaven Boulevard\, Fort Worth\, TX\, 76112\, United States
ATTACH;FMTTYPE=image/jpeg:https://helpmegrownorthtexas.org/wp-content/uploads/2025/05/1d04f172cce85a00cff5e46fcadf6035.jpg
END:VEVENT
BEGIN:VEVENT
DTSTART;TZID=America/Chicago:20250522T173000
DTEND;TZID=America/Chicago:20250522T190000
DTSTAMP:20260419T152108
CREATED:20250505T222241Z
LAST-MODIFIED:20250505T222241Z
UID:107529-1747935000-1747940400@helpmegrownorthtexas.org
SUMMARY:Face to Face #WoWTalk Cafe- Potter's House
DESCRIPTION:Come join us!!
URL:https://helpmegrownorthtexas.org/event/face-to-face-wowtalk-cafe-potters-house-3/
LOCATION:1270 Woodhaven Blvd\, 1270 Woodhaven Boulevard\, Fort Worth\, TX\, 76112\, United States
ATTACH;FMTTYPE=image/jpeg:https://helpmegrownorthtexas.org/wp-content/uploads/2025/05/8c7308320a39f5c2051653a657d786e8.jpg
END:VEVENT
END:VCALENDAR