BEGIN:VCALENDAR
VERSION:2.0
PRODID:-//Help Me Grow North Texas - ECPv6.15.20//NONSGML v1.0//EN
CALSCALE:GREGORIAN
METHOD:PUBLISH
X-WR-CALNAME:Help Me Grow North Texas
X-ORIGINAL-URL:https://helpmegrownorthtexas.org
X-WR-CALDESC:Events for Help Me Grow North Texas
REFRESH-INTERVAL;VALUE=DURATION:PT1H
X-Robots-Tag:noindex
X-PUBLISHED-TTL:PT1H
BEGIN:VTIMEZONE
TZID:America/Chicago
BEGIN:DAYLIGHT
TZOFFSETFROM:-0600
TZOFFSETTO:-0500
TZNAME:CDT
DTSTART:20240310T080000
END:DAYLIGHT
BEGIN:STANDARD
TZOFFSETFROM:-0500
TZOFFSETTO:-0600
TZNAME:CST
DTSTART:20241103T070000
END:STANDARD
BEGIN:DAYLIGHT
TZOFFSETFROM:-0600
TZOFFSETTO:-0500
TZNAME:CDT
DTSTART:20250309T080000
END:DAYLIGHT
BEGIN:STANDARD
TZOFFSETFROM:-0500
TZOFFSETTO:-0600
TZNAME:CST
DTSTART:20251102T070000
END:STANDARD
BEGIN:DAYLIGHT
TZOFFSETFROM:-0600
TZOFFSETTO:-0500
TZNAME:CDT
DTSTART:20260308T080000
END:DAYLIGHT
BEGIN:STANDARD
TZOFFSETFROM:-0500
TZOFFSETTO:-0600
TZNAME:CST
DTSTART:20261101T070000
END:STANDARD
END:VTIMEZONE
BEGIN:VEVENT
DTSTART;TZID=America/Chicago:20250508T090000
DTEND;TZID=America/Chicago:20250508T100000
DTSTAMP:20260419T152036
CREATED:20250505T221140Z
LAST-MODIFIED:20250505T221140Z
UID:107474-1746694800-1746698400@helpmegrownorthtexas.org
SUMMARY:Walk in the Park
DESCRIPTION:Everyone welcome\, we will be joining other moms and their babies/kids as we walk around the park\, enjoy the playground with our kids!
URL:https://helpmegrownorthtexas.org/event/walk-in-the-park-5/
LOCATION:Martin Avenue\, Martin Avenue\, Springtown\, TX\, 76082\, United States
ATTACH;FMTTYPE=image/jpeg:https://helpmegrownorthtexas.org/wp-content/uploads/2025/03/3c1ba218fdd43cae9a7a9a9b8b252bae.jpg
END:VEVENT
BEGIN:VEVENT
DTSTART;TZID=America/Chicago:20250508T093000
DTEND;TZID=America/Chicago:20250508T103000
DTSTAMP:20260419T152036
CREATED:20250505T221539Z
LAST-MODIFIED:20250505T221539Z
UID:107493-1746696600-1746700200@helpmegrownorthtexas.org
SUMMARY:Face to Face: Music and Motion- Fort Worth
DESCRIPTION:Come join us!
URL:https://helpmegrownorthtexas.org/event/face-to-face-music-and-motion-fort-worth-16/
LOCATION:6032 Innovation Way\, 6032 Innovation Way\, Fort Worth\, TX\, 76244\, United States
ATTACH;FMTTYPE=image/jpeg:https://helpmegrownorthtexas.org/wp-content/uploads/2025/05/803709c02836d63997e59cb52c0ea4c4.jpg
END:VEVENT
BEGIN:VEVENT
DTSTART;TZID=America/Chicago:20250508T100000
DTEND;TZID=America/Chicago:20250508T110000
DTSTAMP:20260419T152036
CREATED:20250310T215502Z
LAST-MODIFIED:20250310T215502Z
UID:107345-1746698400-1746702000@helpmegrownorthtexas.org
SUMMARY:Little Sprouts Gardening
DESCRIPTION:Explore our garden as we plant\, grow\, and learn about growing your own garden at home.
URL:https://helpmegrownorthtexas.org/event/little-sprouts-gardening-9/
LOCATION:Family Resource Center / Help Me Grow NT\, 314 East 5th Terrace\, Springtown\, TX\, 76082\, United States
ATTACH;FMTTYPE=image/jpeg:https://helpmegrownorthtexas.org/wp-content/uploads/2025/03/52714affc963c90efb581651dfaf51b6.jpg
END:VEVENT
BEGIN:VEVENT
DTSTART;TZID=America/Chicago:20250508T110000
DTEND;TZID=America/Chicago:20250508T120000
DTSTAMP:20260419T152036
CREATED:20250505T221833Z
LAST-MODIFIED:20250505T221833Z
UID:107499-1746702000-1746705600@helpmegrownorthtexas.org
SUMMARY:Face To Face: Sensory Group- Fort Worth
DESCRIPTION:Come and play with us!
URL:https://helpmegrownorthtexas.org/event/face-to-face-sensory-group-fort-worth-6/
LOCATION:6032 Innovation Way\, 6032 Innovation Way\, Fort Worth\, TX\, 76244\, United States
ATTACH;FMTTYPE=image/jpeg:https://helpmegrownorthtexas.org/wp-content/uploads/2025/05/7d35540443d0c99271cde5af45a2dfc1.jpg
END:VEVENT
BEGIN:VEVENT
DTSTART;TZID=America/Chicago:20250508T140000
DTEND;TZID=America/Chicago:20250508T150000
DTSTAMP:20260419T152036
CREATED:20250307T233100Z
LAST-MODIFIED:20250505T221003Z
UID:107246-1746712800-1746716400@helpmegrownorthtexas.org
SUMMARY:Open Play
DESCRIPTION:A group for all kids to come enjoy playing games\, puzzles\, and crafts. Every Monday and Thursday afternoon.
URL:https://helpmegrownorthtexas.org/event/open-play-18/
LOCATION:314 E 5th Terrace\, 314 East 5th Terrace\, Springtown\, TX\, 76082\, United States
ATTACH;FMTTYPE=image/jpeg:https://helpmegrownorthtexas.org/wp-content/uploads/2025/03/846f782cb516379e1936fe50a4b442f2.jpg
END:VEVENT
END:VCALENDAR