BEGIN:VCALENDAR
VERSION:2.0
PRODID:-//Help Me Grow North Texas - ECPv6.15.20//NONSGML v1.0//EN
CALSCALE:GREGORIAN
METHOD:PUBLISH
X-WR-CALNAME:Help Me Grow North Texas
X-ORIGINAL-URL:https://helpmegrownorthtexas.org
X-WR-CALDESC:Events for Help Me Grow North Texas
REFRESH-INTERVAL;VALUE=DURATION:PT1H
X-Robots-Tag:noindex
X-PUBLISHED-TTL:PT1H
BEGIN:VTIMEZONE
TZID:America/Chicago
BEGIN:DAYLIGHT
TZOFFSETFROM:-0600
TZOFFSETTO:-0500
TZNAME:CDT
DTSTART:20240310T080000
END:DAYLIGHT
BEGIN:STANDARD
TZOFFSETFROM:-0500
TZOFFSETTO:-0600
TZNAME:CST
DTSTART:20241103T070000
END:STANDARD
BEGIN:DAYLIGHT
TZOFFSETFROM:-0600
TZOFFSETTO:-0500
TZNAME:CDT
DTSTART:20250309T080000
END:DAYLIGHT
BEGIN:STANDARD
TZOFFSETFROM:-0500
TZOFFSETTO:-0600
TZNAME:CST
DTSTART:20251102T070000
END:STANDARD
BEGIN:DAYLIGHT
TZOFFSETFROM:-0600
TZOFFSETTO:-0500
TZNAME:CDT
DTSTART:20260308T080000
END:DAYLIGHT
BEGIN:STANDARD
TZOFFSETFROM:-0500
TZOFFSETTO:-0600
TZNAME:CST
DTSTART:20261101T070000
END:STANDARD
END:VTIMEZONE
BEGIN:VEVENT
DTSTART;TZID=America/Chicago:20250423T100000
DTEND;TZID=America/Chicago:20250423T110000
DTSTAMP:20260419T132658
CREATED:20250307T233302Z
LAST-MODIFIED:20250307T233302Z
UID:107293-1745402400-1745406000@helpmegrownorthtexas.org
SUMMARY:Face to Face Kindermusik Level 3 (2 – 5 year old) Springtown
DESCRIPTION:Free Kindermusik Group Levels 3
URL:https://helpmegrownorthtexas.org/event/face-to-face-kindermusik-level-3-2-5-year-old-springtown-7/
LOCATION:Cornerstone Community Church\, 2233 East Highway 199\, Springtown\, TX\, 76082\, United States
ATTACH;FMTTYPE=image/jpeg:https://helpmegrownorthtexas.org/wp-content/uploads/2025/03/9c326ae17d7633ffd72469baf0ae265f.jpg
END:VEVENT
BEGIN:VEVENT
DTSTART;TZID=America/Chicago:20250423T153000
DTEND;TZID=America/Chicago:20250423T163000
DTSTAMP:20260419T132658
CREATED:20250312T145256Z
LAST-MODIFIED:20250312T145256Z
UID:107363-1745422200-1745425800@helpmegrownorthtexas.org
SUMMARY:Music and Motion Springtown
DESCRIPTION:Come join us!
URL:https://helpmegrownorthtexas.org/event/music-and-motion-springtown-7/
LOCATION:314 E 5th Terrace\, 314 East 5th Terrace\, Springtown\, TX\, 76082\, United States
ATTACH;FMTTYPE=image/jpeg:https://helpmegrownorthtexas.org/wp-content/uploads/2025/03/58640a5bdba2680a5b44e3f7854cc82c.jpg
END:VEVENT
BEGIN:VEVENT
DTSTART;TZID=America/Chicago:20250423T173000
DTEND;TZID=America/Chicago:20250423T184500
DTSTAMP:20260419T132658
CREATED:20250227T235125Z
LAST-MODIFIED:20250307T233820Z
UID:107213-1745429400-1745433900@helpmegrownorthtexas.org
SUMMARY:Face to Face Nurturing Families - Fort Worth
DESCRIPTION:Join Us!
URL:https://helpmegrownorthtexas.org/event/face-to-face-nurturing-families-fort-worth-5/
LOCATION:3136 W 4th St\, 3136 West 4th Street\, Fort Worth\, TX\, 76107\, United States
ATTACH;FMTTYPE=image/jpeg:https://helpmegrownorthtexas.org/wp-content/uploads/2025/02/579039aad8e8a66fbfb16fd9fbea1a3a.jpg
END:VEVENT
END:VCALENDAR