BEGIN:VCALENDAR
VERSION:2.0
PRODID:-//Help Me Grow North Texas - ECPv6.15.20//NONSGML v1.0//EN
CALSCALE:GREGORIAN
METHOD:PUBLISH
X-WR-CALNAME:Help Me Grow North Texas
X-ORIGINAL-URL:https://helpmegrownorthtexas.org
X-WR-CALDESC:Events for Help Me Grow North Texas
REFRESH-INTERVAL;VALUE=DURATION:PT1H
X-Robots-Tag:noindex
X-PUBLISHED-TTL:PT1H
BEGIN:VTIMEZONE
TZID:America/Chicago
BEGIN:DAYLIGHT
TZOFFSETFROM:-0600
TZOFFSETTO:-0500
TZNAME:CDT
DTSTART:20240310T080000
END:DAYLIGHT
BEGIN:STANDARD
TZOFFSETFROM:-0500
TZOFFSETTO:-0600
TZNAME:CST
DTSTART:20241103T070000
END:STANDARD
BEGIN:DAYLIGHT
TZOFFSETFROM:-0600
TZOFFSETTO:-0500
TZNAME:CDT
DTSTART:20250309T080000
END:DAYLIGHT
BEGIN:STANDARD
TZOFFSETFROM:-0500
TZOFFSETTO:-0600
TZNAME:CST
DTSTART:20251102T070000
END:STANDARD
BEGIN:DAYLIGHT
TZOFFSETFROM:-0600
TZOFFSETTO:-0500
TZNAME:CDT
DTSTART:20260308T080000
END:DAYLIGHT
BEGIN:STANDARD
TZOFFSETFROM:-0500
TZOFFSETTO:-0600
TZNAME:CST
DTSTART:20261101T070000
END:STANDARD
END:VTIMEZONE
BEGIN:VEVENT
DTSTART;TZID=America/Chicago:20250417T090000
DTEND;TZID=America/Chicago:20250417T100000
DTSTAMP:20260419T132702
CREATED:20250307T233408Z
LAST-MODIFIED:20250307T233408Z
UID:107303-1744880400-1744884000@helpmegrownorthtexas.org
SUMMARY:Yoga Youngsters
DESCRIPTION:Interact through yoga games and more with your children. Ages 0 to 6 years of age.
URL:https://helpmegrownorthtexas.org/event/yoga-youngsters-3/
LOCATION:314 E 5th Terrace\, 314 East 5th Terrace\, Springtown\, TX\, 76082\, United States
ATTACH;FMTTYPE=image/jpeg:https://helpmegrownorthtexas.org/wp-content/uploads/2025/03/b1762a92b00304bc9e6ce28c5afa214a.jpg
END:VEVENT
BEGIN:VEVENT
DTSTART;TZID=America/Chicago:20250417T093000
DTEND;TZID=America/Chicago:20250417T223000
DTSTAMP:20260419T132702
CREATED:20250325T175729Z
LAST-MODIFIED:20250325T175729Z
UID:107385-1744882200-1744929000@helpmegrownorthtexas.org
SUMMARY:Face to Face: Nurture Nature Exploration- Fort Worth
DESCRIPTION:Come join us!
URL:https://helpmegrownorthtexas.org/event/face-to-face-nurture-nature-exploration-fort-worth-9/
LOCATION:6032 Innovation Way\, 6032 Innovation Way\, Fort Worth\, TX\, 76244\, United States
ATTACH;FMTTYPE=image/jpeg:https://helpmegrownorthtexas.org/wp-content/uploads/2025/03/12d95161ff2ad4ac94a012b132d6386f.jpg
END:VEVENT
BEGIN:VEVENT
DTSTART;TZID=America/Chicago:20250417T100000
DTEND;TZID=America/Chicago:20250417T110000
DTSTAMP:20260419T132702
CREATED:20250310T215502Z
LAST-MODIFIED:20250310T215502Z
UID:107342-1744884000-1744887600@helpmegrownorthtexas.org
SUMMARY:Little Sprouts Gardening
DESCRIPTION:Explore our garden as we plant\, grow\, and learn about growing your own garden at home.
URL:https://helpmegrownorthtexas.org/event/little-sprouts-gardening-6/
LOCATION:Family Resource Center / Help Me Grow NT\, 314 East 5th Terrace\, Springtown\, TX\, 76082\, United States
ATTACH;FMTTYPE=image/jpeg:https://helpmegrownorthtexas.org/wp-content/uploads/2025/03/52714affc963c90efb581651dfaf51b6.jpg
END:VEVENT
BEGIN:VEVENT
DTSTART;TZID=America/Chicago:20250417T110000
DTEND;TZID=America/Chicago:20250417T120000
DTSTAMP:20260419T132702
CREATED:20250325T175909Z
LAST-MODIFIED:20250325T175909Z
UID:107391-1744887600-1744891200@helpmegrownorthtexas.org
SUMMARY:Face to Face Arts & Crafts - North Center
DESCRIPTION:Come join us!
URL:https://helpmegrownorthtexas.org/event/face-to-face-arts-crafts-north-center-3/
LOCATION:North Center – 6032 Innovation Way Keller\, 76244\, Innovation Way\, Fort Worth\, TX\, 76244\, United States
ATTACH;FMTTYPE=image/jpeg:https://helpmegrownorthtexas.org/wp-content/uploads/2025/03/8fabd1ea0501a27711ef03a04c54d645.jpg
END:VEVENT
BEGIN:VEVENT
DTSTART;TZID=America/Chicago:20250417T140000
DTEND;TZID=America/Chicago:20250417T150000
DTSTAMP:20260419T132702
CREATED:20250307T233059Z
LAST-MODIFIED:20250307T233059Z
UID:107240-1744898400-1744902000@helpmegrownorthtexas.org
SUMMARY:Open Play
DESCRIPTION:A group for all kids to come enjoy playing games\, puzzles\, and crafts. Every Monday and Thursday afternoon.
URL:https://helpmegrownorthtexas.org/event/open-play-12/
LOCATION:314 E 5th Terrace\, 314 East 5th Terrace\, Springtown\, TX\, 76082\, United States
ATTACH;FMTTYPE=image/jpeg:https://helpmegrownorthtexas.org/wp-content/uploads/2025/03/846f782cb516379e1936fe50a4b442f2.jpg
END:VEVENT
BEGIN:VEVENT
DTSTART;TZID=America/Chicago:20250417T173000
DTEND;TZID=America/Chicago:20250417T193000
DTSTAMP:20260419T132702
CREATED:20250331T195506Z
LAST-MODIFIED:20250331T195506Z
UID:107413-1744911000-1744918200@helpmegrownorthtexas.org
SUMMARY:Face to Face #WoWTalk Cafe- Hulen
DESCRIPTION:Come join us!!
URL:https://helpmegrownorthtexas.org/event/face-to-face-wowtalk-cafe-hulen-8/
LOCATION:3840 Hulen St\, 3840 Hulen Street\, Fort Worth\, TX\, 76107\, United States
ATTACH;FMTTYPE=image/jpeg:https://helpmegrownorthtexas.org/wp-content/uploads/2025/03/e61adb68db5031eae1a0143e60ef64be.jpg
END:VEVENT
BEGIN:VEVENT
DTSTART;TZID=America/Chicago:20250417T173000
DTEND;TZID=America/Chicago:20250417T193000
DTSTAMP:20260419T132702
CREATED:20250331T195546Z
LAST-MODIFIED:20250331T195546Z
UID:107416-1744911000-1744918200@helpmegrownorthtexas.org
SUMMARY:Face to Face Parent Cafe- Hulen
DESCRIPTION:Come and join us!
URL:https://helpmegrownorthtexas.org/event/face-to-face-parent-cafe-hulen-10/
LOCATION:3840 Hulen St\, 3840 Hulen Street\, Fort Worth\, TX\, 76107\, United States
ATTACH;FMTTYPE=image/jpeg:https://helpmegrownorthtexas.org/wp-content/uploads/2025/03/f2e3dea8f4a2270f9622cfe650adf240.jpg
END:VEVENT
END:VCALENDAR