BEGIN:VCALENDAR
VERSION:2.0
PRODID:-//Help Me Grow North Texas - ECPv6.15.20//NONSGML v1.0//EN
CALSCALE:GREGORIAN
METHOD:PUBLISH
X-ORIGINAL-URL:https://helpmegrownorthtexas.org
X-WR-CALDESC:Events for Help Me Grow North Texas
REFRESH-INTERVAL;VALUE=DURATION:PT1H
X-Robots-Tag:noindex
X-PUBLISHED-TTL:PT1H
BEGIN:VTIMEZONE
TZID:America/Chicago
BEGIN:DAYLIGHT
TZOFFSETFROM:-0600
TZOFFSETTO:-0500
TZNAME:CDT
DTSTART:20240310T080000
END:DAYLIGHT
BEGIN:STANDARD
TZOFFSETFROM:-0500
TZOFFSETTO:-0600
TZNAME:CST
DTSTART:20241103T070000
END:STANDARD
BEGIN:DAYLIGHT
TZOFFSETFROM:-0600
TZOFFSETTO:-0500
TZNAME:CDT
DTSTART:20250309T080000
END:DAYLIGHT
BEGIN:STANDARD
TZOFFSETFROM:-0500
TZOFFSETTO:-0600
TZNAME:CST
DTSTART:20251102T070000
END:STANDARD
BEGIN:DAYLIGHT
TZOFFSETFROM:-0600
TZOFFSETTO:-0500
TZNAME:CDT
DTSTART:20260308T080000
END:DAYLIGHT
BEGIN:STANDARD
TZOFFSETFROM:-0500
TZOFFSETTO:-0600
TZNAME:CST
DTSTART:20261101T070000
END:STANDARD
END:VTIMEZONE
BEGIN:VEVENT
DTSTART;TZID=America/Chicago:20250415T090000
DTEND;TZID=America/Chicago:20250415T100000
DTSTAMP:20260419T132859
CREATED:20250307T233141Z
LAST-MODIFIED:20250307T233141Z
UID:107265-1744707600-1744711200@helpmegrownorthtexas.org
SUMMARY:Follow Me Gym
DESCRIPTION:Caregivers interact while helping their infants/toddlers as they are moving up\, over\, through\, and under.
URL:https://helpmegrownorthtexas.org/event/follow-me-gym-11/
LOCATION:314 E 5th Terrace\, 314 East 5th Terrace\, Springtown\, TX\, 76082\, United States
ATTACH;FMTTYPE=image/jpeg:https://helpmegrownorthtexas.org/wp-content/uploads/2025/03/a696443b5baf1339b21d67185ded9b00.jpg
END:VEVENT
BEGIN:VEVENT
DTSTART;TZID=America/Chicago:20250415T090000
DTEND;TZID=America/Chicago:20250415T160000
DTSTAMP:20260419T132859
CREATED:20250325T180651Z
LAST-MODIFIED:20250325T180651Z
UID:107408-1744707600-1744732800@helpmegrownorthtexas.org
SUMMARY:Parent Café and #WowTalk Café Training -Presented by MHMR of Tarrant County
DESCRIPTION:Fidelity requires attendance all three full days
URL:https://helpmegrownorthtexas.org/event/parent-cafe-and-wowtalk-cafe-training-presented-by-mhmr-of-tarrant-county-4/
LOCATION:North Center – 6032 Innovation Way Keller\, 76244\, Innovation Way\, Fort Worth\, TX\, 76244\, United States
ATTACH;FMTTYPE=image/jpeg:https://helpmegrownorthtexas.org/wp-content/uploads/2025/03/40e73b6017e1ddb479cb8706633faf19.jpg
END:VEVENT
BEGIN:VEVENT
DTSTART;TZID=America/Chicago:20250415T093000
DTEND;TZID=America/Chicago:20250415T103000
DTSTAMP:20260419T132859
CREATED:20250307T233653Z
LAST-MODIFIED:20250307T233653Z
UID:107313-1744709400-1744713000@helpmegrownorthtexas.org
SUMMARY:Face to Face Music and Motion- Serve Lewisville
DESCRIPTION:Come Join us!
URL:https://helpmegrownorthtexas.org/event/face-to-face-music-and-motion-serve-lewisville-11/
LOCATION:Serve Lewisville\, 1001 Edmonds Lane\, Lewisville\, TX\, 75067\, United States
ATTACH;FMTTYPE=image/jpeg:https://helpmegrownorthtexas.org/wp-content/uploads/2025/03/1b8bfc4865a9c53b1ba0a67a463e7798.jpg
END:VEVENT
BEGIN:VEVENT
DTSTART;TZID=America/Chicago:20250415T100000
DTEND;TZID=America/Chicago:20250415T110000
DTSTAMP:20260419T132859
CREATED:20250307T233227Z
LAST-MODIFIED:20250307T233227Z
UID:107282-1744711200-1744714800@helpmegrownorthtexas.org
SUMMARY:Face to Face Kindermusik Level 2 (18 – 36 months) Springtown
DESCRIPTION:Free Kindermusik Group Levels 2
URL:https://helpmegrownorthtexas.org/event/face-to-face-kindermusik-level-2-18-36-months-springtown-6/
LOCATION:314 E 5th Terrace\, 314 East 5th Terrace\, Springtown\, TX\, 76082\, United States
ATTACH;FMTTYPE=image/jpeg:https://helpmegrownorthtexas.org/wp-content/uploads/2025/03/f82e7489b213410b8129c889f49e952d.jpg
END:VEVENT
BEGIN:VEVENT
DTSTART;TZID=America/Chicago:20250415T110000
DTEND;TZID=America/Chicago:20250415T120000
DTSTAMP:20260419T132859
CREATED:20250307T233735Z
LAST-MODIFIED:20250307T233735Z
UID:107321-1744714800-1744718400@helpmegrownorthtexas.org
SUMMARY:Face to Face Little Sprouts Gardening Group- Serve Lewisville
DESCRIPTION:Come and play with us!
URL:https://helpmegrownorthtexas.org/event/face-to-face-little-sprouts-gardening-group-serve-lewisville-2/
LOCATION:Serve Lewisville\, 1001 Edmonds Lane\, Lewisville\, TX\, 75067\, United States
ATTACH;FMTTYPE=image/jpeg:https://helpmegrownorthtexas.org/wp-content/uploads/2025/03/adf8bca61ef2439109b01688507fc603.jpg
END:VEVENT
BEGIN:VEVENT
DTSTART;TZID=America/Chicago:20250415T140000
DTEND;TZID=America/Chicago:20250415T150000
DTSTAMP:20260419T132859
CREATED:20250325T180045Z
LAST-MODIFIED:20250325T180045Z
UID:107396-1744725600-1744729200@helpmegrownorthtexas.org
SUMMARY:Face to Face Healthy Eating and Reading Group - Fort Worth
DESCRIPTION:Come and play with us!
URL:https://helpmegrownorthtexas.org/event/face-to-face-healthy-eating-and-reading-group-fort-worth-7/
LOCATION:3136 W 4th St\, 3136 West 4th Street\, Fort Worth\, TX\, 76107\, United States
ATTACH;FMTTYPE=image/jpeg:https://helpmegrownorthtexas.org/wp-content/uploads/2025/03/e53d7cebfe2beaba67e8ed134b549bbf.jpg
END:VEVENT
END:VCALENDAR