BEGIN:VCALENDAR
VERSION:2.0
PRODID:-//Help Me Grow North Texas - ECPv6.15.20//NONSGML v1.0//EN
CALSCALE:GREGORIAN
METHOD:PUBLISH
X-ORIGINAL-URL:https://helpmegrownorthtexas.org
X-WR-CALDESC:Events for Help Me Grow North Texas
REFRESH-INTERVAL;VALUE=DURATION:PT1H
X-Robots-Tag:noindex
X-PUBLISHED-TTL:PT1H
BEGIN:VTIMEZONE
TZID:America/Chicago
BEGIN:DAYLIGHT
TZOFFSETFROM:-0600
TZOFFSETTO:-0500
TZNAME:CDT
DTSTART:20240310T080000
END:DAYLIGHT
BEGIN:STANDARD
TZOFFSETFROM:-0500
TZOFFSETTO:-0600
TZNAME:CST
DTSTART:20241103T070000
END:STANDARD
BEGIN:DAYLIGHT
TZOFFSETFROM:-0600
TZOFFSETTO:-0500
TZNAME:CDT
DTSTART:20250309T080000
END:DAYLIGHT
BEGIN:STANDARD
TZOFFSETFROM:-0500
TZOFFSETTO:-0600
TZNAME:CST
DTSTART:20251102T070000
END:STANDARD
BEGIN:DAYLIGHT
TZOFFSETFROM:-0600
TZOFFSETTO:-0500
TZNAME:CDT
DTSTART:20260308T080000
END:DAYLIGHT
BEGIN:STANDARD
TZOFFSETFROM:-0500
TZOFFSETTO:-0600
TZNAME:CST
DTSTART:20261101T070000
END:STANDARD
END:VTIMEZONE
BEGIN:VEVENT
DTSTART;TZID=America/Chicago:20250322T120000
DTEND;TZID=America/Chicago:20250322T150000
DTSTAMP:20260419T114326
CREATED:20250312T145831Z
LAST-MODIFIED:20250312T145831Z
UID:107366-1742644800-1742655600@helpmegrownorthtexas.org
SUMMARY:Vehicle  Jamboree
DESCRIPTION:This exciting FREE community event invites children and their families to explore a variety of vehicles.\n\n\nCome Celebrate the Family Resource Center’s 3rd Birthday! \nThis exciting FREE community event invites children and their families to explore a variety of vehicles\, including fire trucks\, emergency vehicles\, heavy equipment\, and much more. \nDate: Saturday\, March 22 Time: 12 – 3 p.m.  \nLocation: Family Resource Center 314 E 5th Terrace Springtown\, 76082 \nFree activities and snacks will be available inside the Family Resource Center. \nFamily Resource Center  \n314 E 5th Terrace Springtown\, 76082
URL:https://helpmegrownorthtexas.org/event/vehicle-jamboree/
LOCATION:314 E 5th Terrace\, 314 East 5th Terrace\, Springtown\, TX\, 76082\, United States
ATTACH;FMTTYPE=image/jpeg:https://helpmegrownorthtexas.org/wp-content/uploads/2025/03/a8f88450129b2ec218f8e98af9d99d30.jpg
END:VEVENT
END:VCALENDAR