BEGIN:VCALENDAR
VERSION:2.0
PRODID:-//Help Me Grow North Texas - ECPv6.15.20//NONSGML v1.0//EN
CALSCALE:GREGORIAN
METHOD:PUBLISH
X-ORIGINAL-URL:https://helpmegrownorthtexas.org
X-WR-CALDESC:Events for Help Me Grow North Texas
REFRESH-INTERVAL;VALUE=DURATION:PT1H
X-Robots-Tag:noindex
X-PUBLISHED-TTL:PT1H
BEGIN:VTIMEZONE
TZID:America/Chicago
BEGIN:DAYLIGHT
TZOFFSETFROM:-0600
TZOFFSETTO:-0500
TZNAME:CDT
DTSTART:20240310T080000
END:DAYLIGHT
BEGIN:STANDARD
TZOFFSETFROM:-0500
TZOFFSETTO:-0600
TZNAME:CST
DTSTART:20241103T070000
END:STANDARD
BEGIN:DAYLIGHT
TZOFFSETFROM:-0600
TZOFFSETTO:-0500
TZNAME:CDT
DTSTART:20250309T080000
END:DAYLIGHT
BEGIN:STANDARD
TZOFFSETFROM:-0500
TZOFFSETTO:-0600
TZNAME:CST
DTSTART:20251102T070000
END:STANDARD
BEGIN:DAYLIGHT
TZOFFSETFROM:-0600
TZOFFSETTO:-0500
TZNAME:CDT
DTSTART:20260308T080000
END:DAYLIGHT
BEGIN:STANDARD
TZOFFSETFROM:-0500
TZOFFSETTO:-0600
TZNAME:CST
DTSTART:20261101T070000
END:STANDARD
END:VTIMEZONE
BEGIN:VEVENT
DTSTART;TZID=America/Chicago:20250321T090000
DTEND;TZID=America/Chicago:20250321T100000
DTSTAMP:20260419T114230
CREATED:20250307T232854Z
LAST-MODIFIED:20250307T232854Z
UID:107224-1742547600-1742551200@helpmegrownorthtexas.org
SUMMARY:Virtual Nurturing Families - Spanish
DESCRIPTION:Join Us!  ¡Únete a nosotros!
URL:https://helpmegrownorthtexas.org/event/virtual-nurturing-families-spanish-20/
LOCATION:TX
ATTACH;FMTTYPE=image/jpeg:https://helpmegrownorthtexas.org/wp-content/uploads/2025/03/0715c94e45853a554fa8b4baf60ea8a5.jpg
END:VEVENT
BEGIN:VEVENT
DTSTART;TZID=America/Chicago:20250321T090000
DTEND;TZID=America/Chicago:20250321T100000
DTSTAMP:20260419T114230
CREATED:20250307T233140Z
LAST-MODIFIED:20250307T233140Z
UID:107258-1742547600-1742551200@helpmegrownorthtexas.org
SUMMARY:Follow Me Gym
DESCRIPTION:Caregivers interact while helping their infants/toddlers as they are moving up\, over\, through\, and under.
URL:https://helpmegrownorthtexas.org/event/follow-me-gym-4/
LOCATION:314 E 5th Terrace\, 314 East 5th Terrace\, Springtown\, TX\, 76082\, United States
ATTACH;FMTTYPE=image/jpeg:https://helpmegrownorthtexas.org/wp-content/uploads/2025/03/a696443b5baf1339b21d67185ded9b00.jpg
END:VEVENT
BEGIN:VEVENT
DTSTART;TZID=America/Chicago:20250321T093000
DTEND;TZID=America/Chicago:20250321T103000
DTSTAMP:20260419T114230
CREATED:20250219T175409Z
LAST-MODIFIED:20250219T175409Z
UID:107157-1742549400-1742553000@helpmegrownorthtexas.org
SUMMARY:Face to Face Kindermusik -  Decatur
DESCRIPTION:Free Kindermusik Group
URL:https://helpmegrownorthtexas.org/event/face-to-face-kindermusik-decatur-2/
LOCATION:Decatur Independent School District Administration\, 307 South Cates Street\, Decatur\, TX\, 76234\, United States
ATTACH;FMTTYPE=image/jpeg:https://helpmegrownorthtexas.org/wp-content/uploads/2025/02/ddbbc3ba42052fde8839ff3b472062c4.jpg
END:VEVENT
BEGIN:VEVENT
DTSTART;TZID=America/Chicago:20250321T110000
DTEND;TZID=America/Chicago:20250321T120000
DTSTAMP:20260419T114230
CREATED:20250219T175454Z
LAST-MODIFIED:20250219T175454Z
UID:107165-1742554800-1742558400@helpmegrownorthtexas.org
SUMMARY:Face to Face Little Sprouts Group- Decatur
DESCRIPTION:Come and play with us!
URL:https://helpmegrownorthtexas.org/event/face-to-face-little-sprouts-group-decatur-2/
LOCATION:Decatur Independent School District Administration\, 307 South Cates Street\, Decatur\, TX\, 76234\, United States
ATTACH;FMTTYPE=image/jpeg:https://helpmegrownorthtexas.org/wp-content/uploads/2025/02/fa9c8df1c487f952ff99e4c47ab48105.jpg
END:VEVENT
END:VCALENDAR