BEGIN:VCALENDAR
VERSION:2.0
PRODID:-//Help Me Grow North Texas - ECPv6.15.20//NONSGML v1.0//EN
CALSCALE:GREGORIAN
METHOD:PUBLISH
X-WR-CALNAME:Help Me Grow North Texas
X-ORIGINAL-URL:https://helpmegrownorthtexas.org
X-WR-CALDESC:Events for Help Me Grow North Texas
REFRESH-INTERVAL;VALUE=DURATION:PT1H
X-Robots-Tag:noindex
X-PUBLISHED-TTL:PT1H
BEGIN:VTIMEZONE
TZID:America/Chicago
BEGIN:DAYLIGHT
TZOFFSETFROM:-0600
TZOFFSETTO:-0500
TZNAME:CDT
DTSTART:20240310T080000
END:DAYLIGHT
BEGIN:STANDARD
TZOFFSETFROM:-0500
TZOFFSETTO:-0600
TZNAME:CST
DTSTART:20241103T070000
END:STANDARD
BEGIN:DAYLIGHT
TZOFFSETFROM:-0600
TZOFFSETTO:-0500
TZNAME:CDT
DTSTART:20250309T080000
END:DAYLIGHT
BEGIN:STANDARD
TZOFFSETFROM:-0500
TZOFFSETTO:-0600
TZNAME:CST
DTSTART:20251102T070000
END:STANDARD
BEGIN:DAYLIGHT
TZOFFSETFROM:-0600
TZOFFSETTO:-0500
TZNAME:CDT
DTSTART:20260308T080000
END:DAYLIGHT
BEGIN:STANDARD
TZOFFSETFROM:-0500
TZOFFSETTO:-0600
TZNAME:CST
DTSTART:20261101T070000
END:STANDARD
END:VTIMEZONE
BEGIN:VEVENT
DTSTART;TZID=America/Chicago:20250320T090000
DTEND;TZID=America/Chicago:20250320T100000
DTSTAMP:20260419T114026
CREATED:20250307T233408Z
LAST-MODIFIED:20250307T233408Z
UID:107300-1742461200-1742464800@helpmegrownorthtexas.org
SUMMARY:Yoga Youngsters
DESCRIPTION:Interact through yoga games and more with your children. Ages 0 to 6 years of age.
URL:https://helpmegrownorthtexas.org/event/yoga-youngsters/
LOCATION:314 E 5th Terrace\, 314 East 5th Terrace\, Springtown\, TX\, 76082\, United States
ATTACH;FMTTYPE=image/jpeg:https://helpmegrownorthtexas.org/wp-content/uploads/2025/03/b1762a92b00304bc9e6ce28c5afa214a.jpg
END:VEVENT
BEGIN:VEVENT
DTSTART;TZID=America/Chicago:20250320T093000
DTEND;TZID=America/Chicago:20250320T103000
DTSTAMP:20260419T114026
CREATED:20250227T234808Z
LAST-MODIFIED:20250227T234808Z
UID:107195-1742463000-1742466600@helpmegrownorthtexas.org
SUMMARY:Face to Face Healthy Eating and Reading Group - North Center
DESCRIPTION:Come and play with us!
URL:https://helpmegrownorthtexas.org/event/face-to-face-healthy-eating-and-reading-group-north-center-7/
LOCATION:North Center – 6032 Innovation Way Keller\, 76244\, Innovation Way\, Fort Worth\, TX\, 76244\, United States
ATTACH;FMTTYPE=image/jpeg:https://helpmegrownorthtexas.org/wp-content/uploads/2025/02/0d2a2935bdac1b1c7b4539f7ec9111c3.jpg
END:VEVENT
BEGIN:VEVENT
DTSTART;TZID=America/Chicago:20250320T100000
DTEND;TZID=America/Chicago:20250320T110000
DTSTAMP:20260419T114026
CREATED:20250210T224442Z
LAST-MODIFIED:20250210T224442Z
UID:107134-1742464800-1742468400@helpmegrownorthtexas.org
SUMMARY:Virtual Nurturing Families - Spanish
DESCRIPTION:Join Us!  ¡Únete a nosotros!
URL:https://helpmegrownorthtexas.org/event/virtual-nurturing-families-spanish-15/
LOCATION:TX
ATTACH;FMTTYPE=image/jpeg:https://helpmegrownorthtexas.org/wp-content/uploads/2025/02/fd2a57785e558651a1f8de4a18861bc6.jpg
END:VEVENT
BEGIN:VEVENT
DTSTART;TZID=America/Chicago:20250320T100000
DTEND;TZID=America/Chicago:20250320T110000
DTSTAMP:20260419T114026
CREATED:20250310T215501Z
LAST-MODIFIED:20250310T215501Z
UID:107338-1742464800-1742468400@helpmegrownorthtexas.org
SUMMARY:Little Sprouts Gardening
DESCRIPTION:Explore our garden as we plant\, grow\, and learn about growing your own garden at home.
URL:https://helpmegrownorthtexas.org/event/little-sprouts-gardening-2/
LOCATION:Family Resource Center / Help Me Grow NT\, 314 East 5th Terrace\, Springtown\, TX\, 76082\, United States
ATTACH;FMTTYPE=image/jpeg:https://helpmegrownorthtexas.org/wp-content/uploads/2025/03/52714affc963c90efb581651dfaf51b6.jpg
END:VEVENT
BEGIN:VEVENT
DTSTART;TZID=America/Chicago:20250320T110000
DTEND;TZID=America/Chicago:20250320T120000
DTSTAMP:20260419T114026
CREATED:20250227T234846Z
LAST-MODIFIED:20250227T234846Z
UID:107201-1742468400-1742472000@helpmegrownorthtexas.org
SUMMARY:Face to Face Little Sprouts Group - North Center
DESCRIPTION:Come and play with us
URL:https://helpmegrownorthtexas.org/event/face-to-face-little-sprouts-group-north-center-3/
LOCATION:6032 Innovation Way\, 6032 Innovation Way\, Fort Worth\, TX\, 76244\, United States
ATTACH;FMTTYPE=image/jpeg:https://helpmegrownorthtexas.org/wp-content/uploads/2025/02/938558d062a175f0246c5774782ca524.jpg
END:VEVENT
BEGIN:VEVENT
DTSTART;TZID=America/Chicago:20250320T140000
DTEND;TZID=America/Chicago:20250320T150000
DTSTAMP:20260419T114026
CREATED:20250307T233058Z
LAST-MODIFIED:20250307T233058Z
UID:107232-1742479200-1742482800@helpmegrownorthtexas.org
SUMMARY:Open Play
DESCRIPTION:A group for all kids to come enjoy playing games\, puzzles\, and crafts. Every Monday and Thursday afternoon.
URL:https://helpmegrownorthtexas.org/event/open-play-4/
LOCATION:314 E 5th Terrace\, 314 East 5th Terrace\, Springtown\, TX\, 76082\, United States
ATTACH;FMTTYPE=image/jpeg:https://helpmegrownorthtexas.org/wp-content/uploads/2025/03/846f782cb516379e1936fe50a4b442f2.jpg
END:VEVENT
BEGIN:VEVENT
DTSTART;TZID=America/Chicago:20250320T173000
DTEND;TZID=America/Chicago:20250320T193000
DTSTAMP:20260419T114026
CREATED:20250227T235003Z
LAST-MODIFIED:20250227T235003Z
UID:107204-1742491800-1742499000@helpmegrownorthtexas.org
SUMMARY:Face to Face Parent Cafe- Hulen
DESCRIPTION:Come and join us!
URL:https://helpmegrownorthtexas.org/event/face-to-face-parent-cafe-hulen-9/
LOCATION:3840 Hulen St\, 3840 Hulen Street\, Fort Worth\, TX\, 76107\, United States
ATTACH;FMTTYPE=image/jpeg:https://helpmegrownorthtexas.org/wp-content/uploads/2025/02/e0b7b05a40466e618aeacea26197847f.jpg
END:VEVENT
BEGIN:VEVENT
DTSTART;TZID=America/Chicago:20250320T173000
DTEND;TZID=America/Chicago:20250320T193000
DTSTAMP:20260419T114026
CREATED:20250227T235034Z
LAST-MODIFIED:20250227T235034Z
UID:107207-1742491800-1742499000@helpmegrownorthtexas.org
SUMMARY:Face to Face #WoWTalk Cafe- Hulen
DESCRIPTION:Come join us!!
URL:https://helpmegrownorthtexas.org/event/face-to-face-wowtalk-cafe-hulen-7/
LOCATION:3840 Hulen St\, 3840 Hulen Street\, Fort Worth\, TX\, 76107\, United States
ATTACH;FMTTYPE=image/jpeg:https://helpmegrownorthtexas.org/wp-content/uploads/2025/02/bad75554cc997d2672a42abac73fd35a.jpg
END:VEVENT
END:VCALENDAR