BEGIN:VCALENDAR
VERSION:2.0
PRODID:-//Help Me Grow North Texas - ECPv6.15.20//NONSGML v1.0//EN
CALSCALE:GREGORIAN
METHOD:PUBLISH
X-ORIGINAL-URL:https://helpmegrownorthtexas.org
X-WR-CALDESC:Events for Help Me Grow North Texas
REFRESH-INTERVAL;VALUE=DURATION:PT1H
X-Robots-Tag:noindex
X-PUBLISHED-TTL:PT1H
BEGIN:VTIMEZONE
TZID:America/Chicago
BEGIN:DAYLIGHT
TZOFFSETFROM:-0600
TZOFFSETTO:-0500
TZNAME:CDT
DTSTART:20240310T080000
END:DAYLIGHT
BEGIN:STANDARD
TZOFFSETFROM:-0500
TZOFFSETTO:-0600
TZNAME:CST
DTSTART:20241103T070000
END:STANDARD
BEGIN:DAYLIGHT
TZOFFSETFROM:-0600
TZOFFSETTO:-0500
TZNAME:CDT
DTSTART:20250309T080000
END:DAYLIGHT
BEGIN:STANDARD
TZOFFSETFROM:-0500
TZOFFSETTO:-0600
TZNAME:CST
DTSTART:20251102T070000
END:STANDARD
BEGIN:DAYLIGHT
TZOFFSETFROM:-0600
TZOFFSETTO:-0500
TZNAME:CDT
DTSTART:20260308T080000
END:DAYLIGHT
BEGIN:STANDARD
TZOFFSETFROM:-0500
TZOFFSETTO:-0600
TZNAME:CST
DTSTART:20261101T070000
END:STANDARD
END:VTIMEZONE
BEGIN:VEVENT
DTSTART;TZID=America/Chicago:20250304T093000
DTEND;TZID=America/Chicago:20250304T103000
DTSTAMP:20260419T114204
CREATED:20250227T233936Z
LAST-MODIFIED:20250227T233936Z
UID:107178-1741080600-1741084200@helpmegrownorthtexas.org
SUMMARY:Face to Face Music and Motion- Fort Worth
DESCRIPTION:Come Join us!
URL:https://helpmegrownorthtexas.org/event/face-to-face-music-and-motion-fort-worth-11/
LOCATION:Mental Health America of Greater Tarrant County\, 3136 West 4th Street\, Fort Worth\, TX\, 76107\, United States
ATTACH;FMTTYPE=image/jpeg:https://helpmegrownorthtexas.org/wp-content/uploads/2025/02/65712e3812c6f7e95c04603cfaba4b7e.jpg
END:VEVENT
BEGIN:VEVENT
DTSTART;TZID=America/Chicago:20250304T110000
DTEND;TZID=America/Chicago:20250304T120000
DTSTAMP:20260419T114204
CREATED:20250227T234703Z
LAST-MODIFIED:20250227T234703Z
UID:107185-1741086000-1741089600@helpmegrownorthtexas.org
SUMMARY:Face to Face Sensory Group- Fort Worth
DESCRIPTION:Come join us!
URL:https://helpmegrownorthtexas.org/event/face-to-face-sensory-group-fort-worth/
LOCATION:3136 W 4th St\, 3136 West 4th Street\, Fort Worth\, TX\, 76107\, United States
ATTACH;FMTTYPE=image/jpeg:https://helpmegrownorthtexas.org/wp-content/uploads/2025/02/6ca697a89c0fbbaadc164a641d394290.jpg
END:VEVENT
END:VCALENDAR