BEGIN:VCALENDAR
VERSION:2.0
PRODID:-//Help Me Grow North Texas - ECPv6.15.20//NONSGML v1.0//EN
CALSCALE:GREGORIAN
METHOD:PUBLISH
X-WR-CALNAME:Help Me Grow North Texas
X-ORIGINAL-URL:https://helpmegrownorthtexas.org
X-WR-CALDESC:Events for Help Me Grow North Texas
REFRESH-INTERVAL;VALUE=DURATION:PT1H
X-Robots-Tag:noindex
X-PUBLISHED-TTL:PT1H
BEGIN:VTIMEZONE
TZID:America/Chicago
BEGIN:DAYLIGHT
TZOFFSETFROM:-0600
TZOFFSETTO:-0500
TZNAME:CDT
DTSTART:20240310T080000
END:DAYLIGHT
BEGIN:STANDARD
TZOFFSETFROM:-0500
TZOFFSETTO:-0600
TZNAME:CST
DTSTART:20241103T070000
END:STANDARD
BEGIN:DAYLIGHT
TZOFFSETFROM:-0600
TZOFFSETTO:-0500
TZNAME:CDT
DTSTART:20250309T080000
END:DAYLIGHT
BEGIN:STANDARD
TZOFFSETFROM:-0500
TZOFFSETTO:-0600
TZNAME:CST
DTSTART:20251102T070000
END:STANDARD
BEGIN:DAYLIGHT
TZOFFSETFROM:-0600
TZOFFSETTO:-0500
TZNAME:CDT
DTSTART:20260308T080000
END:DAYLIGHT
BEGIN:STANDARD
TZOFFSETFROM:-0500
TZOFFSETTO:-0600
TZNAME:CST
DTSTART:20261101T070000
END:STANDARD
END:VTIMEZONE
BEGIN:VEVENT
DTSTART;TZID=America/Chicago:20250220T093000
DTEND;TZID=America/Chicago:20250220T103000
DTSTAMP:20260419T132211
CREATED:20250122T194735Z
LAST-MODIFIED:20250122T194735Z
UID:107097-1740043800-1740047400@helpmegrownorthtexas.org
SUMMARY:Face to Face Speech and Sign - North Center
DESCRIPTION:Come join us!!
URL:https://helpmegrownorthtexas.org/event/face-to-face-speech-and-sign-north-center-3/
LOCATION:North Center – 6032 Innovation Way Keller\, 76244\, Innovation Way\, Fort Worth\, TX\, 76244\, United States
ATTACH;FMTTYPE=image/jpeg:https://helpmegrownorthtexas.org/wp-content/uploads/2025/01/21d7544a2c1379828246c071781c011a.jpg
END:VEVENT
BEGIN:VEVENT
DTSTART;TZID=America/Chicago:20250220T110000
DTEND;TZID=America/Chicago:20250220T120000
DTSTAMP:20260419T132211
CREATED:20250122T194958Z
LAST-MODIFIED:20250122T194958Z
UID:107103-1740049200-1740052800@helpmegrownorthtexas.org
SUMMARY:Face to Face Friendship Arts & Crafts - North Center
DESCRIPTION:Come join us and celebrate the month of Love and Friendship!
URL:https://helpmegrownorthtexas.org/event/face-to-face-friendship-arts-crafts-north-center-3/
LOCATION:North Center – 6032 Innovation Way Keller\, 76244\, Innovation Way\, Fort Worth\, TX\, 76244\, United States
ATTACH;FMTTYPE=image/jpeg:https://helpmegrownorthtexas.org/wp-content/uploads/2025/01/2d4fa2c572c3405833980975265e9ee5.jpg
END:VEVENT
BEGIN:VEVENT
DTSTART;TZID=America/Chicago:20250220T120000
DTEND;TZID=America/Chicago:20250220T130000
DTSTAMP:20260419T132211
CREATED:20250216T185335Z
LAST-MODIFIED:20250216T185335Z
UID:107149-1740052800-1740056400@helpmegrownorthtexas.org
SUMMARY:Virtual Mothers and Babies Group
DESCRIPTION:Join Us!
URL:https://helpmegrownorthtexas.org/event/virtual-mothers-and-babies-group-15/
LOCATION:TX
ATTACH;FMTTYPE=image/jpeg:https://helpmegrownorthtexas.org/wp-content/uploads/2025/02/a60b7a597ae3e9c54f27a47a95856126.jpg
END:VEVENT
BEGIN:VEVENT
DTSTART;TZID=America/Chicago:20250220T173000
DTEND;TZID=America/Chicago:20250220T193000
DTSTAMP:20260419T132211
CREATED:20250128T225104Z
LAST-MODIFIED:20250128T225104Z
UID:107106-1740072600-1740079800@helpmegrownorthtexas.org
SUMMARY:Face to Face Parent Cafe- Hulen
DESCRIPTION:Come and join us!
URL:https://helpmegrownorthtexas.org/event/face-to-face-parent-cafe-hulen-8/
LOCATION:3840 Hulen St\, 3840 Hulen Street\, Fort Worth\, TX\, 76107\, United States
ATTACH;FMTTYPE=image/jpeg:https://helpmegrownorthtexas.org/wp-content/uploads/2025/01/410e4b2344428ac285f61f5ad3bdcdd3.jpg
END:VEVENT
BEGIN:VEVENT
DTSTART;TZID=America/Chicago:20250220T173000
DTEND;TZID=America/Chicago:20250220T193000
DTSTAMP:20260419T132211
CREATED:20250128T225150Z
LAST-MODIFIED:20250128T225150Z
UID:107109-1740072600-1740079800@helpmegrownorthtexas.org
SUMMARY:Face to Face #WoWTalk Cafe- Hulen
DESCRIPTION:Come join us!!
URL:https://helpmegrownorthtexas.org/event/face-to-face-wowtalk-cafe-hulen-6/
LOCATION:3840 Hulen St\, 3840 Hulen Street\, Fort Worth\, TX\, 76107\, United States
ATTACH;FMTTYPE=image/jpeg:https://helpmegrownorthtexas.org/wp-content/uploads/2025/01/1f6340fcf648fc0f388f2ef9c89fd8b0.jpg
END:VEVENT
END:VCALENDAR