BEGIN:VCALENDAR
VERSION:2.0
PRODID:-//Help Me Grow North Texas - ECPv6.15.20//NONSGML v1.0//EN
CALSCALE:GREGORIAN
METHOD:PUBLISH
X-WR-CALNAME:Help Me Grow North Texas
X-ORIGINAL-URL:https://helpmegrownorthtexas.org
X-WR-CALDESC:Events for Help Me Grow North Texas
REFRESH-INTERVAL;VALUE=DURATION:PT1H
X-Robots-Tag:noindex
X-PUBLISHED-TTL:PT1H
BEGIN:VTIMEZONE
TZID:America/Chicago
BEGIN:DAYLIGHT
TZOFFSETFROM:-0600
TZOFFSETTO:-0500
TZNAME:CDT
DTSTART:20240310T080000
END:DAYLIGHT
BEGIN:STANDARD
TZOFFSETFROM:-0500
TZOFFSETTO:-0600
TZNAME:CST
DTSTART:20241103T070000
END:STANDARD
BEGIN:DAYLIGHT
TZOFFSETFROM:-0600
TZOFFSETTO:-0500
TZNAME:CDT
DTSTART:20250309T080000
END:DAYLIGHT
BEGIN:STANDARD
TZOFFSETFROM:-0500
TZOFFSETTO:-0600
TZNAME:CST
DTSTART:20251102T070000
END:STANDARD
BEGIN:DAYLIGHT
TZOFFSETFROM:-0600
TZOFFSETTO:-0500
TZNAME:CDT
DTSTART:20260308T080000
END:DAYLIGHT
BEGIN:STANDARD
TZOFFSETFROM:-0500
TZOFFSETTO:-0600
TZNAME:CST
DTSTART:20261101T070000
END:STANDARD
END:VTIMEZONE
BEGIN:VEVENT
DTSTART;TZID=America/Chicago:20250218T103000
DTEND;TZID=America/Chicago:20250218T113000
DTSTAMP:20260419T132209
CREATED:20250122T194105Z
LAST-MODIFIED:20250122T194105Z
UID:107085-1739874600-1739878200@helpmegrownorthtexas.org
SUMMARY:Face to Face Music and Motion - West Center
DESCRIPTION:Come Join us!
URL:https://helpmegrownorthtexas.org/event/face-to-face-music-and-motion-west-center-7/
LOCATION:6777 Camp Bowie Blvd\, 6777 Camp Bowie Boulevard\, Fort Worth\, TX\, 76116\, United States
ATTACH;FMTTYPE=image/jpeg:https://helpmegrownorthtexas.org/wp-content/uploads/2025/01/2cacdc01ccae99a5b47e6e585fe71474.jpg
END:VEVENT
BEGIN:VEVENT
DTSTART;TZID=America/Chicago:20250218T113000
DTEND;TZID=America/Chicago:20250218T130000
DTSTAMP:20260419T132209
CREATED:20250122T194550Z
LAST-MODIFIED:20250122T194550Z
UID:107091-1739878200-1739883600@helpmegrownorthtexas.org
SUMMARY:Pop N' Play "Social Hour" - West Center
DESCRIPTION:Come Join us!
URL:https://helpmegrownorthtexas.org/event/pop-n-play-social-hour-west-center-3/
LOCATION:6777 Camp Bowie Blvd\, 6777 Camp Bowie Boulevard\, Fort Worth\, TX\, 76116\, United States
ATTACH;FMTTYPE=image/jpeg:https://helpmegrownorthtexas.org/wp-content/uploads/2025/01/7485fbe886dfd5def432efdcd7ff387f.jpg
END:VEVENT
END:VCALENDAR