BEGIN:VCALENDAR
VERSION:2.0
PRODID:-//Help Me Grow North Texas - ECPv6.15.20//NONSGML v1.0//EN
CALSCALE:GREGORIAN
METHOD:PUBLISH
X-WR-CALNAME:Help Me Grow North Texas
X-ORIGINAL-URL:https://helpmegrownorthtexas.org
X-WR-CALDESC:Events for Help Me Grow North Texas
REFRESH-INTERVAL;VALUE=DURATION:PT1H
X-Robots-Tag:noindex
X-PUBLISHED-TTL:PT1H
BEGIN:VTIMEZONE
TZID:America/Chicago
BEGIN:DAYLIGHT
TZOFFSETFROM:-0600
TZOFFSETTO:-0500
TZNAME:CDT
DTSTART:20240310T080000
END:DAYLIGHT
BEGIN:STANDARD
TZOFFSETFROM:-0500
TZOFFSETTO:-0600
TZNAME:CST
DTSTART:20241103T070000
END:STANDARD
BEGIN:DAYLIGHT
TZOFFSETFROM:-0600
TZOFFSETTO:-0500
TZNAME:CDT
DTSTART:20250309T080000
END:DAYLIGHT
BEGIN:STANDARD
TZOFFSETFROM:-0500
TZOFFSETTO:-0600
TZNAME:CST
DTSTART:20251102T070000
END:STANDARD
BEGIN:DAYLIGHT
TZOFFSETFROM:-0600
TZOFFSETTO:-0500
TZNAME:CDT
DTSTART:20260308T080000
END:DAYLIGHT
BEGIN:STANDARD
TZOFFSETFROM:-0500
TZOFFSETTO:-0600
TZNAME:CST
DTSTART:20261101T070000
END:STANDARD
END:VTIMEZONE
BEGIN:VEVENT
DTSTART;TZID=America/Chicago:20250128T093000
DTEND;TZID=America/Chicago:20250128T103000
DTSTAMP:20260419T132704
CREATED:20241215T000420Z
LAST-MODIFIED:20241215T000420Z
UID:107020-1738056600-1738060200@helpmegrownorthtexas.org
SUMMARY:Face to Face Music and Motion - North Center
DESCRIPTION:Come Join us!
URL:https://helpmegrownorthtexas.org/event/face-to-face-music-and-motion-north-center-9/
LOCATION:North Center – 6032 Innovation Way Keller\, 76244\, Innovation Way\, Fort Worth\, TX\, 76244\, United States
ATTACH;FMTTYPE=image/jpeg:https://helpmegrownorthtexas.org/wp-content/uploads/2024/12/1e30ea1252d11cfc35fdd880bf01ad78.jpg
END:VEVENT
BEGIN:VEVENT
DTSTART;TZID=America/Chicago:20250128T093000
DTEND;TZID=America/Chicago:20250128T103000
DTSTAMP:20260419T132704
CREATED:20241215T000530Z
LAST-MODIFIED:20241215T000530Z
UID:107026-1738056600-1738060200@helpmegrownorthtexas.org
SUMMARY:Face to Face Healthy Eating and Reading Group - North Center
DESCRIPTION:Come and play with us!
URL:https://helpmegrownorthtexas.org/event/face-to-face-healthy-eating-and-reading-group-north-center-4/
LOCATION:North Center – 6032 Innovation Way Keller\, 76244\, Innovation Way\, Fort Worth\, TX\, 76244\, United States
ATTACH;FMTTYPE=image/jpeg:https://helpmegrownorthtexas.org/wp-content/uploads/2024/12/145b895bbc7c6f1e08390e2801fb0741.jpg
END:VEVENT
BEGIN:VEVENT
DTSTART;TZID=America/Chicago:20250128T110000
DTEND;TZID=America/Chicago:20250128T120000
DTSTAMP:20260419T132704
CREATED:20241215T000625Z
LAST-MODIFIED:20241215T000625Z
UID:107032-1738062000-1738065600@helpmegrownorthtexas.org
SUMMARY:Face to Face Happy Baby Happy Family - West Center
DESCRIPTION:Come Join us!
URL:https://helpmegrownorthtexas.org/event/face-to-face-happy-baby-happy-family-west-center-4/
LOCATION:6777 Camp Bowie Blvd\, 6777 Camp Bowie Boulevard\, Fort Worth\, TX\, 76116\, United States
ATTACH;FMTTYPE=image/jpeg:https://helpmegrownorthtexas.org/wp-content/uploads/2024/12/b4a60277e1ddc0167fcc477d6b55c287.jpg
END:VEVENT
END:VCALENDAR