BEGIN:VCALENDAR
VERSION:2.0
PRODID:-//Help Me Grow North Texas - ECPv6.15.20//NONSGML v1.0//EN
CALSCALE:GREGORIAN
METHOD:PUBLISH
X-WR-CALNAME:Help Me Grow North Texas
X-ORIGINAL-URL:https://helpmegrownorthtexas.org
X-WR-CALDESC:Events for Help Me Grow North Texas
REFRESH-INTERVAL;VALUE=DURATION:PT1H
X-Robots-Tag:noindex
X-PUBLISHED-TTL:PT1H
BEGIN:VTIMEZONE
TZID:America/Chicago
BEGIN:DAYLIGHT
TZOFFSETFROM:-0600
TZOFFSETTO:-0500
TZNAME:CDT
DTSTART:20230312T080000
END:DAYLIGHT
BEGIN:STANDARD
TZOFFSETFROM:-0500
TZOFFSETTO:-0600
TZNAME:CST
DTSTART:20231105T070000
END:STANDARD
BEGIN:DAYLIGHT
TZOFFSETFROM:-0600
TZOFFSETTO:-0500
TZNAME:CDT
DTSTART:20240310T080000
END:DAYLIGHT
BEGIN:STANDARD
TZOFFSETFROM:-0500
TZOFFSETTO:-0600
TZNAME:CST
DTSTART:20241103T070000
END:STANDARD
BEGIN:DAYLIGHT
TZOFFSETFROM:-0600
TZOFFSETTO:-0500
TZNAME:CDT
DTSTART:20250309T080000
END:DAYLIGHT
BEGIN:STANDARD
TZOFFSETFROM:-0500
TZOFFSETTO:-0600
TZNAME:CST
DTSTART:20251102T070000
END:STANDARD
END:VTIMEZONE
BEGIN:VEVENT
DTSTART;TZID=America/Chicago:20241204T093000
DTEND;TZID=America/Chicago:20241204T103000
DTSTAMP:20260422T065818
CREATED:20241101T220612Z
LAST-MODIFIED:20241101T220612Z
UID:106958-1733304600-1733308200@helpmegrownorthtexas.org
SUMMARY:Face to Face Holiday Sensory Group - West Center
DESCRIPTION:Come join us!
URL:https://helpmegrownorthtexas.org/event/face-to-face-holiday-sensory-group-west-center/
LOCATION:6777 Camp Bowie Blvd\, 6777 Camp Bowie Boulevard\, Fort Worth\, TX\, 76116\, United States
ATTACH;FMTTYPE=image/jpeg:https://helpmegrownorthtexas.org/wp-content/uploads/2024/11/47e51cb861ac4c529250ca13f6995589.jpg
END:VEVENT
BEGIN:VEVENT
DTSTART;TZID=America/Chicago:20241204T110000
DTEND;TZID=America/Chicago:20241204T120000
DTSTAMP:20260422T065818
CREATED:20241101T220648Z
LAST-MODIFIED:20241101T220648Z
UID:106963-1733310000-1733313600@helpmegrownorthtexas.org
SUMMARY:Face to Face Healthy Eating and Reading Holiday Edition - West Center
DESCRIPTION:Come join us!
URL:https://helpmegrownorthtexas.org/event/face-to-face-healthy-eating-and-reading-holiday-edition-west-center/
LOCATION:6777 Camp Bowie Blvd\, 6777 Camp Bowie Boulevard\, Fort Worth\, TX\, 76116\, United States
ATTACH;FMTTYPE=image/jpeg:https://helpmegrownorthtexas.org/wp-content/uploads/2024/11/46f1f9023e990b4a4302921ac7e12a9f.jpg
END:VEVENT
END:VCALENDAR