BEGIN:VCALENDAR
VERSION:2.0
PRODID:-//Help Me Grow North Texas - ECPv6.15.20//NONSGML v1.0//EN
CALSCALE:GREGORIAN
METHOD:PUBLISH
X-WR-CALNAME:Help Me Grow North Texas
X-ORIGINAL-URL:https://helpmegrownorthtexas.org
X-WR-CALDESC:Events for Help Me Grow North Texas
REFRESH-INTERVAL;VALUE=DURATION:PT1H
X-Robots-Tag:noindex
X-PUBLISHED-TTL:PT1H
BEGIN:VTIMEZONE
TZID:America/Chicago
BEGIN:DAYLIGHT
TZOFFSETFROM:-0600
TZOFFSETTO:-0500
TZNAME:CDT
DTSTART:20230312T080000
END:DAYLIGHT
BEGIN:STANDARD
TZOFFSETFROM:-0500
TZOFFSETTO:-0600
TZNAME:CST
DTSTART:20231105T070000
END:STANDARD
BEGIN:DAYLIGHT
TZOFFSETFROM:-0600
TZOFFSETTO:-0500
TZNAME:CDT
DTSTART:20240310T080000
END:DAYLIGHT
BEGIN:STANDARD
TZOFFSETFROM:-0500
TZOFFSETTO:-0600
TZNAME:CST
DTSTART:20241103T070000
END:STANDARD
BEGIN:DAYLIGHT
TZOFFSETFROM:-0600
TZOFFSETTO:-0500
TZNAME:CDT
DTSTART:20250309T080000
END:DAYLIGHT
BEGIN:STANDARD
TZOFFSETFROM:-0500
TZOFFSETTO:-0600
TZNAME:CST
DTSTART:20251102T070000
END:STANDARD
END:VTIMEZONE
BEGIN:VEVENT
DTSTART;TZID=America/Chicago:20241017T093000
DTEND;TZID=America/Chicago:20241017T103000
DTSTAMP:20260422T105049
CREATED:20240930T235631Z
LAST-MODIFIED:20240930T235631Z
UID:106813-1729157400-1729161000@helpmegrownorthtexas.org
SUMMARY:Face to Face Spooky Sensory Make and Take - Keller
DESCRIPTION:Come Join us!
URL:https://helpmegrownorthtexas.org/event/face-to-face-spooky-sensory-make-and-take-keller-3/
LOCATION:North Clinic – Keller\, 6032 Innovation Way\, Keller\, TX\, 76244\, United States
ATTACH;FMTTYPE=image/jpeg:https://helpmegrownorthtexas.org/wp-content/uploads/2024/09/6ea4be1064d75f17a37220da37a52587.jpg
END:VEVENT
BEGIN:VEVENT
DTSTART;TZID=America/Chicago:20241017T110000
DTEND;TZID=America/Chicago:20241017T120000
DTSTAMP:20260422T105049
CREATED:20240930T235916Z
LAST-MODIFIED:20240930T235916Z
UID:106819-1729162800-1729166400@helpmegrownorthtexas.org
SUMMARY:Face to Face GLOW (Grow\, Live\, Obtain\, Wellness) Group- Keller
DESCRIPTION:Come join us!
URL:https://helpmegrownorthtexas.org/event/face-to-face-glow-grow-live-obtain-wellness-group-keller-3/
LOCATION:North Clinic – Keller\, 6032 Innovation Way\, Keller\, TX\, 76244\, United States
ATTACH;FMTTYPE=image/jpeg:https://helpmegrownorthtexas.org/wp-content/uploads/2024/09/c6fa50f7f18900633dd6625eebe11296.jpg
END:VEVENT
BEGIN:VEVENT
DTSTART;TZID=America/Chicago:20241017T170000
DTEND;TZID=America/Chicago:20241017T180000
DTSTAMP:20260422T105049
CREATED:20241001T000011Z
LAST-MODIFIED:20241001T000011Z
UID:106825-1729184400-1729188000@helpmegrownorthtexas.org
SUMMARY:Virtual Mothers and Babies Group
DESCRIPTION:Join Us!
URL:https://helpmegrownorthtexas.org/event/virtual-mothers-and-babies-group-8/
ATTACH;FMTTYPE=image/jpeg:https://helpmegrownorthtexas.org/wp-content/uploads/2024/09/81dc4cfae3afdf7e9cd4d2f3eeed89f3.jpg
END:VEVENT
BEGIN:VEVENT
DTSTART;TZID=America/Chicago:20241017T173000
DTEND;TZID=America/Chicago:20241017T193000
DTSTAMP:20260422T105049
CREATED:20241001T001046Z
LAST-MODIFIED:20241001T001046Z
UID:106858-1729186200-1729193400@helpmegrownorthtexas.org
SUMMARY:Face to Face Parent Cafe- Hulen
DESCRIPTION:Come and join us!
URL:https://helpmegrownorthtexas.org/event/face-to-face-parent-cafe-hulen-4/
LOCATION:3800 Hulen St\, 3800 Hulen Street\, Fort Worth\, TX\, 76107\, United States
ATTACH;FMTTYPE=image/jpeg:https://helpmegrownorthtexas.org/wp-content/uploads/2024/09/7c97ccaac5a26775b331b2c8539d2eed.jpg
END:VEVENT
BEGIN:VEVENT
DTSTART;TZID=America/Chicago:20241017T173000
DTEND;TZID=America/Chicago:20241017T193000
DTSTAMP:20260422T105049
CREATED:20241001T001135Z
LAST-MODIFIED:20241001T001135Z
UID:106862-1729186200-1729193400@helpmegrownorthtexas.org
SUMMARY:Face to Face #WoWTalk Cafe- Hulen
DESCRIPTION:Come join us!!
URL:https://helpmegrownorthtexas.org/event/face-to-face-wowtalk-cafe-hulen-2/
LOCATION:6080 South Hulen Street\, 6080 South Hulen Street\, Fort Worth\, TX\, 76107\, United States
ATTACH;FMTTYPE=image/jpeg:https://helpmegrownorthtexas.org/wp-content/uploads/2024/09/415fe5fe2f8b1e5b218c1870b77ed049.jpg
END:VEVENT
END:VCALENDAR