BEGIN:VCALENDAR
VERSION:2.0
PRODID:-//Help Me Grow North Texas - ECPv6.15.20//NONSGML v1.0//EN
CALSCALE:GREGORIAN
METHOD:PUBLISH
X-WR-CALNAME:Help Me Grow North Texas
X-ORIGINAL-URL:https://helpmegrownorthtexas.org
X-WR-CALDESC:Events for Help Me Grow North Texas
REFRESH-INTERVAL;VALUE=DURATION:PT1H
X-Robots-Tag:noindex
X-PUBLISHED-TTL:PT1H
BEGIN:VTIMEZONE
TZID:America/Chicago
BEGIN:DAYLIGHT
TZOFFSETFROM:-0600
TZOFFSETTO:-0500
TZNAME:CDT
DTSTART:20230312T080000
END:DAYLIGHT
BEGIN:STANDARD
TZOFFSETFROM:-0500
TZOFFSETTO:-0600
TZNAME:CST
DTSTART:20231105T070000
END:STANDARD
BEGIN:DAYLIGHT
TZOFFSETFROM:-0600
TZOFFSETTO:-0500
TZNAME:CDT
DTSTART:20240310T080000
END:DAYLIGHT
BEGIN:STANDARD
TZOFFSETFROM:-0500
TZOFFSETTO:-0600
TZNAME:CST
DTSTART:20241103T070000
END:STANDARD
BEGIN:DAYLIGHT
TZOFFSETFROM:-0600
TZOFFSETTO:-0500
TZNAME:CDT
DTSTART:20250309T080000
END:DAYLIGHT
BEGIN:STANDARD
TZOFFSETFROM:-0500
TZOFFSETTO:-0600
TZNAME:CST
DTSTART:20251102T070000
END:STANDARD
END:VTIMEZONE
BEGIN:VEVENT
DTSTART;TZID=America/Chicago:20241008T093000
DTEND;TZID=America/Chicago:20241008T103000
DTSTAMP:20260422T103758
CREATED:20240930T235032Z
LAST-MODIFIED:20240930T235032Z
UID:106792-1728379800-1728383400@helpmegrownorthtexas.org
SUMMARY:Face to Face: Nurture Nature Exploration- Keller
DESCRIPTION:Come join us!
URL:https://helpmegrownorthtexas.org/event/face-to-face-nurture-nature-exploration-keller-2/
LOCATION:North Clinic – Keller\, 6032 Innovation Way\, Keller\, TX\, 76244\, United States
ATTACH;FMTTYPE=image/jpeg:https://helpmegrownorthtexas.org/wp-content/uploads/2024/09/e5e499a97f1b3668fd57a05aeff6f8ef.jpg
END:VEVENT
BEGIN:VEVENT
DTSTART;TZID=America/Chicago:20241008T110000
DTEND;TZID=America/Chicago:20241008T120000
DTSTAMP:20260422T103758
CREATED:20240930T235134Z
LAST-MODIFIED:20240930T235134Z
UID:106800-1728385200-1728388800@helpmegrownorthtexas.org
SUMMARY:Face to Face Healthy Eating and Reading (Spanish)- Keller
DESCRIPTION:Come join us!
URL:https://helpmegrownorthtexas.org/event/face-to-face-healthy-eating-and-reading-spanish-keller-2/
LOCATION:North Clinic – Keller\, 6032 Innovation Way\, Keller\, TX\, 76244\, United States
ATTACH;FMTTYPE=image/jpeg:https://helpmegrownorthtexas.org/wp-content/uploads/2024/09/9732a65871e297ffe3908604ba7f2cab.jpg
END:VEVENT
BEGIN:VEVENT
DTSTART;TZID=America/Chicago:20241008T110000
DTEND;TZID=America/Chicago:20241008T123000
DTSTAMP:20260422T103758
CREATED:20240930T234827Z
LAST-MODIFIED:20240930T234827Z
UID:106780-1728385200-1728390600@helpmegrownorthtexas.org
SUMMARY:Face to Face Mothers and Babies Group - MHMR West Center
DESCRIPTION:Join Us!
URL:https://helpmegrownorthtexas.org/event/face-to-face-mothers-and-babies-group-mhmr-west-center-2/
LOCATION:6777 Camp Bowie Blvd\, 6777 Camp Bowie Boulevard\, Fort Worth\, TX\, 76116\, United States
ATTACH;FMTTYPE=image/jpeg:https://helpmegrownorthtexas.org/wp-content/uploads/2024/09/3a49006f933f9c24d9fbf486b32e2a16.jpg
END:VEVENT
BEGIN:VEVENT
DTSTART;TZID=America/Chicago:20241008T130000
DTEND;TZID=America/Chicago:20241008T140000
DTSTAMP:20260422T103758
CREATED:20240930T234357Z
LAST-MODIFIED:20240930T234357Z
UID:106767-1728392400-1728396000@helpmegrownorthtexas.org
SUMMARY:Virtual Nurturing Families
DESCRIPTION:JOIN US!
URL:https://helpmegrownorthtexas.org/event/virtual-nurturing-families-6/
ATTACH;FMTTYPE=image/jpeg:https://helpmegrownorthtexas.org/wp-content/uploads/2024/09/6a7ddb87bc16ef102dba68d5642793c1.jpg
END:VEVENT
BEGIN:VEVENT
DTSTART;TZID=America/Chicago:20241008T173000
DTEND;TZID=America/Chicago:20241008T183000
DTSTAMP:20260422T103758
CREATED:20241001T000732Z
LAST-MODIFIED:20241001T000732Z
UID:106842-1728408600-1728412200@helpmegrownorthtexas.org
SUMMARY:Face to Face Nurturing Families Program-Arlington
DESCRIPTION:Come join us!
URL:https://helpmegrownorthtexas.org/event/face-to-face-nurturing-families-program-arlington/
LOCATION:Mental Health America of Greater Tarrant County\, 3136 West 4th Street\, Fort Worth\, TX\, 76107\, United States
ATTACH;FMTTYPE=image/jpeg:https://helpmegrownorthtexas.org/wp-content/uploads/2024/09/837cc12dc70c886a47dd5ae739d3161e.jpg
END:VEVENT
END:VCALENDAR