BEGIN:VCALENDAR
VERSION:2.0
PRODID:-//Help Me Grow North Texas - ECPv6.15.20//NONSGML v1.0//EN
CALSCALE:GREGORIAN
METHOD:PUBLISH
X-WR-CALNAME:Help Me Grow North Texas
X-ORIGINAL-URL:https://helpmegrownorthtexas.org
X-WR-CALDESC:Events for Help Me Grow North Texas
REFRESH-INTERVAL;VALUE=DURATION:PT1H
X-Robots-Tag:noindex
X-PUBLISHED-TTL:PT1H
BEGIN:VTIMEZONE
TZID:America/Chicago
BEGIN:DAYLIGHT
TZOFFSETFROM:-0600
TZOFFSETTO:-0500
TZNAME:CDT
DTSTART:20230312T080000
END:DAYLIGHT
BEGIN:STANDARD
TZOFFSETFROM:-0500
TZOFFSETTO:-0600
TZNAME:CST
DTSTART:20231105T070000
END:STANDARD
BEGIN:DAYLIGHT
TZOFFSETFROM:-0600
TZOFFSETTO:-0500
TZNAME:CDT
DTSTART:20240310T080000
END:DAYLIGHT
BEGIN:STANDARD
TZOFFSETFROM:-0500
TZOFFSETTO:-0600
TZNAME:CST
DTSTART:20241103T070000
END:STANDARD
BEGIN:DAYLIGHT
TZOFFSETFROM:-0600
TZOFFSETTO:-0500
TZNAME:CDT
DTSTART:20250309T080000
END:DAYLIGHT
BEGIN:STANDARD
TZOFFSETFROM:-0500
TZOFFSETTO:-0600
TZNAME:CST
DTSTART:20251102T070000
END:STANDARD
END:VTIMEZONE
BEGIN:VEVENT
DTSTART;TZID=America/Chicago:20241001T093000
DTEND;TZID=America/Chicago:20241001T103000
DTSTAMP:20260422T103759
CREATED:20240930T235030Z
LAST-MODIFIED:20240930T235030Z
UID:106790-1727775000-1727778600@helpmegrownorthtexas.org
SUMMARY:Face to Face: Nurture Nature Exploration- Keller
DESCRIPTION:Come join us!
URL:https://helpmegrownorthtexas.org/event/face-to-face-nurture-nature-exploration-keller/
LOCATION:North Clinic – Keller\, 6032 Innovation Way\, Keller\, TX\, 76244\, United States
ATTACH;FMTTYPE=image/jpeg:https://helpmegrownorthtexas.org/wp-content/uploads/2024/09/e5e499a97f1b3668fd57a05aeff6f8ef.jpg
END:VEVENT
BEGIN:VEVENT
DTSTART;TZID=America/Chicago:20241001T110000
DTEND;TZID=America/Chicago:20241001T120000
DTSTAMP:20260422T103759
CREATED:20240930T235131Z
LAST-MODIFIED:20240930T235131Z
UID:106798-1727780400-1727784000@helpmegrownorthtexas.org
SUMMARY:Face to Face Healthy Eating and Reading (Spanish)- Keller
DESCRIPTION:Come join us!
URL:https://helpmegrownorthtexas.org/event/face-to-face-healthy-eating-and-reading-spanish-keller/
LOCATION:North Clinic – Keller\, 6032 Innovation Way\, Keller\, TX\, 76244\, United States
ATTACH;FMTTYPE=image/jpeg:https://helpmegrownorthtexas.org/wp-content/uploads/2024/09/9732a65871e297ffe3908604ba7f2cab.jpg
END:VEVENT
BEGIN:VEVENT
DTSTART;TZID=America/Chicago:20241001T110000
DTEND;TZID=America/Chicago:20241001T123000
DTSTAMP:20260422T103759
CREATED:20240930T234824Z
LAST-MODIFIED:20240930T234824Z
UID:106778-1727780400-1727785800@helpmegrownorthtexas.org
SUMMARY:Face to Face Mothers and Babies Group - MHMR West Center
DESCRIPTION:Join Us!
URL:https://helpmegrownorthtexas.org/event/face-to-face-mothers-and-babies-group-mhmr-west-center/
LOCATION:6777 Camp Bowie Blvd\, 6777 Camp Bowie Boulevard\, Fort Worth\, TX\, 76116\, United States
ATTACH;FMTTYPE=image/jpeg:https://helpmegrownorthtexas.org/wp-content/uploads/2024/09/3a49006f933f9c24d9fbf486b32e2a16.jpg
END:VEVENT
BEGIN:VEVENT
DTSTART;TZID=America/Chicago:20241001T130000
DTEND;TZID=America/Chicago:20241001T140000
DTSTAMP:20260422T103759
CREATED:20240930T234354Z
LAST-MODIFIED:20240930T234354Z
UID:106765-1727787600-1727791200@helpmegrownorthtexas.org
SUMMARY:Virtual Nurturing Families
DESCRIPTION:JOIN US!
URL:https://helpmegrownorthtexas.org/event/virtual-nurturing-families-5/
ATTACH;FMTTYPE=image/jpeg:https://helpmegrownorthtexas.org/wp-content/uploads/2024/09/6a7ddb87bc16ef102dba68d5642793c1.jpg
END:VEVENT
END:VCALENDAR