BEGIN:VCALENDAR
VERSION:2.0
PRODID:-//Help Me Grow North Texas - ECPv6.15.20//NONSGML v1.0//EN
CALSCALE:GREGORIAN
METHOD:PUBLISH
X-ORIGINAL-URL:https://helpmegrownorthtexas.org
X-WR-CALDESC:Events for Help Me Grow North Texas
REFRESH-INTERVAL;VALUE=DURATION:PT1H
X-Robots-Tag:noindex
X-PUBLISHED-TTL:PT1H
BEGIN:VTIMEZONE
TZID:America/Chicago
BEGIN:DAYLIGHT
TZOFFSETFROM:-0600
TZOFFSETTO:-0500
TZNAME:CDT
DTSTART:20230312T080000
END:DAYLIGHT
BEGIN:STANDARD
TZOFFSETFROM:-0500
TZOFFSETTO:-0600
TZNAME:CST
DTSTART:20231105T070000
END:STANDARD
BEGIN:DAYLIGHT
TZOFFSETFROM:-0600
TZOFFSETTO:-0500
TZNAME:CDT
DTSTART:20240310T080000
END:DAYLIGHT
BEGIN:STANDARD
TZOFFSETFROM:-0500
TZOFFSETTO:-0600
TZNAME:CST
DTSTART:20241103T070000
END:STANDARD
BEGIN:DAYLIGHT
TZOFFSETFROM:-0600
TZOFFSETTO:-0500
TZNAME:CDT
DTSTART:20250309T080000
END:DAYLIGHT
BEGIN:STANDARD
TZOFFSETFROM:-0500
TZOFFSETTO:-0600
TZNAME:CST
DTSTART:20251102T070000
END:STANDARD
END:VTIMEZONE
BEGIN:VEVENT
DTSTART;TZID=America/Chicago:20240926T100000
DTEND;TZID=America/Chicago:20240926T113000
DTSTAMP:20260422T121943
CREATED:20240912T235003Z
LAST-MODIFIED:20240912T235003Z
UID:106744-1727344800-1727350200@helpmegrownorthtexas.org
SUMMARY:Mothers and Babies Group - Arlington Center
DESCRIPTION:Mothers and Babies is a “stress less” FREE group for pregnant and newly parenting mothers. Pregnancy is one of the most stressful times in life and this group will help pregnant mothers learn helpful tips to lessen stress and increase pleasant activities\, positive thoughts\, and interactions with others. This course is also proven to prevent and/or lessen postpartum depression. You are not alone!
URL:https://helpmegrownorthtexas.org/event/mothers-and-babies-group-arlington-center/
ATTACH;FMTTYPE=image/png:https://helpmegrownorthtexas.org/wp-content/uploads/2024/09/Mothers-and-Babies-Arlington-Center-9.26.24.png
END:VEVENT
BEGIN:VEVENT
DTSTART;TZID=America/Chicago:20240926T173000
DTEND;TZID=America/Chicago:20240926T190000
DTSTAMP:20260422T121943
CREATED:20240912T235417Z
LAST-MODIFIED:20240912T235417Z
UID:106747-1727371800-1727377200@helpmegrownorthtexas.org
SUMMARY:#WowTalk Cafe - Hulen
DESCRIPTION:#WoWTalk Cafés are free! It gives teens a chance to get together with their peers and talk about ways to be strong-minded\, make social connections\, and a chance to obtain support and resources. This is for ages 11-17.
URL:https://helpmegrownorthtexas.org/event/wowtalk-cafe-hulen/
ATTACH;FMTTYPE=image/png:https://helpmegrownorthtexas.org/wp-content/uploads/2024/09/WoWTalk-Cafe-Hulen-9.26.24.png
END:VEVENT
BEGIN:VEVENT
DTSTART;TZID=America/Chicago:20240926T173000
DTEND;TZID=America/Chicago:20240926T193000
DTSTAMP:20260422T121943
CREATED:20240819T153454Z
LAST-MODIFIED:20240819T153454Z
UID:106701-1727371800-1727379000@helpmegrownorthtexas.org
SUMMARY:Face to Face Parent Cafe- Hulen
DESCRIPTION:Come and join us!
URL:https://helpmegrownorthtexas.org/event/face-to-face-parent-cafe-hulen-3/
LOCATION:3800 Hulen St\, 3800 Hulen Street\, Fort Worth\, TX\, 76107\, United States
ATTACH;FMTTYPE=image/jpeg:https://helpmegrownorthtexas.org/wp-content/uploads/2024/08/8c8bc9732e298e9e90dd41fb4de20e56.jpg
END:VEVENT
END:VCALENDAR