BEGIN:VCALENDAR
VERSION:2.0
PRODID:-//Help Me Grow North Texas - ECPv6.15.20//NONSGML v1.0//EN
CALSCALE:GREGORIAN
METHOD:PUBLISH
X-ORIGINAL-URL:https://helpmegrownorthtexas.org
X-WR-CALDESC:Events for Help Me Grow North Texas
REFRESH-INTERVAL;VALUE=DURATION:PT1H
X-Robots-Tag:noindex
X-PUBLISHED-TTL:PT1H
BEGIN:VTIMEZONE
TZID:America/Chicago
BEGIN:DAYLIGHT
TZOFFSETFROM:-0600
TZOFFSETTO:-0500
TZNAME:CDT
DTSTART:20230312T080000
END:DAYLIGHT
BEGIN:STANDARD
TZOFFSETFROM:-0500
TZOFFSETTO:-0600
TZNAME:CST
DTSTART:20231105T070000
END:STANDARD
BEGIN:DAYLIGHT
TZOFFSETFROM:-0600
TZOFFSETTO:-0500
TZNAME:CDT
DTSTART:20240310T080000
END:DAYLIGHT
BEGIN:STANDARD
TZOFFSETFROM:-0500
TZOFFSETTO:-0600
TZNAME:CST
DTSTART:20241103T070000
END:STANDARD
BEGIN:DAYLIGHT
TZOFFSETFROM:-0600
TZOFFSETTO:-0500
TZNAME:CDT
DTSTART:20250309T080000
END:DAYLIGHT
BEGIN:STANDARD
TZOFFSETFROM:-0500
TZOFFSETTO:-0600
TZNAME:CST
DTSTART:20251102T070000
END:STANDARD
END:VTIMEZONE
BEGIN:VEVENT
DTSTART;TZID=America/Chicago:20240924T110000
DTEND;TZID=America/Chicago:20240924T123000
DTSTAMP:20260423T075709
CREATED:20240912T234543Z
LAST-MODIFIED:20240912T234543Z
UID:106741-1727175600-1727181000@helpmegrownorthtexas.org
SUMMARY:Mothers and Babies Group - West Center\, FTW
DESCRIPTION:Mothers and Babies is a “stress less” FREE group for pregnant and newly parenting mothers. Pregnancy is one of the most stressful times in life and this group will help pregnant mothers learn helpful tips to lessen stress and increase pleasant activities\, positive thoughts\, and interactions with others. This course is also proven to prevent and/or lessen postpartum depression. You are not alone!
URL:https://helpmegrownorthtexas.org/event/mothers-and-babies-group-west-center-ftw/
ATTACH;FMTTYPE=image/png:https://helpmegrownorthtexas.org/wp-content/uploads/2024/09/Mothers-and-Babies-West-Center-FTW-9.24.24.png
END:VEVENT
END:VCALENDAR