BEGIN:VCALENDAR
VERSION:2.0
PRODID:-//Help Me Grow North Texas - ECPv6.15.20//NONSGML v1.0//EN
CALSCALE:GREGORIAN
METHOD:PUBLISH
X-ORIGINAL-URL:https://helpmegrownorthtexas.org
X-WR-CALDESC:Events for Help Me Grow North Texas
REFRESH-INTERVAL;VALUE=DURATION:PT1H
X-Robots-Tag:noindex
X-PUBLISHED-TTL:PT1H
BEGIN:VTIMEZONE
TZID:America/Chicago
BEGIN:DAYLIGHT
TZOFFSETFROM:-0600
TZOFFSETTO:-0500
TZNAME:CDT
DTSTART:20230312T080000
END:DAYLIGHT
BEGIN:STANDARD
TZOFFSETFROM:-0500
TZOFFSETTO:-0600
TZNAME:CST
DTSTART:20231105T070000
END:STANDARD
BEGIN:DAYLIGHT
TZOFFSETFROM:-0600
TZOFFSETTO:-0500
TZNAME:CDT
DTSTART:20240310T080000
END:DAYLIGHT
BEGIN:STANDARD
TZOFFSETFROM:-0500
TZOFFSETTO:-0600
TZNAME:CST
DTSTART:20241103T070000
END:STANDARD
BEGIN:DAYLIGHT
TZOFFSETFROM:-0600
TZOFFSETTO:-0500
TZNAME:CDT
DTSTART:20250309T080000
END:DAYLIGHT
BEGIN:STANDARD
TZOFFSETFROM:-0500
TZOFFSETTO:-0600
TZNAME:CST
DTSTART:20251102T070000
END:STANDARD
END:VTIMEZONE
BEGIN:VEVENT
DTSTART;TZID=America/Chicago:20240820T093000
DTEND;TZID=America/Chicago:20240820T103000
DTSTAMP:20260422T135714
CREATED:20240724T210545Z
LAST-MODIFIED:20240724T210545Z
UID:106654-1724146200-1724149800@helpmegrownorthtexas.org
SUMMARY:Face to Face Healthy Eating and Reading Group - Keller
DESCRIPTION:Come and play with us!
URL:https://helpmegrownorthtexas.org/event/face-to-face-healthy-eating-and-reading-group-keller-2/
LOCATION:6032 Innovation Way\, 6032 Innovation Way\, Fort Worth\, TX\, 76244\, United States
ATTACH;FMTTYPE=image/jpeg:https://helpmegrownorthtexas.org/wp-content/uploads/2024/07/181b9720de1dbaf7354de29e7b465f94.jpg
END:VEVENT
BEGIN:VEVENT
DTSTART;TZID=America/Chicago:20240820T110000
DTEND;TZID=America/Chicago:20240820T120000
DTSTAMP:20260422T135714
CREATED:20240724T211348Z
LAST-MODIFIED:20240724T211348Z
UID:106679-1724151600-1724155200@helpmegrownorthtexas.org
SUMMARY:Face to Face Happy Baby Happy Family at Keller
DESCRIPTION:Come Join us!
URL:https://helpmegrownorthtexas.org/event/face-to-face-happy-baby-happy-family-at-keller-13/
LOCATION:North Clinic – Keller\, 6032 Innovation Way\, Keller\, TX\, 76244\, United States
ATTACH;FMTTYPE=image/jpeg:https://helpmegrownorthtexas.org/wp-content/uploads/2024/06/db3b38c130a339dc5b9cd5679b675a2e.jpg
END:VEVENT
BEGIN:VEVENT
DTSTART;TZID=America/Chicago:20240820T133000
DTEND;TZID=America/Chicago:20240820T153000
DTSTAMP:20260422T135714
CREATED:20240625T141726Z
LAST-MODIFIED:20240625T141726Z
UID:106614-1724160600-1724167800@helpmegrownorthtexas.org
SUMMARY:Face to Face Mothers and Babies - Grace House Pregnancy Center Spanish
DESCRIPTION:Join Us!
URL:https://helpmegrownorthtexas.org/event/face-to-face-mothers-and-babies-grace-house-pregnancy-center-spanish-7/
LOCATION:919 Eureka St\, 919 Eureka Street\, Weatherford\, TX\, 76086\, United States
ATTACH;FMTTYPE=image/jpeg:https://helpmegrownorthtexas.org/wp-content/uploads/2024/06/d2285e1b74100654dde015e9aa731031.jpg
END:VEVENT
END:VCALENDAR