BEGIN:VCALENDAR
VERSION:2.0
PRODID:-//Help Me Grow North Texas - ECPv6.15.20//NONSGML v1.0//EN
CALSCALE:GREGORIAN
METHOD:PUBLISH
X-WR-CALNAME:Help Me Grow North Texas
X-ORIGINAL-URL:https://helpmegrownorthtexas.org
X-WR-CALDESC:Events for Help Me Grow North Texas
REFRESH-INTERVAL;VALUE=DURATION:PT1H
X-Robots-Tag:noindex
X-PUBLISHED-TTL:PT1H
BEGIN:VTIMEZONE
TZID:America/Chicago
BEGIN:DAYLIGHT
TZOFFSETFROM:-0600
TZOFFSETTO:-0500
TZNAME:CDT
DTSTART:20230312T080000
END:DAYLIGHT
BEGIN:STANDARD
TZOFFSETFROM:-0500
TZOFFSETTO:-0600
TZNAME:CST
DTSTART:20231105T070000
END:STANDARD
BEGIN:DAYLIGHT
TZOFFSETFROM:-0600
TZOFFSETTO:-0500
TZNAME:CDT
DTSTART:20240310T080000
END:DAYLIGHT
BEGIN:STANDARD
TZOFFSETFROM:-0500
TZOFFSETTO:-0600
TZNAME:CST
DTSTART:20241103T070000
END:STANDARD
BEGIN:DAYLIGHT
TZOFFSETFROM:-0600
TZOFFSETTO:-0500
TZNAME:CDT
DTSTART:20250309T080000
END:DAYLIGHT
BEGIN:STANDARD
TZOFFSETFROM:-0500
TZOFFSETTO:-0600
TZNAME:CST
DTSTART:20251102T070000
END:STANDARD
END:VTIMEZONE
BEGIN:VEVENT
DTSTART;TZID=America/Chicago:20240725T173000
DTEND;TZID=America/Chicago:20240725T190000
DTSTAMP:20260422T153642
CREATED:20240618T193602Z
LAST-MODIFIED:20240618T193602Z
UID:106533-1721928600-1721934000@helpmegrownorthtexas.org
SUMMARY:Face to Face Parent Cafe- Hulen
DESCRIPTION:Come and join us!
URL:https://helpmegrownorthtexas.org/event/face-to-face-parent-cafe-hulen/
LOCATION:3800 Hulen St\, 3800 Hulen Street\, Fort Worth\, TX\, 76107\, United States
ATTACH;FMTTYPE=image/jpeg:https://helpmegrownorthtexas.org/wp-content/uploads/2024/06/bcd577d481c8424ed33769b5a3d878a1.jpg
END:VEVENT
BEGIN:VEVENT
DTSTART;TZID=America/Chicago:20240725T173000
DTEND;TZID=America/Chicago:20240725T193000
DTSTAMP:20260422T153642
CREATED:20240617T140004Z
LAST-MODIFIED:20240617T140004Z
UID:106514-1721928600-1721935800@helpmegrownorthtexas.org
SUMMARY:Face to Face #WoWTalk Café - Hulen
DESCRIPTION:Come join us!!
URL:https://helpmegrownorthtexas.org/event/face-to-face-wowtalk-cafe-hulen/
LOCATION:3800 Hulen St\, 3800 Hulen Street\, Fort Worth\, TX\, 76107\, United States
ATTACH;FMTTYPE=image/jpeg:https://helpmegrownorthtexas.org/wp-content/uploads/2024/06/c4c7cba05869763720e4314a691c282b.jpg
END:VEVENT
END:VCALENDAR