BEGIN:VCALENDAR
VERSION:2.0
PRODID:-//Help Me Grow North Texas - ECPv6.15.20//NONSGML v1.0//EN
CALSCALE:GREGORIAN
METHOD:PUBLISH
X-WR-CALNAME:Help Me Grow North Texas
X-ORIGINAL-URL:https://helpmegrownorthtexas.org
X-WR-CALDESC:Events for Help Me Grow North Texas
REFRESH-INTERVAL;VALUE=DURATION:PT1H
X-Robots-Tag:noindex
X-PUBLISHED-TTL:PT1H
BEGIN:VTIMEZONE
TZID:America/Chicago
BEGIN:DAYLIGHT
TZOFFSETFROM:-0600
TZOFFSETTO:-0500
TZNAME:CDT
DTSTART:20230312T080000
END:DAYLIGHT
BEGIN:STANDARD
TZOFFSETFROM:-0500
TZOFFSETTO:-0600
TZNAME:CST
DTSTART:20231105T070000
END:STANDARD
BEGIN:DAYLIGHT
TZOFFSETFROM:-0600
TZOFFSETTO:-0500
TZNAME:CDT
DTSTART:20240310T080000
END:DAYLIGHT
BEGIN:STANDARD
TZOFFSETFROM:-0500
TZOFFSETTO:-0600
TZNAME:CST
DTSTART:20241103T070000
END:STANDARD
BEGIN:DAYLIGHT
TZOFFSETFROM:-0600
TZOFFSETTO:-0500
TZNAME:CDT
DTSTART:20250309T080000
END:DAYLIGHT
BEGIN:STANDARD
TZOFFSETFROM:-0500
TZOFFSETTO:-0600
TZNAME:CST
DTSTART:20251102T070000
END:STANDARD
END:VTIMEZONE
BEGIN:VEVENT
DTSTART;TZID=America/Chicago:20240717T113000
DTEND;TZID=America/Chicago:20240717T123000
DTSTAMP:20260422T153621
CREATED:20240513T213948Z
LAST-MODIFIED:20240513T213948Z
UID:106374-1721215800-1721219400@helpmegrownorthtexas.org
SUMMARY:Parent Training Sessions - Texas Autism Supplement
DESCRIPTION:This virtual workshop will introduce the eleven strategies that must be considered for educational programming for students with Autism in Texas public schools.  Participants will be provided with tools and tables for individualized development of these eleven strategies.
URL:https://helpmegrownorthtexas.org/event/parent-training-sessions-texas-autism-supplement/
ATTACH;FMTTYPE=application/pdf:https://helpmegrownorthtexas.org/wp-content/uploads/2024/05/Parent-Training-Sessions-.-MHMR-collaboration-2.pdf
END:VEVENT
BEGIN:VEVENT
DTSTART;TZID=America/Chicago:20240717T173000
DTEND;TZID=America/Chicago:20240717T190000
DTSTAMP:20260422T153621
CREATED:20240513T205844Z
LAST-MODIFIED:20240520T232453Z
UID:106363-1721237400-1721242800@helpmegrownorthtexas.org
SUMMARY:Face to Face Nurturing Families Program- Fort Worth
DESCRIPTION:Join Us!
URL:https://helpmegrownorthtexas.org/event/face-to-face-nurturing-families-program-fort-worth-16/
LOCATION:MHMR of Tarrant County:  3136 W. 4th St.\, Fort Worth TX  76107\, 3136 West 4th Street\, Fort Worth\, TX\, 76107\, United States
ATTACH;FMTTYPE=image/jpeg:https://helpmegrownorthtexas.org/wp-content/uploads/2024/05/ca193cb748d20fbfa31779546c0b75a2.jpg
END:VEVENT
END:VCALENDAR