BEGIN:VCALENDAR
VERSION:2.0
PRODID:-//Help Me Grow North Texas - ECPv6.15.20//NONSGML v1.0//EN
CALSCALE:GREGORIAN
METHOD:PUBLISH
X-WR-CALNAME:Help Me Grow North Texas
X-ORIGINAL-URL:https://helpmegrownorthtexas.org
X-WR-CALDESC:Events for Help Me Grow North Texas
REFRESH-INTERVAL;VALUE=DURATION:PT1H
X-Robots-Tag:noindex
X-PUBLISHED-TTL:PT1H
BEGIN:VTIMEZONE
TZID:America/Chicago
BEGIN:DAYLIGHT
TZOFFSETFROM:-0600
TZOFFSETTO:-0500
TZNAME:CDT
DTSTART:20230312T080000
END:DAYLIGHT
BEGIN:STANDARD
TZOFFSETFROM:-0500
TZOFFSETTO:-0600
TZNAME:CST
DTSTART:20231105T070000
END:STANDARD
BEGIN:DAYLIGHT
TZOFFSETFROM:-0600
TZOFFSETTO:-0500
TZNAME:CDT
DTSTART:20240310T080000
END:DAYLIGHT
BEGIN:STANDARD
TZOFFSETFROM:-0500
TZOFFSETTO:-0600
TZNAME:CST
DTSTART:20241103T070000
END:STANDARD
BEGIN:DAYLIGHT
TZOFFSETFROM:-0600
TZOFFSETTO:-0500
TZNAME:CDT
DTSTART:20250309T080000
END:DAYLIGHT
BEGIN:STANDARD
TZOFFSETFROM:-0500
TZOFFSETTO:-0600
TZNAME:CST
DTSTART:20251102T070000
END:STANDARD
END:VTIMEZONE
BEGIN:VEVENT
DTSTART;TZID=America/Chicago:20240712T093000
DTEND;TZID=America/Chicago:20240712T103000
DTSTAMP:20260422T154348
CREATED:20240607T185250Z
LAST-MODIFIED:20240617T135614Z
UID:106454-1720776600-1720780200@helpmegrownorthtexas.org
SUMMARY:Face to Face Circle Time group at Keller
DESCRIPTION:Come Join us!
URL:https://helpmegrownorthtexas.org/event/face-to-face-circle-time-group-at-keller-3/
LOCATION:North Clinic – Keller\, 6032 Innovation Way\, Keller\, TX\, 76244\, United States
ATTACH;FMTTYPE=image/jpeg:https://helpmegrownorthtexas.org/wp-content/uploads/2024/06/cd6f75c9a9de5a0502b072f02a28c112.jpg
END:VEVENT
BEGIN:VEVENT
DTSTART;TZID=America/Chicago:20240712T093000
DTEND;TZID=America/Chicago:20240712T130000
DTSTAMP:20260422T154348
CREATED:20240703T230842Z
LAST-MODIFIED:20240703T230842Z
UID:106634-1720776600-1720789200@helpmegrownorthtexas.org
SUMMARY:Sensory Pop N' Play- Keller
DESCRIPTION:Come Join us!
URL:https://helpmegrownorthtexas.org/event/sensory-pop-n-play-keller-3/
LOCATION:North Clinic – Keller\, 6032 Innovation Way\, Keller\, TX\, 76244\, United States
ATTACH;FMTTYPE=image/jpeg:https://helpmegrownorthtexas.org/wp-content/uploads/2024/07/951b7c5c2b0280815d24c60776c68d4e.jpg
END:VEVENT
BEGIN:VEVENT
DTSTART;TZID=America/Chicago:20240712T110000
DTEND;TZID=America/Chicago:20240712T120000
DTSTAMP:20260422T154348
CREATED:20240607T185510Z
LAST-MODIFIED:20240617T135652Z
UID:106461-1720782000-1720785600@helpmegrownorthtexas.org
SUMMARY:Face to Face Sensory Make and Take group at Keller
DESCRIPTION:Come Join us!
URL:https://helpmegrownorthtexas.org/event/face-to-face-sensory-make-and-take-group-at-keller-3/
LOCATION:North Clinic – Keller\, 6032 Innovation Way\, Keller\, TX\, 76244\, United States
ATTACH;FMTTYPE=image/jpeg:https://helpmegrownorthtexas.org/wp-content/uploads/2024/06/3cc28150098405a0f3c11d710f962b33.jpg
END:VEVENT
END:VCALENDAR