BEGIN:VCALENDAR
VERSION:2.0
PRODID:-//Help Me Grow North Texas - ECPv6.15.20//NONSGML v1.0//EN
CALSCALE:GREGORIAN
METHOD:PUBLISH
X-ORIGINAL-URL:https://helpmegrownorthtexas.org
X-WR-CALDESC:Events for Help Me Grow North Texas
REFRESH-INTERVAL;VALUE=DURATION:PT1H
X-Robots-Tag:noindex
X-PUBLISHED-TTL:PT1H
BEGIN:VTIMEZONE
TZID:America/Chicago
BEGIN:DAYLIGHT
TZOFFSETFROM:-0600
TZOFFSETTO:-0500
TZNAME:CDT
DTSTART:20230312T080000
END:DAYLIGHT
BEGIN:STANDARD
TZOFFSETFROM:-0500
TZOFFSETTO:-0600
TZNAME:CST
DTSTART:20231105T070000
END:STANDARD
BEGIN:DAYLIGHT
TZOFFSETFROM:-0600
TZOFFSETTO:-0500
TZNAME:CDT
DTSTART:20240310T080000
END:DAYLIGHT
BEGIN:STANDARD
TZOFFSETFROM:-0500
TZOFFSETTO:-0600
TZNAME:CST
DTSTART:20241103T070000
END:STANDARD
BEGIN:DAYLIGHT
TZOFFSETFROM:-0600
TZOFFSETTO:-0500
TZNAME:CDT
DTSTART:20250309T080000
END:DAYLIGHT
BEGIN:STANDARD
TZOFFSETFROM:-0500
TZOFFSETTO:-0600
TZNAME:CST
DTSTART:20251102T070000
END:STANDARD
END:VTIMEZONE
BEGIN:VEVENT
DTSTART;TZID=America/Chicago:20240710T090000
DTEND;TZID=America/Chicago:20240710T110000
DTSTAMP:20260422T153748
CREATED:20240617T135023Z
LAST-MODIFIED:20240617T135023Z
UID:106492-1720602000-1720609200@helpmegrownorthtexas.org
SUMMARY:Virtual Mothers and Babies Group
DESCRIPTION:Join Us!
URL:https://helpmegrownorthtexas.org/event/virtual-mothers-and-babies-group-5/
ATTACH;FMTTYPE=image/jpeg:https://helpmegrownorthtexas.org/wp-content/uploads/2024/05/35eb9de53b9ffef53256359d9281a882.jpg
END:VEVENT
BEGIN:VEVENT
DTSTART;TZID=America/Chicago:20240710T100000
DTEND;TZID=America/Chicago:20240710T110000
DTSTAMP:20260422T153748
CREATED:20240607T183717Z
LAST-MODIFIED:20240607T183717Z
UID:106447-1720605600-1720609200@helpmegrownorthtexas.org
SUMMARY:Virtual Happy Baby Happy Family
DESCRIPTION:Come Join us!
URL:https://helpmegrownorthtexas.org/event/virtual-happy-baby-happy-family-5/
ATTACH;FMTTYPE=image/jpeg:https://helpmegrownorthtexas.org/wp-content/uploads/2023/05/6cb1bb3b9e763e6d178a4a090cb73eef.jpg
END:VEVENT
BEGIN:VEVENT
DTSTART;TZID=America/Chicago:20240710T100000
DTEND;TZID=America/Chicago:20240710T113000
DTSTAMP:20260422T153748
CREATED:20240628T234410Z
LAST-MODIFIED:20240628T234410Z
UID:106617-1720605600-1720611000@helpmegrownorthtexas.org
SUMMARY:Face to Face #WOWTalk Cafe - Bradley Center Community Center
DESCRIPTION:Come and join us!
URL:https://helpmegrownorthtexas.org/event/face-to-face-wowtalk-cafe-bradley-center-community-center/
LOCATION:Bradley Center Community Center\, 2601 Timberline Drive\, Fort Worth\, TX\, 76119\, United States
ATTACH;FMTTYPE=image/jpeg:https://helpmegrownorthtexas.org/wp-content/uploads/2024/06/d0cb22e4eb77084e594a87930bb88958.jpg
END:VEVENT
BEGIN:VEVENT
DTSTART;TZID=America/Chicago:20240710T173000
DTEND;TZID=America/Chicago:20240710T190000
DTSTAMP:20260422T153748
CREATED:20240513T205842Z
LAST-MODIFIED:20240520T232453Z
UID:106361-1720632600-1720638000@helpmegrownorthtexas.org
SUMMARY:Face to Face Nurturing Families Program- Fort Worth
DESCRIPTION:Join Us!
URL:https://helpmegrownorthtexas.org/event/face-to-face-nurturing-families-program-fort-worth-15/
LOCATION:MHMR of Tarrant County:  3136 W. 4th St.\, Fort Worth TX  76107\, 3136 West 4th Street\, Fort Worth\, TX\, 76107\, United States
ATTACH;FMTTYPE=image/jpeg:https://helpmegrownorthtexas.org/wp-content/uploads/2024/05/ca193cb748d20fbfa31779546c0b75a2.jpg
END:VEVENT
END:VCALENDAR