BEGIN:VCALENDAR
VERSION:2.0
PRODID:-//Help Me Grow North Texas - ECPv6.15.20//NONSGML v1.0//EN
CALSCALE:GREGORIAN
METHOD:PUBLISH
X-ORIGINAL-URL:https://helpmegrownorthtexas.org
X-WR-CALDESC:Events for Help Me Grow North Texas
REFRESH-INTERVAL;VALUE=DURATION:PT1H
X-Robots-Tag:noindex
X-PUBLISHED-TTL:PT1H
BEGIN:VTIMEZONE
TZID:America/Chicago
BEGIN:DAYLIGHT
TZOFFSETFROM:-0600
TZOFFSETTO:-0500
TZNAME:CDT
DTSTART:20230312T080000
END:DAYLIGHT
BEGIN:STANDARD
TZOFFSETFROM:-0500
TZOFFSETTO:-0600
TZNAME:CST
DTSTART:20231105T070000
END:STANDARD
BEGIN:DAYLIGHT
TZOFFSETFROM:-0600
TZOFFSETTO:-0500
TZNAME:CDT
DTSTART:20240310T080000
END:DAYLIGHT
BEGIN:STANDARD
TZOFFSETFROM:-0500
TZOFFSETTO:-0600
TZNAME:CST
DTSTART:20241103T070000
END:STANDARD
BEGIN:DAYLIGHT
TZOFFSETFROM:-0600
TZOFFSETTO:-0500
TZNAME:CDT
DTSTART:20250309T080000
END:DAYLIGHT
BEGIN:STANDARD
TZOFFSETFROM:-0500
TZOFFSETTO:-0600
TZNAME:CST
DTSTART:20251102T070000
END:STANDARD
END:VTIMEZONE
BEGIN:VEVENT
DTSTART;TZID=America/Chicago:20240612T090000
DTEND;TZID=America/Chicago:20240612T100000
DTSTAMP:20260422T171511
CREATED:20240522T130212Z
LAST-MODIFIED:20240522T130212Z
UID:106411-1718182800-1718186400@helpmegrownorthtexas.org
SUMMARY:Face to Face Transition Group- Crowley
DESCRIPTION:Come join us!
URL:https://helpmegrownorthtexas.org/event/face-to-face-transition-group-crowley-10/
LOCATION:Crowley House of Hope\, 216 North Magnolia Street\, Crowley\, TX\, 76036\, United States
ATTACH;FMTTYPE=image/jpeg:https://helpmegrownorthtexas.org/wp-content/uploads/2024/05/64045e43bebbd926f905c2981cddfeb1.jpg
END:VEVENT
BEGIN:VEVENT
DTSTART;TZID=America/Chicago:20240612T100000
DTEND;TZID=America/Chicago:20240612T110000
DTSTAMP:20260422T171511
CREATED:20240429T234855Z
LAST-MODIFIED:20240522T192412Z
UID:106303-1718186400-1718190000@helpmegrownorthtexas.org
SUMMARY:Virtual Nurturing Families Program
DESCRIPTION:Join Us!
URL:https://helpmegrownorthtexas.org/event/virtual-nurturing-families-program-17/
ATTACH;FMTTYPE=image/jpeg:https://helpmegrownorthtexas.org/wp-content/uploads/2024/03/104557a3983a5b41424cd685e9664224.jpg
END:VEVENT
BEGIN:VEVENT
DTSTART;TZID=America/Chicago:20240612T100000
DTEND;TZID=America/Chicago:20240612T110000
DTSTAMP:20260422T171511
CREATED:20240607T183717Z
LAST-MODIFIED:20240607T183717Z
UID:106443-1718186400-1718190000@helpmegrownorthtexas.org
SUMMARY:Virtual Happy Baby Happy Family
DESCRIPTION:Come Join us!
URL:https://helpmegrownorthtexas.org/event/virtual-happy-baby-happy-family/
ATTACH;FMTTYPE=image/jpeg:https://helpmegrownorthtexas.org/wp-content/uploads/2023/05/6cb1bb3b9e763e6d178a4a090cb73eef.jpg
END:VEVENT
BEGIN:VEVENT
DTSTART;TZID=America/Chicago:20240612T113000
DTEND;TZID=America/Chicago:20240612T123000
DTSTAMP:20260422T171511
CREATED:20240513T213420Z
LAST-MODIFIED:20240513T213420Z
UID:106370-1718191800-1718195400@helpmegrownorthtexas.org
SUMMARY:Parent Training Sessions - Positive Behavior Interventions
DESCRIPTION:This virtual workshop will help families understand the reason for behavioral assessments and positive interventions with a focus on behaviors that serve a specific purpose for a student.  We will discuss using positive consequences versus punishment to change behavior\, as well as what IDEA 2004 says concerning positive behavior interventions.
URL:https://helpmegrownorthtexas.org/event/parent-training-sessions-positive-behavior-interventions/
ATTACH;FMTTYPE=application/pdf:https://helpmegrownorthtexas.org/wp-content/uploads/2024/05/Parent-Training-Sessions-.-MHMR-collaboration-1.pdf
END:VEVENT
END:VCALENDAR