BEGIN:VCALENDAR
VERSION:2.0
PRODID:-//Help Me Grow North Texas - ECPv6.15.20//NONSGML v1.0//EN
CALSCALE:GREGORIAN
METHOD:PUBLISH
X-WR-CALNAME:Help Me Grow North Texas
X-ORIGINAL-URL:https://helpmegrownorthtexas.org
X-WR-CALDESC:Events for Help Me Grow North Texas
REFRESH-INTERVAL;VALUE=DURATION:PT1H
X-Robots-Tag:noindex
X-PUBLISHED-TTL:PT1H
BEGIN:VTIMEZONE
TZID:America/Chicago
BEGIN:DAYLIGHT
TZOFFSETFROM:-0600
TZOFFSETTO:-0500
TZNAME:CDT
DTSTART:20230312T080000
END:DAYLIGHT
BEGIN:STANDARD
TZOFFSETFROM:-0500
TZOFFSETTO:-0600
TZNAME:CST
DTSTART:20231105T070000
END:STANDARD
BEGIN:DAYLIGHT
TZOFFSETFROM:-0600
TZOFFSETTO:-0500
TZNAME:CDT
DTSTART:20240310T080000
END:DAYLIGHT
BEGIN:STANDARD
TZOFFSETFROM:-0500
TZOFFSETTO:-0600
TZNAME:CST
DTSTART:20241103T070000
END:STANDARD
BEGIN:DAYLIGHT
TZOFFSETFROM:-0600
TZOFFSETTO:-0500
TZNAME:CDT
DTSTART:20250309T080000
END:DAYLIGHT
BEGIN:STANDARD
TZOFFSETFROM:-0500
TZOFFSETTO:-0600
TZNAME:CST
DTSTART:20251102T070000
END:STANDARD
END:VTIMEZONE
BEGIN:VEVENT
DTSTART;TZID=America/Chicago:20240530T100000
DTEND;TZID=America/Chicago:20240530T110000
DTSTAMP:20260422T171455
CREATED:20240422T230623Z
LAST-MODIFIED:20240424T182128Z
UID:106196-1717063200-1717066800@helpmegrownorthtexas.org
SUMMARY:Face to Face Little Sprouts- Venus
DESCRIPTION:Come Join us!
URL:https://helpmegrownorthtexas.org/event/face-to-face-little-sprouts-venus/
LOCATION:Joe A Hall High School & Community Library\, 12 Bulldog Drive\, Venus\, TX\, 76084\, United States
ATTACH;FMTTYPE=image/jpeg:https://helpmegrownorthtexas.org/wp-content/uploads/2024/04/dac2bf3c14f40de55d274dbfc12fd2b5.jpg
END:VEVENT
BEGIN:VEVENT
DTSTART;TZID=America/Chicago:20240530T173000
DTEND;TZID=America/Chicago:20240530T193000
DTSTAMP:20260422T171455
CREATED:20240513T205243Z
LAST-MODIFIED:20240513T205243Z
UID:106345-1717090200-1717097400@helpmegrownorthtexas.org
SUMMARY:Face to Face Journey to Vitality Cafe- Grief and Loss
DESCRIPTION:Come and join us!
URL:https://helpmegrownorthtexas.org/event/face-to-face-journey-to-vitality-cafe-grief-and-loss/
LOCATION:Mental Health America of Greater Tarrant County\, 3136 West 4th Street\, Fort Worth\, TX\, 76107\, United States
ATTACH;FMTTYPE=image/jpeg:https://helpmegrownorthtexas.org/wp-content/uploads/2024/05/d67edb19f107750e04fd5c819f3bf379.jpg
END:VEVENT
END:VCALENDAR