BEGIN:VCALENDAR
VERSION:2.0
PRODID:-//Help Me Grow North Texas - ECPv6.15.20//NONSGML v1.0//EN
CALSCALE:GREGORIAN
METHOD:PUBLISH
X-WR-CALNAME:Help Me Grow North Texas
X-ORIGINAL-URL:https://helpmegrownorthtexas.org
X-WR-CALDESC:Events for Help Me Grow North Texas
REFRESH-INTERVAL;VALUE=DURATION:PT1H
X-Robots-Tag:noindex
X-PUBLISHED-TTL:PT1H
BEGIN:VTIMEZONE
TZID:America/Chicago
BEGIN:DAYLIGHT
TZOFFSETFROM:-0600
TZOFFSETTO:-0500
TZNAME:CDT
DTSTART:20230312T080000
END:DAYLIGHT
BEGIN:STANDARD
TZOFFSETFROM:-0500
TZOFFSETTO:-0600
TZNAME:CST
DTSTART:20231105T070000
END:STANDARD
BEGIN:DAYLIGHT
TZOFFSETFROM:-0600
TZOFFSETTO:-0500
TZNAME:CDT
DTSTART:20240310T080000
END:DAYLIGHT
BEGIN:STANDARD
TZOFFSETFROM:-0500
TZOFFSETTO:-0600
TZNAME:CST
DTSTART:20241103T070000
END:STANDARD
BEGIN:DAYLIGHT
TZOFFSETFROM:-0600
TZOFFSETTO:-0500
TZNAME:CDT
DTSTART:20250309T080000
END:DAYLIGHT
BEGIN:STANDARD
TZOFFSETFROM:-0500
TZOFFSETTO:-0600
TZNAME:CST
DTSTART:20251102T070000
END:STANDARD
END:VTIMEZONE
BEGIN:VEVENT
DTSTART;TZID=America/Chicago:20240529T090000
DTEND;TZID=America/Chicago:20240529T100000
DTSTAMP:20260422T171455
CREATED:20240522T130212Z
LAST-MODIFIED:20240522T130212Z
UID:106409-1716973200-1716976800@helpmegrownorthtexas.org
SUMMARY:Face to Face Transition Group- Crowley
DESCRIPTION:Come join us!
URL:https://helpmegrownorthtexas.org/event/face-to-face-transition-group-crowley-8/
LOCATION:Crowley House of Hope\, 216 North Magnolia Street\, Crowley\, TX\, 76036\, United States
ATTACH;FMTTYPE=image/jpeg:https://helpmegrownorthtexas.org/wp-content/uploads/2024/05/64045e43bebbd926f905c2981cddfeb1.jpg
END:VEVENT
BEGIN:VEVENT
DTSTART;TZID=America/Chicago:20240529T090000
DTEND;TZID=America/Chicago:20240529T110000
DTSTAMP:20260422T171455
CREATED:20240520T231539Z
LAST-MODIFIED:20240520T231539Z
UID:106382-1716973200-1716980400@helpmegrownorthtexas.org
SUMMARY:Virtual Mothers and Babies Group
DESCRIPTION:Join Us!
URL:https://helpmegrownorthtexas.org/event/virtual-mothers-and-babies-group/
ATTACH;FMTTYPE=image/jpeg:https://helpmegrownorthtexas.org/wp-content/uploads/2024/05/35eb9de53b9ffef53256359d9281a882.jpg
END:VEVENT
BEGIN:VEVENT
DTSTART;TZID=America/Chicago:20240529T120000
DTEND;TZID=America/Chicago:20240529T140000
DTSTAMP:20260422T171455
CREATED:20240520T231626Z
LAST-MODIFIED:20240520T231626Z
UID:106385-1716984000-1716991200@helpmegrownorthtexas.org
SUMMARY:Curso de Madres y Bebes
DESCRIPTION:¡Únete a nosotros!
URL:https://helpmegrownorthtexas.org/event/curso-de-madres-y-bebes/
ATTACH;FMTTYPE=image/jpeg:https://helpmegrownorthtexas.org/wp-content/uploads/2024/03/a7834e33a08a85fce6a9f86289d57528.jpg
END:VEVENT
END:VCALENDAR