BEGIN:VCALENDAR
VERSION:2.0
PRODID:-//Help Me Grow North Texas - ECPv6.15.20//NONSGML v1.0//EN
CALSCALE:GREGORIAN
METHOD:PUBLISH
X-WR-CALNAME:Help Me Grow North Texas
X-ORIGINAL-URL:https://helpmegrownorthtexas.org
X-WR-CALDESC:Events for Help Me Grow North Texas
REFRESH-INTERVAL;VALUE=DURATION:PT1H
X-Robots-Tag:noindex
X-PUBLISHED-TTL:PT1H
BEGIN:VTIMEZONE
TZID:America/Chicago
BEGIN:DAYLIGHT
TZOFFSETFROM:-0600
TZOFFSETTO:-0500
TZNAME:CDT
DTSTART:20230312T080000
END:DAYLIGHT
BEGIN:STANDARD
TZOFFSETFROM:-0500
TZOFFSETTO:-0600
TZNAME:CST
DTSTART:20231105T070000
END:STANDARD
BEGIN:DAYLIGHT
TZOFFSETFROM:-0600
TZOFFSETTO:-0500
TZNAME:CDT
DTSTART:20240310T080000
END:DAYLIGHT
BEGIN:STANDARD
TZOFFSETFROM:-0500
TZOFFSETTO:-0600
TZNAME:CST
DTSTART:20241103T070000
END:STANDARD
BEGIN:DAYLIGHT
TZOFFSETFROM:-0600
TZOFFSETTO:-0500
TZNAME:CDT
DTSTART:20250309T080000
END:DAYLIGHT
BEGIN:STANDARD
TZOFFSETFROM:-0500
TZOFFSETTO:-0600
TZNAME:CST
DTSTART:20251102T070000
END:STANDARD
END:VTIMEZONE
BEGIN:VEVENT
DTSTART;TZID=America/Chicago:20240515T113000
DTEND;TZID=America/Chicago:20240515T123000
DTSTAMP:20260422T184616
CREATED:20240513T212640Z
LAST-MODIFIED:20240513T212640Z
UID:106367-1715772600-1715776200@helpmegrownorthtexas.org
SUMMARY:Parent Training Sessions - Contents of the IEP
DESCRIPTION:This virtual workshop is designed to provide parents with practical working knowledge of the contents of an IEP as defined by IDEA.  Through the process of writing an IEP\, we will learn to set reasonable and measurable learning goals for a child with a disability\, and to state the individualized services that the school district will provide for that child.
URL:https://helpmegrownorthtexas.org/event/parent-training-sessions-contents-of-the-iep/
ATTACH;FMTTYPE=application/pdf:https://helpmegrownorthtexas.org/wp-content/uploads/2024/05/Parent-Training-Sessions-.-MHMR-collaboration.pdf
END:VEVENT
BEGIN:VEVENT
DTSTART;TZID=America/Chicago:20240515T173000
DTEND;TZID=America/Chicago:20240515T190000
DTSTAMP:20260422T184616
CREATED:20240422T230027Z
LAST-MODIFIED:20240424T181359Z
UID:106179-1715794200-1715799600@helpmegrownorthtexas.org
SUMMARY:Face to Face Nurturing Families Program- Fort Worth
DESCRIPTION:Join Us!
URL:https://helpmegrownorthtexas.org/event/face-to-face-nurturing-families-program-fort-worth-14/
LOCATION:MHMR of Tarrant County:  3136 W. 4th St.\, Fort Worth TX  76107\, 3136 West 4th Street\, Fort Worth\, TX\, 76107\, United States
ATTACH;FMTTYPE=image/jpeg:https://helpmegrownorthtexas.org/wp-content/uploads/2024/02/168a69acd684a24be38447b4a17e6b9f.jpg
END:VEVENT
END:VCALENDAR