BEGIN:VCALENDAR
VERSION:2.0
PRODID:-//Help Me Grow North Texas - ECPv6.15.20//NONSGML v1.0//EN
CALSCALE:GREGORIAN
METHOD:PUBLISH
X-WR-CALNAME:Help Me Grow North Texas
X-ORIGINAL-URL:https://helpmegrownorthtexas.org
X-WR-CALDESC:Events for Help Me Grow North Texas
REFRESH-INTERVAL;VALUE=DURATION:PT1H
X-Robots-Tag:noindex
X-PUBLISHED-TTL:PT1H
BEGIN:VTIMEZONE
TZID:America/Chicago
BEGIN:DAYLIGHT
TZOFFSETFROM:-0600
TZOFFSETTO:-0500
TZNAME:CDT
DTSTART:20230312T080000
END:DAYLIGHT
BEGIN:STANDARD
TZOFFSETFROM:-0500
TZOFFSETTO:-0600
TZNAME:CST
DTSTART:20231105T070000
END:STANDARD
BEGIN:DAYLIGHT
TZOFFSETFROM:-0600
TZOFFSETTO:-0500
TZNAME:CDT
DTSTART:20240310T080000
END:DAYLIGHT
BEGIN:STANDARD
TZOFFSETFROM:-0500
TZOFFSETTO:-0600
TZNAME:CST
DTSTART:20241103T070000
END:STANDARD
BEGIN:DAYLIGHT
TZOFFSETFROM:-0600
TZOFFSETTO:-0500
TZNAME:CDT
DTSTART:20250309T080000
END:DAYLIGHT
BEGIN:STANDARD
TZOFFSETFROM:-0500
TZOFFSETTO:-0600
TZNAME:CST
DTSTART:20251102T070000
END:STANDARD
END:VTIMEZONE
BEGIN:VEVENT
DTSTART;TZID=America/Chicago:20240411T090000
DTEND;TZID=America/Chicago:20240411T100000
DTSTAMP:20260422T202711
CREATED:20240319T125249Z
LAST-MODIFIED:20240319T125320Z
UID:105969-1712826000-1712829600@helpmegrownorthtexas.org
SUMMARY:Face to Face Play with Me - Serve Lewisville
DESCRIPTION:Come Join us!
URL:https://helpmegrownorthtexas.org/event/face-to-face-play-with-me-serve-lewisville-4/
LOCATION:Serve Lewisville\, 1001 Edmonds Lane\, Lewisville\, TX\, 75067\, United States
ATTACH;FMTTYPE=image/jpeg:https://helpmegrownorthtexas.org/wp-content/uploads/2024/01/84c3fc838b181f0a26f2458ace4f2846.jpg
END:VEVENT
BEGIN:VEVENT
DTSTART;TZID=America/Chicago:20240411T100000
DTEND;TZID=America/Chicago:20240411T113000
DTSTAMP:20260422T202711
CREATED:20240411T002949Z
LAST-MODIFIED:20240411T002949Z
UID:106109-1712829600-1712835000@helpmegrownorthtexas.org
SUMMARY:Virtual Nurturing Families Program- Spanish
DESCRIPTION:¡Únete a nosotros!
URL:https://helpmegrownorthtexas.org/event/virtual-nurturing-families-program-spanish-14/
ATTACH;FMTTYPE=image/jpeg:https://helpmegrownorthtexas.org/wp-content/uploads/2024/04/a7d3b7abd895fa810bfdf4202fbae3b8.jpg
END:VEVENT
BEGIN:VEVENT
DTSTART;TZID=America/Chicago:20240411T103000
DTEND;TZID=America/Chicago:20240411T113000
DTSTAMP:20260422T202711
CREATED:20240319T125428Z
LAST-MODIFIED:20240319T125428Z
UID:105982-1712831400-1712835000@helpmegrownorthtexas.org
SUMMARY:Face to Face Little Sprouts- Serve Lewisville
DESCRIPTION:Come Join us!
URL:https://helpmegrownorthtexas.org/event/face-to-face-little-sprouts-serve-lewisville-8/
LOCATION:Serve Lewisville\, 1001 Edmonds Lane\, Lewisville\, TX\, 75067\, United States
ATTACH;FMTTYPE=image/jpeg:https://helpmegrownorthtexas.org/wp-content/uploads/2024/01/84c3fc838b181f0a26f2458ace4f2846.jpg
END:VEVENT
BEGIN:VEVENT
DTSTART;TZID=America/Chicago:20240411T110000
DTEND;TZID=America/Chicago:20240411T120000
DTSTAMP:20260422T202711
CREATED:20240305T204201Z
LAST-MODIFIED:20240305T204201Z
UID:105930-1712833200-1712836800@helpmegrownorthtexas.org
SUMMARY:Face to Face Transition Group- Rice
DESCRIPTION:Come join us!
URL:https://helpmegrownorthtexas.org/event/face-to-face-transition-group-rice-2/
LOCATION:305 Dallas St\, 305 Dallas Street\, Rice\, TX\, 75155\, United States
ATTACH;FMTTYPE=image/jpeg:https://helpmegrownorthtexas.org/wp-content/uploads/2024/03/98c8579ec19039f691c4f0b2feb9fa3e.jpg
END:VEVENT
BEGIN:VEVENT
DTSTART;TZID=America/Chicago:20240411T160000
DTEND;TZID=America/Chicago:20240411T170000
DTSTAMP:20260422T202711
CREATED:20240319T130006Z
LAST-MODIFIED:20240319T130006Z
UID:106002-1712851200-1712854800@helpmegrownorthtexas.org
SUMMARY:Face to Face All the Feels Groups- Ennis
DESCRIPTION:Come join us!
URL:https://helpmegrownorthtexas.org/event/face-to-face-all-the-feels-groups-ennis-2/
LOCATION:2 E Ennis Ave\, 2 East Ennis Avenue\, Ennis\, TX\, 75119\, United States
ATTACH;FMTTYPE=image/jpeg:https://helpmegrownorthtexas.org/wp-content/uploads/2024/03/d7ff41bf60547baa2a3bd259bb2c5f2a.jpg
END:VEVENT
END:VCALENDAR