BEGIN:VCALENDAR
VERSION:2.0
PRODID:-//Help Me Grow North Texas - ECPv6.15.20//NONSGML v1.0//EN
CALSCALE:GREGORIAN
METHOD:PUBLISH
X-ORIGINAL-URL:https://helpmegrownorthtexas.org
X-WR-CALDESC:Events for Help Me Grow North Texas
REFRESH-INTERVAL;VALUE=DURATION:PT1H
X-Robots-Tag:noindex
X-PUBLISHED-TTL:PT1H
BEGIN:VTIMEZONE
TZID:America/Chicago
BEGIN:DAYLIGHT
TZOFFSETFROM:-0600
TZOFFSETTO:-0500
TZNAME:CDT
DTSTART:20230312T080000
END:DAYLIGHT
BEGIN:STANDARD
TZOFFSETFROM:-0500
TZOFFSETTO:-0600
TZNAME:CST
DTSTART:20231105T070000
END:STANDARD
BEGIN:DAYLIGHT
TZOFFSETFROM:-0600
TZOFFSETTO:-0500
TZNAME:CDT
DTSTART:20240310T080000
END:DAYLIGHT
BEGIN:STANDARD
TZOFFSETFROM:-0500
TZOFFSETTO:-0600
TZNAME:CST
DTSTART:20241103T070000
END:STANDARD
BEGIN:DAYLIGHT
TZOFFSETFROM:-0600
TZOFFSETTO:-0500
TZNAME:CDT
DTSTART:20250309T080000
END:DAYLIGHT
BEGIN:STANDARD
TZOFFSETFROM:-0500
TZOFFSETTO:-0600
TZNAME:CST
DTSTART:20251102T070000
END:STANDARD
END:VTIMEZONE
BEGIN:VEVENT
DTSTART;TZID=America/Chicago:20240403T090000
DTEND;TZID=America/Chicago:20240403T100000
DTSTAMP:20260422T202728
CREATED:20240319T125708Z
LAST-MODIFIED:20240319T125708Z
UID:105987-1712134800-1712138400@helpmegrownorthtexas.org
SUMMARY:Face to Face Little Sprouts Group- Crowley
DESCRIPTION:Come join us!
URL:https://helpmegrownorthtexas.org/event/face-to-face-little-sprouts-group-crowley/
LOCATION:Crowley House of Hope\, 216 North Magnolia Street\, Crowley\, TX\, 76036\, United States
ATTACH;FMTTYPE=image/jpeg:https://helpmegrownorthtexas.org/wp-content/uploads/2024/03/6321d09d31498b93593828fce29abcc0.jpg
END:VEVENT
BEGIN:VEVENT
DTSTART;TZID=America/Chicago:20240403T090000
DTEND;TZID=America/Chicago:20240403T110000
DTSTAMP:20260422T202728
CREATED:20240320T145407Z
LAST-MODIFIED:20240320T145407Z
UID:106024-1712134800-1712142000@helpmegrownorthtexas.org
SUMMARY:Face to Face Parent Cafe- Denton
DESCRIPTION:Come join us!!
URL:https://helpmegrownorthtexas.org/event/face-to-face-parent-cafe-denton-3/
LOCATION:521 N Locust St\, 521 North Locust Street\, Denton\, TX\, 76201\, United States
ATTACH;FMTTYPE=image/jpeg:https://helpmegrownorthtexas.org/wp-content/uploads/2024/03/9afa52515788719954ecba5c3362a7b8.jpg
END:VEVENT
BEGIN:VEVENT
DTSTART;TZID=America/Chicago:20240403T100000
DTEND;TZID=America/Chicago:20240403T113000
DTSTAMP:20260422T202728
CREATED:20240319T125832Z
LAST-MODIFIED:20240319T125832Z
UID:105995-1712138400-1712143800@helpmegrownorthtexas.org
SUMMARY:Virtual Nurturing Families Program
DESCRIPTION:Join Us!
URL:https://helpmegrownorthtexas.org/event/virtual-nurturing-families-program-10/
ATTACH;FMTTYPE=image/jpeg:https://helpmegrownorthtexas.org/wp-content/uploads/2024/03/104557a3983a5b41424cd685e9664224.jpg
END:VEVENT
END:VCALENDAR