BEGIN:VCALENDAR
VERSION:2.0
PRODID:-//Help Me Grow North Texas - ECPv6.15.20//NONSGML v1.0//EN
CALSCALE:GREGORIAN
METHOD:PUBLISH
X-ORIGINAL-URL:https://helpmegrownorthtexas.org
X-WR-CALDESC:Events for Help Me Grow North Texas
REFRESH-INTERVAL;VALUE=DURATION:PT1H
X-Robots-Tag:noindex
X-PUBLISHED-TTL:PT1H
BEGIN:VTIMEZONE
TZID:America/Chicago
BEGIN:DAYLIGHT
TZOFFSETFROM:-0600
TZOFFSETTO:-0500
TZNAME:CDT
DTSTART:20230312T080000
END:DAYLIGHT
BEGIN:STANDARD
TZOFFSETFROM:-0500
TZOFFSETTO:-0600
TZNAME:CST
DTSTART:20231105T070000
END:STANDARD
BEGIN:DAYLIGHT
TZOFFSETFROM:-0600
TZOFFSETTO:-0500
TZNAME:CDT
DTSTART:20240310T080000
END:DAYLIGHT
BEGIN:STANDARD
TZOFFSETFROM:-0500
TZOFFSETTO:-0600
TZNAME:CST
DTSTART:20241103T070000
END:STANDARD
BEGIN:DAYLIGHT
TZOFFSETFROM:-0600
TZOFFSETTO:-0500
TZNAME:CDT
DTSTART:20250309T080000
END:DAYLIGHT
BEGIN:STANDARD
TZOFFSETFROM:-0500
TZOFFSETTO:-0600
TZNAME:CST
DTSTART:20251102T070000
END:STANDARD
END:VTIMEZONE
BEGIN:VEVENT
DTSTART;TZID=America/Chicago:20240307T090000
DTEND;TZID=America/Chicago:20240307T100000
DTSTAMP:20260422T220209
CREATED:20240125T223832Z
LAST-MODIFIED:20240125T223832Z
UID:105722-1709802000-1709805600@helpmegrownorthtexas.org
SUMMARY:Face to Face Music and Motion- Serve Lewisville
DESCRIPTION:Come Join us!
URL:https://helpmegrownorthtexas.org/event/face-to-face-music-and-motion-serve-lewisville-9/
LOCATION:Serve Lewisville\, 1001 Edmonds Lane\, Lewisville\, TX\, 75067\, United States
ATTACH;FMTTYPE=image/jpeg:https://helpmegrownorthtexas.org/wp-content/uploads/2024/01/84c3fc838b181f0a26f2458ace4f2846.jpg
END:VEVENT
BEGIN:VEVENT
DTSTART;TZID=America/Chicago:20240307T103000
DTEND;TZID=America/Chicago:20240307T113000
DTSTAMP:20260422T220209
CREATED:20240125T224002Z
LAST-MODIFIED:20240125T224002Z
UID:105729-1709807400-1709811000@helpmegrownorthtexas.org
SUMMARY:Face to Face Transition Group- Serve Lewisville
DESCRIPTION:Come Join us!
URL:https://helpmegrownorthtexas.org/event/face-to-face-transition-group-serve-lewisville-5/
LOCATION:Serve Lewisville\, 1001 Edmonds Lane\, Lewisville\, TX\, 75067\, United States
ATTACH;FMTTYPE=image/jpeg:https://helpmegrownorthtexas.org/wp-content/uploads/2024/01/f29971a383eb7394fb230f9c27c57a39.jpg
END:VEVENT
BEGIN:VEVENT
DTSTART;TZID=America/Chicago:20240307T103000
DTEND;TZID=America/Chicago:20240307T113000
DTSTAMP:20260422T220209
CREATED:20240212T192121Z
LAST-MODIFIED:20240212T192121Z
UID:105815-1709807400-1709811000@helpmegrownorthtexas.org
SUMMARY:Face to Face Little Sprouts- Mansfield
DESCRIPTION:Come Join us!
URL:https://helpmegrownorthtexas.org/event/face-to-face-little-sprouts-mansfield/
LOCATION:Mansfield Public Library\, 104 South Wisteria Street\, Mansfield\, TX\, 76063\, United States
ATTACH;FMTTYPE=image/jpeg:https://helpmegrownorthtexas.org/wp-content/uploads/2024/02/1e6b8d3666485a4d56d7802cad71babe.jpg
END:VEVENT
BEGIN:VEVENT
DTSTART;TZID=America/Chicago:20240307T173000
DTEND;TZID=America/Chicago:20240307T193000
DTSTAMP:20260422T220209
CREATED:20240212T192351Z
LAST-MODIFIED:20240213T014448Z
UID:105821-1709832600-1709839800@helpmegrownorthtexas.org
SUMMARY:Face to Face #WoWTalk Café- Fort Worth
DESCRIPTION:Come join us!!
URL:https://helpmegrownorthtexas.org/event/face-to-face-wowtalk-cafe-fort-worth-20/
LOCATION:MHMR of Tarrant County\, 3800 Hulen Street\, Fort Worth\, TX\, 76107\, United States
ATTACH;FMTTYPE=application/pdf:https://helpmegrownorthtexas.org/wp-content/uploads/2024/02/WoWTalk-Cafe-FTW.pdf
END:VEVENT
BEGIN:VEVENT
DTSTART;TZID=America/Chicago:20240307T173000
DTEND;TZID=America/Chicago:20240307T193000
DTSTAMP:20260422T220209
CREATED:20240212T192443Z
LAST-MODIFIED:20240213T014540Z
UID:105824-1709832600-1709839800@helpmegrownorthtexas.org
SUMMARY:Face to Face Parent Cafe- Fort Worth
DESCRIPTION:Come and join us!
URL:https://helpmegrownorthtexas.org/event/face-to-face-parent-cafe-fort-worth-4/
LOCATION:3800 Hulen St\, 3800 Hulen Street\, Fort Worth\, TX\, 76107\, United States
ATTACH;FMTTYPE=application/pdf:https://helpmegrownorthtexas.org/wp-content/uploads/2024/02/WoWTalk-Cafe-FTW-1.pdf
END:VEVENT
END:VCALENDAR