BEGIN:VCALENDAR
VERSION:2.0
PRODID:-//Help Me Grow North Texas - ECPv6.15.20//NONSGML v1.0//EN
CALSCALE:GREGORIAN
METHOD:PUBLISH
X-ORIGINAL-URL:https://helpmegrownorthtexas.org
X-WR-CALDESC:Events for Help Me Grow North Texas
REFRESH-INTERVAL;VALUE=DURATION:PT1H
X-Robots-Tag:noindex
X-PUBLISHED-TTL:PT1H
BEGIN:VTIMEZONE
TZID:America/Chicago
BEGIN:DAYLIGHT
TZOFFSETFROM:-0600
TZOFFSETTO:-0500
TZNAME:CDT
DTSTART:20230312T080000
END:DAYLIGHT
BEGIN:STANDARD
TZOFFSETFROM:-0500
TZOFFSETTO:-0600
TZNAME:CST
DTSTART:20231105T070000
END:STANDARD
BEGIN:DAYLIGHT
TZOFFSETFROM:-0600
TZOFFSETTO:-0500
TZNAME:CDT
DTSTART:20240310T080000
END:DAYLIGHT
BEGIN:STANDARD
TZOFFSETFROM:-0500
TZOFFSETTO:-0600
TZNAME:CST
DTSTART:20241103T070000
END:STANDARD
BEGIN:DAYLIGHT
TZOFFSETFROM:-0600
TZOFFSETTO:-0500
TZNAME:CDT
DTSTART:20250309T080000
END:DAYLIGHT
BEGIN:STANDARD
TZOFFSETFROM:-0500
TZOFFSETTO:-0600
TZNAME:CST
DTSTART:20251102T070000
END:STANDARD
END:VTIMEZONE
BEGIN:VEVENT
DTSTART;TZID=America/Chicago:20240229T090000
DTEND;TZID=America/Chicago:20240229T100000
DTSTAMP:20260422T220408
CREATED:20240125T223832Z
LAST-MODIFIED:20240125T223832Z
UID:105721-1709197200-1709200800@helpmegrownorthtexas.org
SUMMARY:Face to Face Music and Motion- Serve Lewisville
DESCRIPTION:Come Join us!
URL:https://helpmegrownorthtexas.org/event/face-to-face-music-and-motion-serve-lewisville-8/
LOCATION:Serve Lewisville\, 1001 Edmonds Lane\, Lewisville\, TX\, 75067\, United States
ATTACH;FMTTYPE=image/jpeg:https://helpmegrownorthtexas.org/wp-content/uploads/2024/01/84c3fc838b181f0a26f2458ace4f2846.jpg
END:VEVENT
BEGIN:VEVENT
DTSTART;TZID=America/Chicago:20240229T093000
DTEND;TZID=America/Chicago:20240229T113000
DTSTAMP:20260422T220408
CREATED:20240201T174519Z
LAST-MODIFIED:20240201T174519Z
UID:105763-1709199000-1709206200@helpmegrownorthtexas.org
SUMMARY:Face to Face Parent Cafe- Keller
DESCRIPTION:Come join us!!
URL:https://helpmegrownorthtexas.org/event/face-to-face-parent-cafe-keller/
LOCATION:North Clinic – Keller\, 6032 Innovation Way\, Keller\, TX\, 76244\, United States
ATTACH;FMTTYPE=image/jpeg:https://helpmegrownorthtexas.org/wp-content/uploads/2024/02/21c707a70ff16eded8503c25e5353e0b.jpg
END:VEVENT
BEGIN:VEVENT
DTSTART;TZID=America/Chicago:20240229T103000
DTEND;TZID=America/Chicago:20240229T113000
DTSTAMP:20260422T220408
CREATED:20240125T224002Z
LAST-MODIFIED:20240125T224002Z
UID:105728-1709202600-1709206200@helpmegrownorthtexas.org
SUMMARY:Face to Face Transition Group- Serve Lewisville
DESCRIPTION:Come Join us!
URL:https://helpmegrownorthtexas.org/event/face-to-face-transition-group-serve-lewisville-4/
LOCATION:Serve Lewisville\, 1001 Edmonds Lane\, Lewisville\, TX\, 75067\, United States
ATTACH;FMTTYPE=image/jpeg:https://helpmegrownorthtexas.org/wp-content/uploads/2024/01/f29971a383eb7394fb230f9c27c57a39.jpg
END:VEVENT
BEGIN:VEVENT
DTSTART;TZID=America/Chicago:20240229T123000
DTEND;TZID=America/Chicago:20240229T140000
DTSTAMP:20260422T220408
CREATED:20240124T152211Z
LAST-MODIFIED:20240213T215004Z
UID:105711-1709209800-1709215200@helpmegrownorthtexas.org
SUMMARY:Virtual Nurturing Families Program
DESCRIPTION:Join Us!
URL:https://helpmegrownorthtexas.org/event/virtual-nurturing-families-program-spanish-6/
ATTACH;FMTTYPE=image/jpeg:https://helpmegrownorthtexas.org/wp-content/uploads/2024/02/168a69acd684a24be38447b4a17e6b9f.jpg
END:VEVENT
BEGIN:VEVENT
DTSTART;TZID=America/Chicago:20240229T160000
DTEND;TZID=America/Chicago:20240229T170000
DTSTAMP:20260422T220408
CREATED:20231228T181947Z
LAST-MODIFIED:20240206T181238Z
UID:105586-1709222400-1709226000@helpmegrownorthtexas.org
SUMMARY:Face to Face GLOW (Grow\, Live\, Obtain\, Wellness) Group- Ennis
DESCRIPTION:Come join us!
URL:https://helpmegrownorthtexas.org/event/face-to-face-glow-grow-live-obtain-wellness-group-ennis-5/
LOCATION:2 E Ennis Ave\, 2 East Ennis Avenue\, Ennis\, TX\, 75119\, United States
ATTACH;FMTTYPE=application/pdf:https://helpmegrownorthtexas.org/wp-content/uploads/2023/12/Glow-Ennis-3.pdf
END:VEVENT
END:VCALENDAR