BEGIN:VCALENDAR
VERSION:2.0
PRODID:-//Help Me Grow North Texas - ECPv6.15.20//NONSGML v1.0//EN
CALSCALE:GREGORIAN
METHOD:PUBLISH
X-ORIGINAL-URL:https://helpmegrownorthtexas.org
X-WR-CALDESC:Events for Help Me Grow North Texas
REFRESH-INTERVAL;VALUE=DURATION:PT1H
X-Robots-Tag:noindex
X-PUBLISHED-TTL:PT1H
BEGIN:VTIMEZONE
TZID:America/Chicago
BEGIN:DAYLIGHT
TZOFFSETFROM:-0600
TZOFFSETTO:-0500
TZNAME:CDT
DTSTART:20230312T080000
END:DAYLIGHT
BEGIN:STANDARD
TZOFFSETFROM:-0500
TZOFFSETTO:-0600
TZNAME:CST
DTSTART:20231105T070000
END:STANDARD
BEGIN:DAYLIGHT
TZOFFSETFROM:-0600
TZOFFSETTO:-0500
TZNAME:CDT
DTSTART:20240310T080000
END:DAYLIGHT
BEGIN:STANDARD
TZOFFSETFROM:-0500
TZOFFSETTO:-0600
TZNAME:CST
DTSTART:20241103T070000
END:STANDARD
BEGIN:DAYLIGHT
TZOFFSETFROM:-0600
TZOFFSETTO:-0500
TZNAME:CDT
DTSTART:20250309T080000
END:DAYLIGHT
BEGIN:STANDARD
TZOFFSETFROM:-0500
TZOFFSETTO:-0600
TZNAME:CST
DTSTART:20251102T070000
END:STANDARD
END:VTIMEZONE
BEGIN:VEVENT
DTSTART;TZID=America/Chicago:20240227T093000
DTEND;TZID=America/Chicago:20240227T103000
DTSTAMP:20260422T220210
CREATED:20231228T182337Z
LAST-MODIFIED:20240108T223753Z
UID:105605-1709026200-1709029800@helpmegrownorthtexas.org
SUMMARY:Face to Face Play with Me Group at Pop N' Play Keller
DESCRIPTION:Come and play with us
URL:https://helpmegrownorthtexas.org/event/face-to-face-play-with-me-group-at-pop-n-play-keller-4/
LOCATION:6032 Innovation Way\, 6032 Innovation Way\, Fort Worth\, TX\, 76244\, United States
ATTACH;FMTTYPE=image/jpeg:https://helpmegrownorthtexas.org/wp-content/uploads/2023/12/c9e1c8e013847a4c602f65576463fa22.jpg
END:VEVENT
BEGIN:VEVENT
DTSTART;TZID=America/Chicago:20240227T100000
DTEND;TZID=America/Chicago:20240227T110000
DTSTAMP:20260422T220210
CREATED:20240206T195825Z
LAST-MODIFIED:20240206T195825Z
UID:105786-1709028000-1709031600@helpmegrownorthtexas.org
SUMMARY:Face to Face Music and Motion- Midlothian
DESCRIPTION:Come Join us!
URL:https://helpmegrownorthtexas.org/event/face-to-face-music-and-motion-midlothian-2/
LOCATION:Navarro College at Midlothian\, 899 Mount Zion Road\, Midlothian\, TX\, 76065\, United States
ATTACH;FMTTYPE=image/jpeg:https://helpmegrownorthtexas.org/wp-content/uploads/2024/02/a7be35eb5a97e8f5ff760857cb7db3b8.jpg
END:VEVENT
BEGIN:VEVENT
DTSTART;TZID=America/Chicago:20240227T110000
DTEND;TZID=America/Chicago:20240227T120000
DTSTAMP:20260422T220210
CREATED:20231228T182230Z
LAST-MODIFIED:20231228T182230Z
UID:105599-1709031600-1709035200@helpmegrownorthtexas.org
SUMMARY:Face to Face Healthy Eating and Reading Group at Pop N' Play Keller
DESCRIPTION:Come and play with us
URL:https://helpmegrownorthtexas.org/event/face-to-face-healthy-eating-and-reading-group-at-pop-n-play-keller-4/
LOCATION:6032 Innovation Way\, 6032 Innovation Way\, Fort Worth\, TX\, 76244\, United States
ATTACH;FMTTYPE=image/jpeg:https://helpmegrownorthtexas.org/wp-content/uploads/2023/12/ce47d29c379af56667542495f4123622.jpg
END:VEVENT
BEGIN:VEVENT
DTSTART;TZID=America/Chicago:20240227T110000
DTEND;TZID=America/Chicago:20240227T120000
DTSTAMP:20260422T220210
CREATED:20240105T215044Z
LAST-MODIFIED:20240105T215044Z
UID:105620-1709031600-1709035200@helpmegrownorthtexas.org
SUMMARY:Face to Face Play with Me Group- Mineral Wells
DESCRIPTION:Come Join Us!!
URL:https://helpmegrownorthtexas.org/event/face-to-face-play-with-me-group-mineral-wells-4/
LOCATION:Grace House Pregnancy Center\, 400 Southeast 1st Street\, Mineral Wells\, TX\, 76067\, United States
ATTACH;FMTTYPE=image/jpeg:https://helpmegrownorthtexas.org/wp-content/uploads/2024/01/0eb7657f47a158b338b1c5bdf91ec0dd.jpg
END:VEVENT
BEGIN:VEVENT
DTSTART;TZID=America/Chicago:20240227T173000
DTEND;TZID=America/Chicago:20240227T193000
DTSTAMP:20260422T220210
CREATED:20240126T005025Z
LAST-MODIFIED:20240201T233901Z
UID:105752-1709055000-1709062200@helpmegrownorthtexas.org
SUMMARY:Face to Face Parent Cafe- Ennis
DESCRIPTION:Come join us!!
URL:https://helpmegrownorthtexas.org/event/face-to-face-parent-cafe-ennis-5/
LOCATION:2 E Ennis Ave\, 2 East Ennis Avenue\, Ennis\, TX\, 75119\, United States
ATTACH;FMTTYPE=image/jpeg:https://helpmegrownorthtexas.org/wp-content/uploads/2024/01/c75550c0fab8355c60677e47398f21a4.jpg
END:VEVENT
END:VCALENDAR