BEGIN:VCALENDAR
VERSION:2.0
PRODID:-//Help Me Grow North Texas - ECPv6.15.20//NONSGML v1.0//EN
CALSCALE:GREGORIAN
METHOD:PUBLISH
X-WR-CALNAME:Help Me Grow North Texas
X-ORIGINAL-URL:https://helpmegrownorthtexas.org
X-WR-CALDESC:Events for Help Me Grow North Texas
REFRESH-INTERVAL;VALUE=DURATION:PT1H
X-Robots-Tag:noindex
X-PUBLISHED-TTL:PT1H
BEGIN:VTIMEZONE
TZID:America/Chicago
BEGIN:DAYLIGHT
TZOFFSETFROM:-0600
TZOFFSETTO:-0500
TZNAME:CDT
DTSTART:20230312T080000
END:DAYLIGHT
BEGIN:STANDARD
TZOFFSETFROM:-0500
TZOFFSETTO:-0600
TZNAME:CST
DTSTART:20231105T070000
END:STANDARD
BEGIN:DAYLIGHT
TZOFFSETFROM:-0600
TZOFFSETTO:-0500
TZNAME:CDT
DTSTART:20240310T080000
END:DAYLIGHT
BEGIN:STANDARD
TZOFFSETFROM:-0500
TZOFFSETTO:-0600
TZNAME:CST
DTSTART:20241103T070000
END:STANDARD
BEGIN:DAYLIGHT
TZOFFSETFROM:-0600
TZOFFSETTO:-0500
TZNAME:CDT
DTSTART:20250309T080000
END:DAYLIGHT
BEGIN:STANDARD
TZOFFSETFROM:-0500
TZOFFSETTO:-0600
TZNAME:CST
DTSTART:20251102T070000
END:STANDARD
END:VTIMEZONE
BEGIN:VEVENT
DTSTART;TZID=America/Chicago:20240223T100000
DTEND;TZID=America/Chicago:20240223T110000
DTSTAMP:20260422T232458
CREATED:20240117T160444Z
LAST-MODIFIED:20240117T160444Z
UID:105662-1708682400-1708686000@helpmegrownorthtexas.org
SUMMARY:Face to Face Transition Group- Venus
DESCRIPTION:Come Join us!
URL:https://helpmegrownorthtexas.org/event/face-to-face-transition-group-venus/
LOCATION:Joe A Hall High School & Community Library\, 12 Bulldog Drive\, Venus\, TX\, 76084\, United States
ATTACH;FMTTYPE=image/jpeg:https://helpmegrownorthtexas.org/wp-content/uploads/2024/01/193d93c8e74bb4cf97a817a81220fb63.jpg
END:VEVENT
BEGIN:VEVENT
DTSTART;TZID=America/Chicago:20240223T140000
DTEND;TZID=America/Chicago:20240223T150000
DTSTAMP:20260422T232458
CREATED:20231228T182039Z
LAST-MODIFIED:20231228T182039Z
UID:105593-1708696800-1708700400@helpmegrownorthtexas.org
SUMMARY:Face to Face Little Sprouts Group- Keller
DESCRIPTION:Come and play with us
URL:https://helpmegrownorthtexas.org/event/face-to-face-little-sprouts-group-keller-4/
LOCATION:6032 Innovation Way\, 6032 Innovation Way\, Fort Worth\, TX\, 76244\, United States
ATTACH;FMTTYPE=image/jpeg:https://helpmegrownorthtexas.org/wp-content/uploads/2023/12/c1b399a22773ee00c7da54ef921c0721.jpg
END:VEVENT
BEGIN:VEVENT
DTSTART;TZID=America/Chicago:20240223T170000
DTEND;TZID=America/Chicago:20240223T180000
DTSTAMP:20260422T232458
CREATED:20240206T223308Z
LAST-MODIFIED:20240206T223308Z
UID:105795-1708707600-1708711200@helpmegrownorthtexas.org
SUMMARY:Virtual GLOW- Bilingual
DESCRIPTION:Come join us! / ¡Únete a nosotros!
URL:https://helpmegrownorthtexas.org/event/virtual-glow-bilingual-6/
ATTACH;FMTTYPE=image/jpeg:https://helpmegrownorthtexas.org/wp-content/uploads/2024/02/cbd1e054d217de2e55435a790c79fcaf.jpg
END:VEVENT
END:VCALENDAR